BEGIN:VCALENDAR
VERSION:2.0
PRODID:-//Mamamediterraneum - ECPv6.15.18//NONSGML v1.0//EN
CALSCALE:GREGORIAN
METHOD:PUBLISH
X-WR-CALNAME:Mamamediterraneum
X-ORIGINAL-URL:https://mamamediterraneum.it
X-WR-CALDESC:Eventi per Mamamediterraneum
REFRESH-INTERVAL;VALUE=DURATION:PT1H
X-Robots-Tag:noindex
X-PUBLISHED-TTL:PT1H
BEGIN:VTIMEZONE
TZID:UTC
BEGIN:STANDARD
TZOFFSETFROM:+0000
TZOFFSETTO:+0000
TZNAME:UTC
DTSTART:20250101T000000
END:STANDARD
END:VTIMEZONE
BEGIN:VEVENT
DTSTART;TZID=UTC:20260420T190000
DTEND;TZID=UTC:20260420T220000
DTSTAMP:20260420T014729
CREATED:20260314T085153Z
LAST-MODIFIED:20260314T085153Z
UID:10003332-1776711600-1776722400@mamamediterraneum.it
SUMMARY:Cacio e pepe & co.: i primi romaneschi
DESCRIPTION:Chi crede che preparare una “cacioepepe” sia facile si sbaglia di grosso. Commette lo stesso errore chi è convinto che sia semplice la ricetta di una buona carbonara o della amatriciana\nSarà proprio questo il compito del docente di questa lezione\, Roberto Angelitti\, e cioè sfatare falsi miti e insegnare le tecniche di preparazione. Infatti\, sebbene possa sembrare strano\, per una perfetta cacio e pepe\, per la carbonara e l’amatriciana è questione di tecnica oltre che di eccelsa qualità delle materie prime. Ecco l’occasione per non sbagliare più.
URL:https://mamamediterraneum.it/lezioni/cacio-e-pepe-co-i-primi-romaneschi-88/
LOCATION:MaMà Mediterraneum\, via di Priscilla 15-17\, Roma\, 00199\, Italia
CATEGORIES:Pasta,Per coppie,Per principianti,Primi
ATTACH;FMTTYPE=image/jpeg:https://mamamediterraneum.it/wp-content/uploads/2023/12/primi-romaneschi.jpg
END:VEVENT
END:VCALENDAR