BEGIN:VCALENDAR
VERSION:2.0
PRODID:-//Mamamediterraneum - ECPv6.15.18//NONSGML v1.0//EN
CALSCALE:GREGORIAN
METHOD:PUBLISH
X-WR-CALNAME:Mamamediterraneum
X-ORIGINAL-URL:https://mamamediterraneum.it
X-WR-CALDESC:Eventi per Mamamediterraneum
REFRESH-INTERVAL;VALUE=DURATION:PT1H
X-Robots-Tag:noindex
X-PUBLISHED-TTL:PT1H
BEGIN:VTIMEZONE
TZID:UTC
BEGIN:STANDARD
TZOFFSETFROM:+0000
TZOFFSETTO:+0000
TZNAME:UTC
DTSTART:20250101T000000
END:STANDARD
END:VTIMEZONE
BEGIN:VEVENT
DTSTART;TZID=UTC:20260421T190000
DTEND;TZID=UTC:20260421T220000
DTSTAMP:20260421T065859
CREATED:20260314T085914Z
LAST-MODIFIED:20260314T085914Z
UID:10003347-1776798000-1776808800@mamamediterraneum.it
SUMMARY:Corso base di cucina - Lezione 3
DESCRIPTION:Lezione non prenotabile singolarmente\nVAI ALLA SCHEDA DEL CORSO
URL:https://mamamediterraneum.it/lezioni/corso-base-di-cucina-28-3-2-2-2-3-2-2-2-2-2-2-2-2-2-2-2-3-2-2-2-2/
LOCATION:MaMà Mediterraneum\, via di Priscilla 15-17\, Roma\, 00199\, Italia
CATEGORIES:Corso base,Cucina generale,per esperti,Per principianti
ATTACH;FMTTYPE=image/png:https://mamamediterraneum.it/wp-content/uploads/2024/03/corso-base-BW.png
END:VEVENT
END:VCALENDAR