BEGIN:VCALENDAR
VERSION:2.0
PRODID:-//Mamamediterraneum - ECPv6.15.18//NONSGML v1.0//EN
CALSCALE:GREGORIAN
METHOD:PUBLISH
X-WR-CALNAME:Mamamediterraneum
X-ORIGINAL-URL:https://mamamediterraneum.it
X-WR-CALDESC:Eventi per Mamamediterraneum
REFRESH-INTERVAL;VALUE=DURATION:PT1H
X-Robots-Tag:noindex
X-PUBLISHED-TTL:PT1H
BEGIN:VTIMEZONE
TZID:UTC
BEGIN:STANDARD
TZOFFSETFROM:+0000
TZOFFSETTO:+0000
TZNAME:UTC
DTSTART:20250101T000000
END:STANDARD
END:VTIMEZONE
BEGIN:VEVENT
DTSTART;TZID=UTC:20260423T190000
DTEND;TZID=UTC:20260423T220000
DTSTAMP:20260423T020800
CREATED:20260314T085139Z
LAST-MODIFIED:20260314T085139Z
UID:10003343-1776970800-1776981600@mamamediterraneum.it
SUMMARY:Piatti unici vegetali
DESCRIPTION:Che sia per scelta o necessità\, il piatto unico rappresenta la soluzione ideale per un pasto sano\, bilanciato e completo\nUnire carboidrati\, fibre e proteine vegetali permette di creare proposte non solo salutari e sazianti\, ma straordinariamente gustose. La nostra Chef Federica Agresti vi mostrerà come l’accostamento ragionato degli ingredienti possa trasformarsi in un atto creativo. Sotto la sua guida\, realizzerete tre ricette d’autore: un cavolfiore intero glassato al forno ceci croccanti crema di cannellini olio alle erbe\, delle ⁠verdure in insalata calda con lenticchie ed emulsione di mayo al miso\, per terminare con una zucca con erbette\, crema di ceci montata e pane carasau \n 
URL:https://mamamediterraneum.it/lezioni/piatti-unici-vegetali/
LOCATION:MaMà Mediterraneum\, via di Priscilla 15-17\, Roma\, 00199\, Italia
CATEGORIES:Cucina generale,Per coppie,per esperti,Per principianti,Vegetariana
ATTACH;FMTTYPE=image/jpeg:https://mamamediterraneum.it/wp-content/uploads/2026/03/piatti-unici-vegetali.jpg
END:VEVENT
END:VCALENDAR