BEGIN:VCALENDAR
VERSION:2.0
PRODID:-//Mamamediterraneum - ECPv6.15.18//NONSGML v1.0//EN
CALSCALE:GREGORIAN
METHOD:PUBLISH
X-WR-CALNAME:Mamamediterraneum
X-ORIGINAL-URL:https://mamamediterraneum.it
X-WR-CALDESC:Eventi per Mamamediterraneum
REFRESH-INTERVAL;VALUE=DURATION:PT1H
X-Robots-Tag:noindex
X-PUBLISHED-TTL:PT1H
BEGIN:VTIMEZONE
TZID:Europe/Rome
BEGIN:DAYLIGHT
TZOFFSETFROM:+0100
TZOFFSETTO:+0200
TZNAME:CEST
DTSTART:20250330T010000
END:DAYLIGHT
BEGIN:STANDARD
TZOFFSETFROM:+0200
TZOFFSETTO:+0100
TZNAME:CET
DTSTART:20251026T010000
END:STANDARD
BEGIN:DAYLIGHT
TZOFFSETFROM:+0100
TZOFFSETTO:+0200
TZNAME:CEST
DTSTART:20260329T010000
END:DAYLIGHT
BEGIN:STANDARD
TZOFFSETFROM:+0200
TZOFFSETTO:+0100
TZNAME:CET
DTSTART:20261025T010000
END:STANDARD
BEGIN:DAYLIGHT
TZOFFSETFROM:+0100
TZOFFSETTO:+0200
TZNAME:CEST
DTSTART:20270328T010000
END:DAYLIGHT
BEGIN:STANDARD
TZOFFSETFROM:+0200
TZOFFSETTO:+0100
TZNAME:CET
DTSTART:20271031T010000
END:STANDARD
END:VTIMEZONE
BEGIN:VEVENT
DTSTART;TZID=Europe/Rome:20260424T190000
DTEND;TZID=Europe/Rome:20260424T220000
DTSTAMP:20260424T021744
CREATED:20260314T085129Z
LAST-MODIFIED:20260314T085129Z
UID:10003337-1777057200-1777068000@mamamediterraneum.it
SUMMARY:Burger di mare gourmet
DESCRIPTION:I panini e i sandwich farciti con i frutti del mare\, magari accostati ad altri ingredienti inconsueti\, possono essere delle vere leccornie\nCrostacei\, molluschi e pesci di vario tipo si prestano ad essere utilizzati\, crudi o cotti\, in abbinamento con salse\, verdure e\, perché no\, salumi e altri prodotti della terra. Lo chef Aurelio Carraffa vi ospiterà nella nostra cucina per realizzare insieme tre gustosissimi panini: Gamberotto\, a base di gamberi cotti al vapore\, stracciatella… e molto altro;  Tonno subito\, a base di tartare di tonno\, pesto di capperi… e molto altro; Te pijasse un polpo\, a base di polpo\, crema di patate al basilico e… molto altro
URL:https://mamamediterraneum.it/lezioni/burger-di-mare-gourmet-3/
LOCATION:MaMà Mediterraneum\, via di Priscilla 15-17\, Roma\, 00199\, Italia
CATEGORIES:Crudi,Panini,Per coppie,per esperti,Per principianti,Pesce
ATTACH;FMTTYPE=image/jpeg:https://mamamediterraneum.it/wp-content/uploads/2019/12/burger-di-mare.jpg
END:VEVENT
END:VCALENDAR