BEGIN:VCALENDAR
VERSION:2.0
PRODID:-//Mamamediterraneum - ECPv6.15.18//NONSGML v1.0//EN
CALSCALE:GREGORIAN
METHOD:PUBLISH
X-ORIGINAL-URL:https://mamamediterraneum.it
X-WR-CALDESC:Eventi per Mamamediterraneum
REFRESH-INTERVAL;VALUE=DURATION:PT1H
X-Robots-Tag:noindex
X-PUBLISHED-TTL:PT1H
BEGIN:VTIMEZONE
TZID:Europe/Rome
BEGIN:DAYLIGHT
TZOFFSETFROM:+0100
TZOFFSETTO:+0200
TZNAME:CEST
DTSTART:20230326T010000
END:DAYLIGHT
BEGIN:STANDARD
TZOFFSETFROM:+0200
TZOFFSETTO:+0100
TZNAME:CET
DTSTART:20231029T010000
END:STANDARD
BEGIN:DAYLIGHT
TZOFFSETFROM:+0100
TZOFFSETTO:+0200
TZNAME:CEST
DTSTART:20240331T010000
END:DAYLIGHT
BEGIN:STANDARD
TZOFFSETFROM:+0200
TZOFFSETTO:+0100
TZNAME:CET
DTSTART:20241027T010000
END:STANDARD
BEGIN:DAYLIGHT
TZOFFSETFROM:+0100
TZOFFSETTO:+0200
TZNAME:CEST
DTSTART:20250330T010000
END:DAYLIGHT
BEGIN:STANDARD
TZOFFSETFROM:+0200
TZOFFSETTO:+0100
TZNAME:CET
DTSTART:20251026T010000
END:STANDARD
END:VTIMEZONE
BEGIN:VTIMEZONE
TZID:UTC
BEGIN:STANDARD
TZOFFSETFROM:+0000
TZOFFSETTO:+0000
TZNAME:UTC
DTSTART:20190101T000000
END:STANDARD
END:VTIMEZONE
BEGIN:VEVENT
DTSTART;TZID=Europe/Rome:20240930T190000
DTEND;TZID=Europe/Rome:20240930T220000
DTSTAMP:20260422T215725
CREATED:20240826T144843Z
LAST-MODIFIED:20240826T144843Z
UID:10002973-1727722800-1727733600@mamamediterraneum.it
SUMMARY:I love you... I love chocolate
DESCRIPTION:Questa nuova serie di lezioni unisce l’amore spassionato per un ingrediente a quello che si nutre per un compagno\, per un amico\, per un familiare\nLa nostra pastry Chef Maria Paola Rescio\, si farà in due per guidare le coppie partecipanti nella realizzazione di tre golosissime ricette a base di cioccolato.  La lezione prevede la preparazione di praline con ganache\, di una torta caprese accompagnata da gelato alla vaniglia e di tartufini al cioccolato e rum \nIl costo si intende per la coppia \nFantastica idea regalo 
URL:https://mamamediterraneum.it/lezioni/i-love-you-i-love-chocolate/
LOCATION:MaMà Mediterraneum\, via di Priscilla 15-17\, Roma\, 00199\, Italia
CATEGORIES:cioccolato,Dolci,Per coppie,per esperti,Per principianti
ATTACH;FMTTYPE=image/jpeg:https://mamamediterraneum.it/wp-content/uploads/2024/08/cioccolato.jpg
END:VEVENT
BEGIN:VEVENT
DTSTART;TZID=UTC:20240307T190000
DTEND;TZID=UTC:20240307T220000
DTSTAMP:20260422T215725
CREATED:20240214T162650Z
LAST-MODIFIED:20240214T162650Z
UID:10002875-1709838000-1709848800@mamamediterraneum.it
SUMMARY:Cacao: un ingrediente antico nelle ricette dolci e salate
DESCRIPTION:Il cacao è un ingrediente da sempre usato anche nelle ricette salate che dona un tocco aromatico e una cremosità ineguagliabile\nBasti pensare alla coda alla vaccinara\, iconico piatto romano cui il cacao dona cremosità e un sapore interessantissimo. Kaba Corapi\, metterà in campo tutta la sua esperienza di Chef per guidarvi nella realizzazione di strepitosi piatti come gli ziti al ragù finto rinforzato\, il filetto di maiale in “dolce e forte”\, finendo in dolcezza con un brownies di fagioli neri e cioccolato
URL:https://mamamediterraneum.it/lezioni/cacao-un-ingrediente-antico-nelle-ricette-salate/
LOCATION:MaMà Mediterraneum\, via di Priscilla 15-17\, Roma\, 00199\, Italia
CATEGORIES:Carne,cioccolato,Dolci,Pasta,Per coppie,per esperti,Per principianti
ATTACH;FMTTYPE=image/jpeg:https://mamamediterraneum.it/wp-content/uploads/2024/02/cacao.jpg
END:VEVENT
BEGIN:VEVENT
DTSTART;TZID=UTC:20200210T190000
DTEND;TZID=UTC:20200210T230000
DTSTAMP:20260422T215725
CREATED:20171215T150834Z
LAST-MODIFIED:20200115T083008Z
UID:10002015-1581361200-1581375600@mamamediterraneum.it
SUMMARY:Il cioccolato: degustazione e ricette
DESCRIPTION:Il pluripremiato pasticcere\, nonché degustatore certificato di cioccolato\, Gianluca Forino\, ci guiderà in una degustazione di cioccolato che verrà seguita da una interessantissima lezione.\nGianluca ci farà degustare tre qualità di cioccolato\, insegnandoci a riconoscerne gli aromi e la qualità. Un viaggio che partirà dalla fava di cacao per terminare con la realizzazione di tre dolci: una torta al cioccolato con le pere\, un brownie e un cremoso al cioccolato… tutto in stile Forino \nL’incontro avrà una durata complessiva di 4 ore.
URL:https://mamamediterraneum.it/lezioni/il-cioccolato-degustazione-e-ricette/
LOCATION:MaMà Mediterraneum\, via di Priscilla 15-17\, Roma\, 00199\, Italia
CATEGORIES:cioccolato,Degustazione,Dolci,Dolci al cucchiaio,torte
ATTACH;FMTTYPE=image/jpeg:https://mamamediterraneum.it/wp-content/uploads/2020/01/cioccolato-2.jpg
END:VEVENT
END:VCALENDAR