BEGIN:VCALENDAR
VERSION:2.0
PRODID:-//Mamamediterraneum - ECPv6.15.18//NONSGML v1.0//EN
CALSCALE:GREGORIAN
METHOD:PUBLISH
X-WR-CALNAME:Mamamediterraneum
X-ORIGINAL-URL:https://mamamediterraneum.it
X-WR-CALDESC:Eventi per Mamamediterraneum
REFRESH-INTERVAL;VALUE=DURATION:PT1H
X-Robots-Tag:noindex
X-PUBLISHED-TTL:PT1H
BEGIN:VTIMEZONE
TZID:UTC
BEGIN:STANDARD
TZOFFSETFROM:+0000
TZOFFSETTO:+0000
TZNAME:UTC
DTSTART:20230101T000000
END:STANDARD
END:VTIMEZONE
BEGIN:VEVENT
DTSTART;TZID=UTC:20240703T190000
DTEND;TZID=UTC:20240703T220000
DTSTAMP:20260425T004359
CREATED:20240613T141202Z
LAST-MODIFIED:20240613T141202Z
UID:10002949-1720033200-1720044000@mamamediterraneum.it
SUMMARY:Ricordo di una estate in Sicilia
DESCRIPTION:Le ricette della cucina siciliana sono tra le più apprezzate in assoluto\nCon le materie prime della stagione estiva si possono realizzare piatti straordinariamente ricchi di sapore\, di rara bontà se realizzati a regola d’arte. In questa lezione realizzeremo tre capisaldi della cucina palermitana\, piatti con il quali lo chef Aurelio Carraffa è stato “svezzato” e che fanno parte del suo libro di ricette familiari “i luoghi non ti abbandonano“. In particolare realizzeremo alcune tra le ricette più note della sua terra: la caponata di melanzane\, la pasta con le sarde e un dolce elegantissimo qual è il gelo di “mellone” ovvero una gelatina di anguria realizzata senza aggiunta di colla di pesce. \nDa non perdere…
URL:https://mamamediterraneum.it/lezioni/ricordo-estate-sicilia-3/
LOCATION:MaMà Mediterraneum\, via di Priscilla 15-17\, Roma\, 00199\, Italia
CATEGORIES:Antipasti,Contorni,Dolci al cucchiaio,Pasta,Per coppie,per esperti,Per principianti,Pesce,Primi
ATTACH;FMTTYPE=image/jpeg:https://mamamediterraneum.it/wp-content/uploads/2019/06/sicilia.jpg
END:VEVENT
END:VCALENDAR