BEGIN:VCALENDAR
VERSION:2.0
PRODID:-//Mamamediterraneum - ECPv6.15.18//NONSGML v1.0//EN
CALSCALE:GREGORIAN
METHOD:PUBLISH
X-ORIGINAL-URL:https://mamamediterraneum.it
X-WR-CALDESC:Eventi per Mamamediterraneum
REFRESH-INTERVAL;VALUE=DURATION:PT1H
X-Robots-Tag:noindex
X-PUBLISHED-TTL:PT1H
BEGIN:VTIMEZONE
TZID:UTC
BEGIN:STANDARD
TZOFFSETFROM:+0000
TZOFFSETTO:+0000
TZNAME:UTC
DTSTART:20230101T000000
END:STANDARD
END:VTIMEZONE
BEGIN:VEVENT
DTSTART;TZID=UTC:20240415T190000
DTEND;TZID=UTC:20240415T220000
DTSTAMP:20260423T004016
CREATED:20240314T110633Z
LAST-MODIFIED:20240314T110633Z
UID:10002894-1713207600-1713218400@mamamediterraneum.it
SUMMARY:Dolce colazione
DESCRIPTION:Cosa c’è di meglio di una ricca colazione degustata con calma? Se poi i dolci li abbiamo preparati noi… è ancora meglio\nLa nostra brava pasticcera\, Maria Paola Rescio\, vi guiderà nella preparazione di diversi ingredienti che renderanno unica la vostra prima colazione. Si inizierà con una deliziossa honey crunch di frutta secca\, ovvero una granola croccante\, perfetta da abbinare ad uno yogurt\, si proseguirà con dei frollini del benessere e dei frollini antichi sapori\, per concludere con una sorpresa soffice\, un goloso plum cake
URL:https://mamamediterraneum.it/lezioni/dolce-colazione/
LOCATION:MaMà Mediterraneum\, via di Priscilla 15-17\, Roma\, 00199\, Italia
CATEGORIES:Dolci,pasticceria salata,Per coppie,Per principianti
ATTACH;FMTTYPE=image/jpeg:https://mamamediterraneum.it/wp-content/uploads/2024/03/granola.jpeg
END:VEVENT
END:VCALENDAR