BEGIN:VCALENDAR
VERSION:2.0
PRODID:-//Mamamediterraneum - ECPv6.15.18//NONSGML v1.0//EN
CALSCALE:GREGORIAN
METHOD:PUBLISH
X-WR-CALNAME:Mamamediterraneum
X-ORIGINAL-URL:https://mamamediterraneum.it
X-WR-CALDESC:Eventi per Mamamediterraneum
REFRESH-INTERVAL;VALUE=DURATION:PT1H
X-Robots-Tag:noindex
X-PUBLISHED-TTL:PT1H
BEGIN:VTIMEZONE
TZID:Europe/Rome
BEGIN:DAYLIGHT
TZOFFSETFROM:+0100
TZOFFSETTO:+0200
TZNAME:CEST
DTSTART:20240331T010000
END:DAYLIGHT
BEGIN:STANDARD
TZOFFSETFROM:+0200
TZOFFSETTO:+0100
TZNAME:CET
DTSTART:20241027T010000
END:STANDARD
BEGIN:DAYLIGHT
TZOFFSETFROM:+0100
TZOFFSETTO:+0200
TZNAME:CEST
DTSTART:20250330T010000
END:DAYLIGHT
BEGIN:STANDARD
TZOFFSETFROM:+0200
TZOFFSETTO:+0100
TZNAME:CET
DTSTART:20251026T010000
END:STANDARD
BEGIN:DAYLIGHT
TZOFFSETFROM:+0100
TZOFFSETTO:+0200
TZNAME:CEST
DTSTART:20260329T010000
END:DAYLIGHT
BEGIN:STANDARD
TZOFFSETFROM:+0200
TZOFFSETTO:+0100
TZNAME:CET
DTSTART:20261025T010000
END:STANDARD
END:VTIMEZONE
BEGIN:VTIMEZONE
TZID:UTC
BEGIN:STANDARD
TZOFFSETFROM:+0000
TZOFFSETTO:+0000
TZNAME:UTC
DTSTART:20240101T000000
END:STANDARD
END:VTIMEZONE
BEGIN:VEVENT
DTSTART;TZID=Europe/Rome:20251009T190000
DTEND;TZID=Europe/Rome:20251009T223000
DTSTAMP:20260419T231620
CREATED:20250914T093512Z
LAST-MODIFIED:20250915T155031Z
UID:10003210-1760036400-1760049000@mamamediterraneum.it
SUMMARY:Pizza in teglia - l'impasto ad alta idratazione
DESCRIPTION:Amata da tutti\, riconosciuta come patrimonio dell’umanità dall’UNESCO e come cibo italiano per eccellenza\nquesta è la pizza\, un piatto semplicissimo ma buonissimo\, che riesce a mettere d’accordo tutti i gusti. A grandissima richiesta\, il pizzaiolo professionista Cristian Marcellini vi farà sporcare le mani per realizzare gli impasti e\, successivamente\, i condimenti che andranno a insaporire le basi. Si affronterà il tema delle farine adatte per la pizza\, del lievito\, della idratazione dell’impasto e della cottura nel forno casalingo.
URL:https://mamamediterraneum.it/lezioni/pizza-in-teglia-limpasto-ad-alta-idratazione-16/
LOCATION:MaMà Mediterraneum\, via di Priscilla 15-17\, Roma\, 00199\, Italia
CATEGORIES:Pizza
ATTACH;FMTTYPE=image/jpeg:https://mamamediterraneum.it/wp-content/uploads/2021/10/pizza-in-teglia-1.jpg
END:VEVENT
BEGIN:VEVENT
DTSTART;TZID=UTC:20251030T190000
DTEND;TZID=UTC:20251030T220000
DTSTAMP:20260419T231620
CREATED:20250914T093315Z
LAST-MODIFIED:20250914T093315Z
UID:10003218-1761850800-1761861600@mamamediterraneum.it
SUMMARY:Focaccia & calzoni
DESCRIPTION:Ecco una lezione che vi darà l’opportunità di imparare a cucinare una ottima focaccia nel forno di casa vostra e di preparare dei gustosissimi calzoni\nCristian Marcellini\, giovane ma già notissimo pizzaiolo romano\, oltre a farvi mettere le mani in pasta\, illustrerà anche la teoria sulla lievitazione e gli impasti\, l’importanza della scelta delle farine e la tecnica di frittura dei calzoni. Le preparazioni di questa utilissima lezione saranno: la vera focaccia e i calzoni nelle due varianti al forno e fritti
URL:https://mamamediterraneum.it/lezioni/focaccia-calzoni-4/
LOCATION:MaMà Mediterraneum\, via di Priscilla 15-17\, Roma\, 00199\, Italia
CATEGORIES:Per coppie,per esperti,Per principianti,Pizza
ATTACH;FMTTYPE=image/jpeg:https://mamamediterraneum.it/wp-content/uploads/2018/04/calzoni.jpg
END:VEVENT
END:VCALENDAR