BEGIN:VCALENDAR
VERSION:2.0
PRODID:-//Mamamediterraneum - ECPv6.15.18//NONSGML v1.0//EN
CALSCALE:GREGORIAN
METHOD:PUBLISH
X-ORIGINAL-URL:https://mamamediterraneum.it
X-WR-CALDESC:Eventi per Mamamediterraneum
REFRESH-INTERVAL;VALUE=DURATION:PT1H
X-Robots-Tag:noindex
X-PUBLISHED-TTL:PT1H
BEGIN:VTIMEZONE
TZID:UTC
BEGIN:STANDARD
TZOFFSETFROM:+0000
TZOFFSETTO:+0000
TZNAME:UTC
DTSTART:20240101T000000
END:STANDARD
END:VTIMEZONE
BEGIN:VEVENT
DTSTART;TZID=UTC:20250203T190000
DTEND;TZID=UTC:20250203T220000
DTSTAMP:20260420T044025
CREATED:20250115T073445Z
LAST-MODIFIED:20250115T073445Z
UID:10003069-1738609200-1738620000@mamamediterraneum.it
SUMMARY:Cucina&vini: pollame reale
DESCRIPTION:I volatili da cortile\, se allevati con coscienza\, costituiscono una materia prima eccelsa per piatti gourmet\nPolli\, anatre\, faraone\, tacchini\, quaglie\, possono diventare cibi da re! Sarà una lezione per carnivori quella in cui lo Chef Aurelio Carraffa vi guiderà nella realizzazione di tre interessantissime ricette come il petto di quaglia in salsa agrodolce con verdure\, i tagliolini al ragù di anatra e grué di cacao e una faraona al rabarbaro e pepe nero \nUna Ottima occasione per la nostra sommelier\, Clara Montesanto\, per abbinare i giusti vini.
URL:https://mamamediterraneum.it/lezioni/cucinavini-pollame-reale/
LOCATION:MaMà Mediterraneum\, via di Priscilla 15-17\, Roma\, 00199\, Italia
CATEGORIES:abbinamento,Antipasti,Carne,experience,Per coppie,per esperti,Per principianti,Primi,Secondi
ATTACH;FMTTYPE=image/jpeg:https://mamamediterraneum.it/wp-content/uploads/2025/01/Quaglia-laccata-Gabriella-Pizzo-Olio-Turri-2.jpg
END:VEVENT
END:VCALENDAR