BEGIN:VCALENDAR
VERSION:2.0
PRODID:-//Mamamediterraneum - ECPv6.15.18//NONSGML v1.0//EN
CALSCALE:GREGORIAN
METHOD:PUBLISH
X-ORIGINAL-URL:https://mamamediterraneum.it
X-WR-CALDESC:Eventi per Mamamediterraneum
REFRESH-INTERVAL;VALUE=DURATION:PT1H
X-Robots-Tag:noindex
X-PUBLISHED-TTL:PT1H
BEGIN:VTIMEZONE
TZID:UTC
BEGIN:STANDARD
TZOFFSETFROM:+0000
TZOFFSETTO:+0000
TZNAME:UTC
DTSTART:20240101T000000
END:STANDARD
END:VTIMEZONE
BEGIN:VTIMEZONE
TZID:Europe/Rome
BEGIN:DAYLIGHT
TZOFFSETFROM:+0100
TZOFFSETTO:+0200
TZNAME:CEST
DTSTART:20240331T010000
END:DAYLIGHT
BEGIN:STANDARD
TZOFFSETFROM:+0200
TZOFFSETTO:+0100
TZNAME:CET
DTSTART:20241027T010000
END:STANDARD
BEGIN:DAYLIGHT
TZOFFSETFROM:+0100
TZOFFSETTO:+0200
TZNAME:CEST
DTSTART:20250330T010000
END:DAYLIGHT
BEGIN:STANDARD
TZOFFSETFROM:+0200
TZOFFSETTO:+0100
TZNAME:CET
DTSTART:20251026T010000
END:STANDARD
BEGIN:DAYLIGHT
TZOFFSETFROM:+0100
TZOFFSETTO:+0200
TZNAME:CEST
DTSTART:20260329T010000
END:DAYLIGHT
BEGIN:STANDARD
TZOFFSETFROM:+0200
TZOFFSETTO:+0100
TZNAME:CET
DTSTART:20261025T010000
END:STANDARD
END:VTIMEZONE
BEGIN:VEVENT
DTSTART;TZID=UTC:20250303T190000
DTEND;TZID=UTC:20250303T220000
DTSTAMP:20260420T025917
CREATED:20250214T144053Z
LAST-MODIFIED:20250214T144053Z
UID:10003099-1741028400-1741039200@mamamediterraneum.it
SUMMARY:Arrosti irresistibili... e le loro salse
DESCRIPTION:Gli arrosti sono sicuramente da annoverare nella categoria dei comfort food\, quei piatti che ci rincuorano e ci piacciono sempre\, magari accompagnati con una buona salsa\nA grande richiesta proponiamo una nuova lezione tematica sull’argomento\, nella quale la Chef Kaba Corapi vi insegnerà come preparare e cuocere tre gustosissimi arrosti. Il primo sarà un maiale bardato e salsa speziata alla birra\, il secondo sarà invece un un roast beef all’inglese e salsa chimichurri e termineremo alla grande con un arrosto “morto” di vitella e salsa aromatica di cipolle\, una ricetta irresistibilmente gustosa
URL:https://mamamediterraneum.it/lezioni/arrosti-irresistibili-2/
LOCATION:MaMà Mediterraneum\, via di Priscilla 15-17\, Roma\, 00199\, Italia
CATEGORIES:Carne,Per coppie,per esperti,Per principianti,Secondi
ATTACH;FMTTYPE=image/jpeg:https://mamamediterraneum.it/wp-content/uploads/2025/02/salsa-arrosto.jpg
END:VEVENT
BEGIN:VEVENT
DTSTART;TZID=Europe/Rome:20250304T190000
DTEND;TZID=Europe/Rome:20250304T220000
DTSTAMP:20260420T025917
CREATED:20250214T144046Z
LAST-MODIFIED:20250214T144046Z
UID:10003100-1741114800-1741125600@mamamediterraneum.it
SUMMARY:Secondi piatti di mare
DESCRIPTION:Chi non è mai stato messo in crisi dal pensiero di cucinare un secondo piatto di mare?\nLa Chef Kaba Corapi è la persona giusta per rassicurarvi e dimostrarvi che la realizzazione di alcuni secondi piatti di mare non è affatto difficile. Dispensando consigli e tecniche di cucina\, la Chef vi guiderà passo passo nella preparazione di una insalata tiepida di seppie e carciofi\, di un pesce spada alla ghiotta e terminerà con un baccalà laccato al miele\, con cremoso di ceci e olio al prezzemolo
URL:https://mamamediterraneum.it/lezioni/secondi-piatti-di-pesce-senza-coltello-2-2/
LOCATION:MaMà Mediterraneum\, via di Priscilla 15-17\, Roma\, 00199\, Italia
CATEGORIES:Per coppie,per esperti,Per principianti,Pesce,Secondi
ATTACH;FMTTYPE=image/jpeg:https://mamamediterraneum.it/wp-content/uploads/2025/02/secondi-di-mare.jpg
END:VEVENT
BEGIN:VEVENT
DTSTART;TZID=UTC:20250325T190000
DTEND;TZID=UTC:20250325T220000
DTSTAMP:20260420T025917
CREATED:20250214T143852Z
LAST-MODIFIED:20250214T143852Z
UID:10003095-1742929200-1742940000@mamamediterraneum.it
SUMMARY:Cucina&vini - La cucina siciliana di mare
DESCRIPTION:La Sicilia è di certo una delle regioni italiane in cui la cucina e i vini si esprimono al loro massimo\nCon lo chef Aurelio Carraffa e la sommelier Clara Montesanto scopriremo i piatti di mare di questa importante regione\, della quale ricette e vini hanno fama in tutto il mondo. Prepareremo tre piatti tra i tantissimi rappresentativi di questa terra: lo scauratello\, una insalata di pesce poco conosciuta ma deliziosa\, le busiate con il pesto alla trapanese e le alici allinguate e gli involtini di pescespada alla messinese
URL:https://mamamediterraneum.it/lezioni/cucinavini-la-cucina-siciliana-di-mare/
LOCATION:MaMà Mediterraneum\, via di Priscilla 15-17\, Roma\, 00199\, Italia
CATEGORIES:Pasta,Per coppie,per esperti,Per principianti,Primi,regionale,Secondi,tradizionale
ATTACH;FMTTYPE=image/jpeg:https://mamamediterraneum.it/wp-content/uploads/2025/02/involtini-di-pesce-spada.jpg
END:VEVENT
END:VCALENDAR