BEGIN:VCALENDAR
VERSION:2.0
PRODID:-//Mamamediterraneum - ECPv6.15.18//NONSGML v1.0//EN
CALSCALE:GREGORIAN
METHOD:PUBLISH
X-WR-CALNAME:Mamamediterraneum
X-ORIGINAL-URL:https://mamamediterraneum.it
X-WR-CALDESC:Eventi per Mamamediterraneum
REFRESH-INTERVAL;VALUE=DURATION:PT1H
X-Robots-Tag:noindex
X-PUBLISHED-TTL:PT1H
BEGIN:VTIMEZONE
TZID:UTC
BEGIN:STANDARD
TZOFFSETFROM:+0000
TZOFFSETTO:+0000
TZNAME:UTC
DTSTART:20240101T000000
END:STANDARD
END:VTIMEZONE
BEGIN:VTIMEZONE
TZID:Europe/Rome
BEGIN:DAYLIGHT
TZOFFSETFROM:+0100
TZOFFSETTO:+0200
TZNAME:CEST
DTSTART:20240331T010000
END:DAYLIGHT
BEGIN:STANDARD
TZOFFSETFROM:+0200
TZOFFSETTO:+0100
TZNAME:CET
DTSTART:20241027T010000
END:STANDARD
BEGIN:DAYLIGHT
TZOFFSETFROM:+0100
TZOFFSETTO:+0200
TZNAME:CEST
DTSTART:20250330T010000
END:DAYLIGHT
BEGIN:STANDARD
TZOFFSETFROM:+0200
TZOFFSETTO:+0100
TZNAME:CET
DTSTART:20251026T010000
END:STANDARD
BEGIN:DAYLIGHT
TZOFFSETFROM:+0100
TZOFFSETTO:+0200
TZNAME:CEST
DTSTART:20260329T010000
END:DAYLIGHT
BEGIN:STANDARD
TZOFFSETFROM:+0200
TZOFFSETTO:+0100
TZNAME:CET
DTSTART:20261025T010000
END:STANDARD
END:VTIMEZONE
BEGIN:VEVENT
DTSTART;TZID=UTC:20250708T190000
DTEND;TZID=UTC:20250708T220000
DTSTAMP:20260419T202123
CREATED:20250614T153247Z
LAST-MODIFIED:20250614T153247Z
UID:10003178-1752001200-1752012000@mamamediterraneum.it
SUMMARY:La cucina del mare
DESCRIPTION:Il mare ci regala ingredienti straordinari ma sta a noi saperli valorizzare in cucina\nIl pesce e gli altri frutti del mare sono gli ingredienti preferiti dello Chef Aurelio Carraffa\, perfetti da preparare e consumare nella stagione calda. Le cotture veloci e attente servono ad esaltare la qualità del pesce. In questa imperdibile serata lo Chef vi guiderà nella preparazione di tre ricette nelle quali ritrovare tutto il sapore del mare. Realizzeremo insieme un risotto alle vongole con calamari\, gamberi e lime\, delle gustose linguine con bisque di crostacei\, gamberi e pomodori “schiattati”\, e termineremo con un “tataki” di tonno fresco su crema di avocado piccante. \n  \n 
URL:https://mamamediterraneum.it/lezioni/la-cucina-del-mare-4/
LOCATION:MaMà Mediterraneum\, via di Priscilla 15-17\, Roma\, 00199\, Italia
CATEGORIES:Per coppie,per esperti,Per principianti,Pesce,Primi,Secondi
ATTACH;FMTTYPE=image/jpeg:https://mamamediterraneum.it/wp-content/uploads/2020/02/pesce.jpg
END:VEVENT
BEGIN:VEVENT
DTSTART;TZID=UTC:20250709T190000
DTEND;TZID=UTC:20250709T220000
DTSTAMP:20260419T202123
CREATED:20250611T152310Z
LAST-MODIFIED:20250614T153257Z
UID:10003177-1752087600-1752098400@mamamediterraneum.it
SUMMARY:La cucina eoliana
DESCRIPTION:La cucina mediterranea è patrimonio dell’umanità\, quella delle isole italiane è particolarmente interessante\, ma quella delle Isole Eolie è senza dubbio straordinaria.\nÈ certamente la semplicità e la qualità della materia prima e renderla unica\, e i capperi di Salina sono senza dubbio la firma di ogni piatto. La lezione sarà un susseguirsi di sapori sorprendenti a partire dal pane “cunzato” alla salinota\, proseguendo con le linguine al pesto di capperi e menta\, per finire con delle gustosissime polpette di pescespada con crema di melanzane
URL:https://mamamediterraneum.it/lezioni/la-cucina-eoliana-4/
LOCATION:MaMà Mediterraneum\, via di Priscilla 15-17\, Roma\, 00199\, Italia
CATEGORIES:Antipasti,menu,Pasta,Per coppie,per esperti,Per principianti,Pesce,Primi,regionale,Secondi,tradizionale
ATTACH;FMTTYPE=image/jpeg:https://mamamediterraneum.it/wp-content/uploads/2022/06/eoliana.jpg
END:VEVENT
BEGIN:VEVENT
DTSTART;TZID=Europe/Rome:20250715T190000
DTEND;TZID=Europe/Rome:20250715T220000
DTSTAMP:20260419T202123
CREATED:20250614T153050Z
LAST-MODIFIED:20250614T153050Z
UID:10003185-1752606000-1752616800@mamamediterraneum.it
SUMMARY:Una fresca cena in terrazza
DESCRIPTION:Con l’arrivo del caldo estivo arriva sempre la nostra voglia di trovare ristoro e freschezza anche in ciò che che gustiamo\, magari in terrazza con i nostri amici\nLa Chef Kaba Corapi sarà felice di accogliervi e di tenervi compagnia realizzando insieme a voi tre interessantissime ricette adatte per la stagione. La prima  ricetta sarà una deliziosa insalatina di seppie all’eoliana\, seguiranno delle mezze maniche al pesto aromatico di ortaggi per finire con delle gustose polpette di lenticchie rosse\, menta e limone
URL:https://mamamediterraneum.it/lezioni/una-fresca-cena-in-terrazza-4/
LOCATION:MaMà Mediterraneum\, via di Priscilla 15-17\, Roma\, 00199\, Italia
CATEGORIES:Antipasti,Cucina generale,Pasta,Per coppie,per esperti,Per principianti,Primi,Secondi
ATTACH;FMTTYPE=image/jpeg:https://mamamediterraneum.it/wp-content/uploads/2022/06/cena-terrazza.jpg
END:VEVENT
BEGIN:VEVENT
DTSTART;TZID=UTC:20250716T190000
DTEND;TZID=UTC:20250716T220000
DTSTAMP:20260419T202123
CREATED:20250614T153039Z
LAST-MODIFIED:20250614T153039Z
UID:10003186-1752692400-1752703200@mamamediterraneum.it
SUMMARY:Se ci sei\, batti un... polpo
DESCRIPTION:Il polpo è uno dei prodotti del mare più amati\, facile da cucinare\, versatile e veramente gustoso\nTutte le lezioni aventi il polpo come tema hanno riscosso un grande successo e ottenuto sempre il sold out. Per gli amanti di questo straordinario mollusco ne proponiamo tre ricette che soddisferanno le aspettative di coloro che vorranno partecipare. La serata prevede la preparazione di una insalata di polpo in salsa verde con crema di patate e i frutti del cappero\, seguiranno degli spaghetti con ragù estivo di polpo e termineremo con una deliziosa catalana di polpo \n 
URL:https://mamamediterraneum.it/lezioni/se-ci-sei-batti-un-polpo/
LOCATION:MaMà Mediterraneum\, via di Priscilla 15-17\, Roma\, 00199\, Italia
CATEGORIES:Antipasti,Pasta,Per coppie,per esperti,Per principianti,Pesce,Primi,Secondi
ATTACH;FMTTYPE=image/jpeg:https://mamamediterraneum.it/wp-content/uploads/2021/07/polpo-1.jpg
END:VEVENT
END:VCALENDAR