BEGIN:VCALENDAR
VERSION:2.0
PRODID:-//Mamamediterraneum - ECPv6.15.18//NONSGML v1.0//EN
CALSCALE:GREGORIAN
METHOD:PUBLISH
X-WR-CALNAME:Mamamediterraneum
X-ORIGINAL-URL:https://mamamediterraneum.it
X-WR-CALDESC:Eventi per Mamamediterraneum
REFRESH-INTERVAL;VALUE=DURATION:PT1H
X-Robots-Tag:noindex
X-PUBLISHED-TTL:PT1H
BEGIN:VTIMEZONE
TZID:Europe/Rome
BEGIN:DAYLIGHT
TZOFFSETFROM:+0100
TZOFFSETTO:+0200
TZNAME:CEST
DTSTART:20230326T010000
END:DAYLIGHT
BEGIN:STANDARD
TZOFFSETFROM:+0200
TZOFFSETTO:+0100
TZNAME:CET
DTSTART:20231029T010000
END:STANDARD
BEGIN:DAYLIGHT
TZOFFSETFROM:+0100
TZOFFSETTO:+0200
TZNAME:CEST
DTSTART:20240331T010000
END:DAYLIGHT
BEGIN:STANDARD
TZOFFSETFROM:+0200
TZOFFSETTO:+0100
TZNAME:CET
DTSTART:20241027T010000
END:STANDARD
BEGIN:DAYLIGHT
TZOFFSETFROM:+0100
TZOFFSETTO:+0200
TZNAME:CEST
DTSTART:20250330T010000
END:DAYLIGHT
BEGIN:STANDARD
TZOFFSETFROM:+0200
TZOFFSETTO:+0100
TZNAME:CET
DTSTART:20251026T010000
END:STANDARD
END:VTIMEZONE
BEGIN:VEVENT
DTSTART;TZID=Europe/Rome:20241001T190000
DTEND;TZID=Europe/Rome:20241001T220000
DTSTAMP:20260426T034834
CREATED:20240914T145921Z
LAST-MODIFIED:20240915T104533Z
UID:10002987-1727809200-1727820000@mamamediterraneum.it
SUMMARY:cacio & pe...sce
DESCRIPTION:Chi lo ha detto che il formaggio con il pesce non è un buon abbinamento?\nSebbene i “puristi” storcano il naso\, questo connubio regala da sempre dei piatti straordinari in cui i due ingredienti si esaltano a vicenda. Sarà dunque il compito dello Chef Aurelio Carraffa\, docente di questa lezione\, quello di sfatare questo errato mito. La serata prevede la preparazione di tre interessanti ricette: inizieremo con una pasta sarda\, dei ciciones con vongole e pecorino\, proseguiremo degli spaghetti con lo stracotto di polpo e il pecorino e concluderemo in bellezza con una profumatissima bistecca di tonno alla palermitana
URL:https://mamamediterraneum.it/lezioni/cacio-pe-sce/
LOCATION:MaMà Mediterraneum\, via di Priscilla 15-17\, Roma\, 00199\, Italia
CATEGORIES:Cucina generale,Per coppie,per esperti,Per principianti,Pesce
ATTACH;FMTTYPE=image/webp:https://mamamediterraneum.it/wp-content/uploads/2024/09/cacio-e-pe.sce_.webp
END:VEVENT
END:VCALENDAR