BEGIN:VCALENDAR
VERSION:2.0
PRODID:-//Mamamediterraneum - ECPv6.15.18//NONSGML v1.0//EN
CALSCALE:GREGORIAN
METHOD:PUBLISH
X-WR-CALNAME:Mamamediterraneum
X-ORIGINAL-URL:https://mamamediterraneum.it
X-WR-CALDESC:Eventi per Mamamediterraneum
REFRESH-INTERVAL;VALUE=DURATION:PT1H
X-Robots-Tag:noindex
X-PUBLISHED-TTL:PT1H
BEGIN:VTIMEZONE
TZID:UTC
BEGIN:STANDARD
TZOFFSETFROM:+0000
TZOFFSETTO:+0000
TZNAME:UTC
DTSTART:20230101T000000
END:STANDARD
END:VTIMEZONE
BEGIN:VEVENT
DTSTART;TZID=UTC:20241111T190000
DTEND;TZID=UTC:20241111T220000
DTSTAMP:20260423T210518
CREATED:20241014T075732Z
LAST-MODIFIED:20241014T075732Z
UID:10003009-1731351600-1731362400@mamamediterraneum.it
SUMMARY:Niente fumo e... tutto arrosto #3
DESCRIPTION:Gli arrosti di carne sono preparazioni particolarmente gustose e comode da preparare anche in occasione di cene con gli amici e possono essere preparate sia in forno che in casseruola\nLo Chef residente della scuola\, Aurelio Carraffa\, in questa terza edizione di una lezione che ha sempre avuto grande successo\, vi svelerà tutti i trucchi per acquistare e preparare i tagli migliori di carne per ogni tipo di cottura. In particolare la serata prevede la realizzazione di tre interessantissime ricette come un roast-beef classico con patate arrosto\, un arrosto di vitella alle erbe aromatiche e puré al pepe di Giamaica e un capocollo di maiale all’arancia con carote glassate.
URL:https://mamamediterraneum.it/lezioni/niente-fumo-e-tutto-arrosto-5/
LOCATION:MaMà Mediterraneum\, via di Priscilla 15-17\, Roma\, 00199\, Italia
CATEGORIES:Carne,Contorni,Secondi
ATTACH;FMTTYPE=image/jpeg:https://mamamediterraneum.it/wp-content/uploads/2019/12/arrosto-1.jpg
END:VEVENT
END:VCALENDAR