BEGIN:VCALENDAR
VERSION:2.0
PRODID:-//Mamamediterraneum - ECPv6.15.18//NONSGML v1.0//EN
CALSCALE:GREGORIAN
METHOD:PUBLISH
X-WR-CALNAME:Mamamediterraneum
X-ORIGINAL-URL:https://mamamediterraneum.it
X-WR-CALDESC:Eventi per Mamamediterraneum
REFRESH-INTERVAL;VALUE=DURATION:PT1H
X-Robots-Tag:noindex
X-PUBLISHED-TTL:PT1H
BEGIN:VTIMEZONE
TZID:Europe/Rome
BEGIN:DAYLIGHT
TZOFFSETFROM:+0100
TZOFFSETTO:+0200
TZNAME:CEST
DTSTART:20210328T010000
END:DAYLIGHT
BEGIN:STANDARD
TZOFFSETFROM:+0200
TZOFFSETTO:+0100
TZNAME:CET
DTSTART:20211031T010000
END:STANDARD
BEGIN:DAYLIGHT
TZOFFSETFROM:+0100
TZOFFSETTO:+0200
TZNAME:CEST
DTSTART:20220327T010000
END:DAYLIGHT
BEGIN:STANDARD
TZOFFSETFROM:+0200
TZOFFSETTO:+0100
TZNAME:CET
DTSTART:20221030T010000
END:STANDARD
BEGIN:DAYLIGHT
TZOFFSETFROM:+0100
TZOFFSETTO:+0200
TZNAME:CEST
DTSTART:20230326T010000
END:DAYLIGHT
BEGIN:STANDARD
TZOFFSETFROM:+0200
TZOFFSETTO:+0100
TZNAME:CET
DTSTART:20231029T010000
END:STANDARD
BEGIN:DAYLIGHT
TZOFFSETFROM:+0100
TZOFFSETTO:+0200
TZNAME:CEST
DTSTART:20240331T010000
END:DAYLIGHT
BEGIN:STANDARD
TZOFFSETFROM:+0200
TZOFFSETTO:+0100
TZNAME:CET
DTSTART:20241027T010000
END:STANDARD
BEGIN:DAYLIGHT
TZOFFSETFROM:+0100
TZOFFSETTO:+0200
TZNAME:CEST
DTSTART:20250330T010000
END:DAYLIGHT
BEGIN:STANDARD
TZOFFSETFROM:+0200
TZOFFSETTO:+0100
TZNAME:CET
DTSTART:20251026T010000
END:STANDARD
BEGIN:DAYLIGHT
TZOFFSETFROM:+0100
TZOFFSETTO:+0200
TZNAME:CEST
DTSTART:20260329T010000
END:DAYLIGHT
BEGIN:STANDARD
TZOFFSETFROM:+0200
TZOFFSETTO:+0100
TZNAME:CET
DTSTART:20261025T010000
END:STANDARD
END:VTIMEZONE
BEGIN:VTIMEZONE
TZID:UTC
BEGIN:STANDARD
TZOFFSETFROM:+0000
TZOFFSETTO:+0000
TZNAME:UTC
DTSTART:20170101T000000
END:STANDARD
END:VTIMEZONE
BEGIN:VEVENT
DTSTART;TZID=Europe/Rome:20251023T190000
DTEND;TZID=Europe/Rome:20251023T220000
DTSTAMP:20260420T200443
CREATED:20250914T093326Z
LAST-MODIFIED:20250915T120010Z
UID:10003217-1761246000-1761256800@mamamediterraneum.it
SUMMARY:Preso in castagna!
DESCRIPTION:Si può certamente dire che le castagne sono uno degli ingredienti più tipici dell’autunno e che\, con il loro sapore\, sono in grado di contribuire a realizzare gustosissimi piatti\nSarà la Chef Kaba Corapi che avrà il compito di svelarvi tutti i trucchi per sceglierle\, cucinarle e per valorizzarne le qualità organolettiche. La lezione prevede la realizzazione di tre piatti\, come: la zuppetta di funghi e castagne al profumo di timo\, degli gnocchetti alle castagne con salsa di cipolla rossa e pecorino e il filetto di maiale con castagne e melagrana
URL:https://mamamediterraneum.it/lezioni/preso-in-castagna-5/
LOCATION:MaMà Mediterraneum\, via di Priscilla 15-17\, Roma\, 00199\, Italia
CATEGORIES:Cucina generale,Per coppie,per esperti,Per principianti
ATTACH;FMTTYPE=image/jpeg:https://mamamediterraneum.it/wp-content/uploads/2021/09/castagne.jpg
END:VEVENT
BEGIN:VEVENT
DTSTART;TZID=Europe/Rome:20241028T190000
DTEND;TZID=Europe/Rome:20241028T220000
DTSTAMP:20260420T200443
CREATED:20240914T145612Z
LAST-MODIFIED:20240914T145612Z
UID:10002993-1730142000-1730152800@mamamediterraneum.it
SUMMARY:Preso in castagna! #3
DESCRIPTION:Si può certamente dire che le castagne sono tra gli ingredienti più tipici dell’autunno e che\, con il loro sapore\, sono in grado di contribuire a realizzare gustosissimi piatti\nSarà la Chef Kaba Corapi che avrà il compito di svelarvi tutti i trucchi per sceglierle\, cucinarle e per valorizzarne le qualità organolettiche. La lezione prevede la realizzazione di tre piatti\, come: una zuppetta di ceci e castagne al rosmarino\, un filetto di vitella con castagne e nocciole al timo\, per finire con un golosissimo mascarpone\, castagne e caffè \n 
URL:https://mamamediterraneum.it/lezioni/preso-in-castagna-3/
LOCATION:MaMà Mediterraneum\, via di Priscilla 15-17\, Roma\, 00199\, Italia
CATEGORIES:Carne,Cucina generale,Dolci al cucchiaio,Per coppie,per esperti,Per principianti
ATTACH;FMTTYPE=image/webp:https://mamamediterraneum.it/wp-content/uploads/2023/09/castagne.webp
END:VEVENT
BEGIN:VEVENT
DTSTART;TZID=Europe/Rome:20231019T190000
DTEND;TZID=Europe/Rome:20231019T220000
DTSTAMP:20260420T200443
CREATED:20230914T085127Z
LAST-MODIFIED:20230915T112724Z
UID:10002765-1697742000-1697752800@mamamediterraneum.it
SUMMARY:Preso in castagna! #2
DESCRIPTION:Si può certamente dire che le castagne sono tra gli ingredienti più tipici dell’autunno e che\, con il loro sapore\, sono in grado di contribuire a realizzare gustosissimi piatti\nSarà la Chef Kaba Corapi che avrà il compito di svelarvi tutti i trucchi per sceglierle\, cucinarle e per valorizzarne le qualità organolettiche. La lezione prevede la realizzazione di tre piatti\, come: una vellutata di patate con finferli\, castagne e nocciole; degli gnocchetti di castagne\, salsa di cipolla rossa e pecorino; per finire con dei tounedos di maiale con castagne e melagrana
URL:https://mamamediterraneum.it/lezioni/preso-in-castagna-2-2/
LOCATION:MaMà Mediterraneum\, via di Priscilla 15-17\, Roma\, 00199\, Italia
CATEGORIES:Cucina generale,Per coppie,per esperti,Per principianti
ATTACH;FMTTYPE=image/jpeg:https://mamamediterraneum.it/wp-content/uploads/2021/09/castagne.jpg
END:VEVENT
BEGIN:VEVENT
DTSTART;TZID=Europe/Rome:20221110T190000
DTEND;TZID=Europe/Rome:20221110T220000
DTSTAMP:20260420T200443
CREATED:20210914T095907Z
LAST-MODIFIED:20221014T095428Z
UID:10002516-1668106800-1668117600@mamamediterraneum.it
SUMMARY:Preso in castagna!
DESCRIPTION:Si può certamente dire che le castagne sono uno degli ingredienti più tipici dell’autunno e che\, con il loro sapore\, sono in grado di contribuire a realizzare gustosissimi piatti\nSarà la Chef Kaba Corapi che avrà il compito di svelarvi tutti i trucchi per sceglierle\, cucinarle e per valorizzarne le qualità organolettiche. La lezione prevede la realizzazione di tre piatti\, come: la minestra di ceci\, castagne e pasta “ammiscata”\, il filetto di vitella con funghi e castagne e il mascarpone con castagne e crema di caffè
URL:https://mamamediterraneum.it/lezioni/preso-in-castagna-2/
LOCATION:MaMà Mediterraneum\, via di Priscilla 15-17\, Roma\, 00199\, Italia
CATEGORIES:Cucina generale,Per coppie,per esperti,Per principianti
ATTACH;FMTTYPE=image/jpeg:https://mamamediterraneum.it/wp-content/uploads/2021/09/castagne.jpg
END:VEVENT
BEGIN:VEVENT
DTSTART;TZID=UTC:20181001T190000
DTEND;TZID=UTC:20181001T220000
DTSTAMP:20260420T200443
CREATED:20180826T120324Z
LAST-MODIFIED:20180826T121429Z
UID:10002020-1538420400-1538431200@mamamediterraneum.it
SUMMARY:Dal bosco alla collina: i sapori autunnali
DESCRIPTION:L’aria autunnale\, più fresca\, ispira nuovi piatti e nuovi accostamenti perfetti per questa stagione\nSarà Serena Melis a guidarvi nella prima lezione del mese di ottobre insegnandovi tre nuove ricette davvero molto interessanti. La brava docente sarda vi stupirà nella preparazione del menu che prevede le linguine con baccalà e nocciole\, un umido di moscardini ai funghi e una bavarese al fico d’India e pistacchi
URL:https://mamamediterraneum.it/lezioni/dal-bosco-alla-collina-i-sapori-autunnali/
LOCATION:MaMà Mediterraneum\, via di Priscilla 15-17\, Roma\, 00199\, Italia
CATEGORIES:Dolci al cucchiaio,Pasta,Per coppie,per esperti,Per principianti,Primi,Secondi
ATTACH;FMTTYPE=image/jpeg:https://mamamediterraneum.it/wp-content/uploads/2018/07/dal-bosco-alla-collina.jpg
END:VEVENT
END:VCALENDAR