BEGIN:VCALENDAR
VERSION:2.0
PRODID:-//Mamamediterraneum - ECPv6.15.18//NONSGML v1.0//EN
CALSCALE:GREGORIAN
METHOD:PUBLISH
X-WR-CALNAME:Mamamediterraneum
X-ORIGINAL-URL:https://mamamediterraneum.it
X-WR-CALDESC:Eventi per Mamamediterraneum
REFRESH-INTERVAL;VALUE=DURATION:PT1H
X-Robots-Tag:noindex
X-PUBLISHED-TTL:PT1H
BEGIN:VTIMEZONE
TZID:Europe/Rome
BEGIN:DAYLIGHT
TZOFFSETFROM:+0100
TZOFFSETTO:+0200
TZNAME:CEST
DTSTART:20180325T010000
END:DAYLIGHT
BEGIN:STANDARD
TZOFFSETFROM:+0200
TZOFFSETTO:+0100
TZNAME:CET
DTSTART:20181028T010000
END:STANDARD
BEGIN:DAYLIGHT
TZOFFSETFROM:+0100
TZOFFSETTO:+0200
TZNAME:CEST
DTSTART:20190331T010000
END:DAYLIGHT
BEGIN:STANDARD
TZOFFSETFROM:+0200
TZOFFSETTO:+0100
TZNAME:CET
DTSTART:20191027T010000
END:STANDARD
BEGIN:DAYLIGHT
TZOFFSETFROM:+0100
TZOFFSETTO:+0200
TZNAME:CEST
DTSTART:20200329T010000
END:DAYLIGHT
BEGIN:STANDARD
TZOFFSETFROM:+0200
TZOFFSETTO:+0100
TZNAME:CET
DTSTART:20201025T010000
END:STANDARD
BEGIN:DAYLIGHT
TZOFFSETFROM:+0100
TZOFFSETTO:+0200
TZNAME:CEST
DTSTART:20210328T010000
END:DAYLIGHT
BEGIN:STANDARD
TZOFFSETFROM:+0200
TZOFFSETTO:+0100
TZNAME:CET
DTSTART:20211031T010000
END:STANDARD
BEGIN:DAYLIGHT
TZOFFSETFROM:+0100
TZOFFSETTO:+0200
TZNAME:CEST
DTSTART:20220327T010000
END:DAYLIGHT
BEGIN:STANDARD
TZOFFSETFROM:+0200
TZOFFSETTO:+0100
TZNAME:CET
DTSTART:20221030T010000
END:STANDARD
BEGIN:DAYLIGHT
TZOFFSETFROM:+0100
TZOFFSETTO:+0200
TZNAME:CEST
DTSTART:20230326T010000
END:DAYLIGHT
BEGIN:STANDARD
TZOFFSETFROM:+0200
TZOFFSETTO:+0100
TZNAME:CET
DTSTART:20231029T010000
END:STANDARD
BEGIN:DAYLIGHT
TZOFFSETFROM:+0100
TZOFFSETTO:+0200
TZNAME:CEST
DTSTART:20240331T010000
END:DAYLIGHT
BEGIN:STANDARD
TZOFFSETFROM:+0200
TZOFFSETTO:+0100
TZNAME:CET
DTSTART:20241027T010000
END:STANDARD
BEGIN:DAYLIGHT
TZOFFSETFROM:+0100
TZOFFSETTO:+0200
TZNAME:CEST
DTSTART:20250330T010000
END:DAYLIGHT
BEGIN:STANDARD
TZOFFSETFROM:+0200
TZOFFSETTO:+0100
TZNAME:CET
DTSTART:20251026T010000
END:STANDARD
BEGIN:DAYLIGHT
TZOFFSETFROM:+0100
TZOFFSETTO:+0200
TZNAME:CEST
DTSTART:20260329T010000
END:DAYLIGHT
BEGIN:STANDARD
TZOFFSETFROM:+0200
TZOFFSETTO:+0100
TZNAME:CET
DTSTART:20261025T010000
END:STANDARD
BEGIN:DAYLIGHT
TZOFFSETFROM:+0100
TZOFFSETTO:+0200
TZNAME:CEST
DTSTART:20270328T010000
END:DAYLIGHT
BEGIN:STANDARD
TZOFFSETFROM:+0200
TZOFFSETTO:+0100
TZNAME:CET
DTSTART:20271031T010000
END:STANDARD
END:VTIMEZONE
BEGIN:VTIMEZONE
TZID:UTC
BEGIN:STANDARD
TZOFFSETFROM:+0000
TZOFFSETTO:+0000
TZNAME:UTC
DTSTART:20170101T000000
END:STANDARD
END:VTIMEZONE
BEGIN:VEVENT
DTSTART;TZID=Europe/Rome:20260312T190000
DTEND;TZID=Europe/Rome:20260312T220000
DTSTAMP:20260420T183026
CREATED:20260214T072448Z
LAST-MODIFIED:20260214T072448Z
UID:10003315-1773342000-1773352800@mamamediterraneum.it
SUMMARY:Sua maestà il bacalhau: un omaggio al re della cucina portoghese
DESCRIPTION:Un viaggio tra i sapori dell’Atlantico guidato dal sapere di una chef portoghese\, per scoprire perché questo pesce è l’anima di un intero popolo\nSarà infatti Fatima Pereira\, rinomata Chef portoghese e ambasciatrice in Italia della cucina della sua terra\, che vi farà viaggiare\, con i racconti e i sapori delle vere ricette portoghesi. Fatima vi guiderà nella preparazione di tre piatti classici e nello specifico vi farà realizzare delle pastéis de bacalhau com mayo de lima (crocchette di baccalà con mayonese al lime) un bacalhau algarvio (baccalà agli agrumi) per finire con il famosissimo bacalhau à Brás (baccalà alla maniera di Brás) \nImperdibile!
URL:https://mamamediterraneum.it/lezioni/pesce-veloce-del-baltico-ovvero-il-baccala-2/
LOCATION:MaMà Mediterraneum\, via di Priscilla 15-17\, Roma\, 00199\, Italia
CATEGORIES:Cucina generale,Per coppie,per esperti,Per principianti,Pesce
ATTACH;FMTTYPE=image/jpeg:https://mamamediterraneum.it/wp-content/uploads/2026/02/Bacalhau.jpg
END:VEVENT
BEGIN:VEVENT
DTSTART;TZID=UTC:20250523T190000
DTEND;TZID=UTC:20250523T220000
DTSTAMP:20260420T183026
CREATED:20250414T151703Z
LAST-MODIFIED:20250414T151703Z
UID:10003138-1748026800-1748037600@mamamediterraneum.it
SUMMARY:Cucina & vini: il baccalà
DESCRIPTION:Quali vini abbinare ai piatti a base di baccalà? Bollicine? Bianco? Rosso? Non è così scontato… Se amate il “pesce veloce del Baltico” e il vino allora questa è la lezione che fa per voi!\nLo chef Aurelio Carraffa\, coadiuvato dalla sommelier Clara Montesanto\, vi guiderà nella preparazione di tre ricette a base del merluzzo sotto sale\, che prende il nome di baccalà\, cui verranno abbinati i giusti vini. La lezione prevede la preparazione di una insalata di baccalà\, degli spaghetti mediterranei con il baccalà e un baccalà in guazzetto alla romana (con concessione di scarpetta)
URL:https://mamamediterraneum.it/lezioni/cucina-vini-il-baccala-2/
LOCATION:MaMà Mediterraneum\, via di Priscilla 15-17\, Roma\, 00199\, Italia
CATEGORIES:Cucina e vini,Per coppie,per esperti,Per principianti,Pesce,Vino
ATTACH;FMTTYPE=image/jpeg:https://mamamediterraneum.it/wp-content/uploads/2025/04/baccala.jpg
END:VEVENT
BEGIN:VEVENT
DTSTART;TZID=UTC:20230912T190000
DTEND;TZID=UTC:20230912T220000
DTSTAMP:20260420T183026
CREATED:20230827T135223Z
LAST-MODIFIED:20230827T144330Z
UID:10002743-1694545200-1694556000@mamamediterraneum.it
SUMMARY:Le cotture classiche del pesce
DESCRIPTION:Si sa\, il pesce va cucinato in maniera semplice… ma a volte semplicità non è sinonimo di facilità\nIl compito dello chef Aurelio Carraffa sarà infatti quello di insegnarvi tre ricette classiche della cucina italiana che\, se realizzate rispettando dei precisi passaggi\, garantiscono risultati eccellenti. La lezione prevede la realizzazione di un baccalà mantecato alla veneta su tegole di polenta\, una scientifica e infallibile tecnica di cottura per l’orata al sale e una gustosissima spigola all’acqua pazza.
URL:https://mamamediterraneum.it/lezioni/le-cotture-classiche-del-pesce-3/
LOCATION:MaMà Mediterraneum\, via di Priscilla 15-17\, Roma\, 00199\, Italia
CATEGORIES:Antipasti,Cucina generale,Per coppie,per esperti,Per principianti,Pesce,Secondi
ATTACH;FMTTYPE=image/webp:https://mamamediterraneum.it/wp-content/uploads/2022/10/classiche-pesce.webp
END:VEVENT
BEGIN:VEVENT
DTSTART;TZID=UTC:20221130T190000
DTEND;TZID=UTC:20221130T220000
DTSTAMP:20260420T183026
CREATED:20221012T114010Z
LAST-MODIFIED:20221014T095453Z
UID:10002606-1669834800-1669845600@mamamediterraneum.it
SUMMARY:Le cotture classiche del pesce
DESCRIPTION:Si sa\, il pesce va cucinato in maniera semplice… ma a volte semplicità non è sinonimo di facilità\nIl compito dello chef Aurelio Carraffa sarà infatti quello di insegnarvi tre ricette classiche della cucina italiana che\, se realizzate rispettando dei precisi passaggi\, garantiscono risultati eccellenti. La lezione prevede la realizzazione di un baccalà mantecato alla veneta su tegole di polenta\, una scientifica e infallibile tecnica di cottura per l’orata al sale e una gustosissima spigola all’acqua pazza.
URL:https://mamamediterraneum.it/lezioni/le-cotture-classiche-del-pesce-2/
LOCATION:MaMà Mediterraneum\, via di Priscilla 15-17\, Roma\, 00199\, Italia
CATEGORIES:Antipasti,Cucina generale,Per coppie,per esperti,Per principianti,Pesce,Secondi
ATTACH;FMTTYPE=image/webp:https://mamamediterraneum.it/wp-content/uploads/2022/10/classiche-pesce.webp
END:VEVENT
BEGIN:VEVENT
DTSTART;TZID=Europe/Rome:20220929T190000
DTEND;TZID=Europe/Rome:20220929T220000
DTSTAMP:20260420T183026
CREATED:20220214T135806Z
LAST-MODIFIED:20220829T152218Z
UID:10002558-1664478000-1664488800@mamamediterraneum.it
SUMMARY:Pesce veloce del Baltico\, ovvero... il baccalà #2
DESCRIPTION:Si tratta del merluzzo nordico (Gadus morhua) che\, conservato sotto sale\, si trasforma in un delizioso ed versatile ingrediente\nIl docente della lezione sarà il nostro Chef Roberto Angelitti che saprà spiegarvi\, con dovizia di particolari tutti i segreti e le modalità per prepararlo prima della cottura e soprattutto come cucinarlo secondo queste tre fantastiche ricette: un baccalà fritto con pomodoro e cipolla rossa\, un baccalà mantecato con passatina di ceci al rosmarino e un baccalà infornato con zucca e speck croccante
URL:https://mamamediterraneum.it/lezioni/stoccafisso-vs-baccala-2/
LOCATION:MaMà Mediterraneum\, via di Priscilla 15-17\, Roma\, 00199\, Italia
CATEGORIES:Cucina generale,Per coppie,per esperti,Per principianti,Pesce
ATTACH;FMTTYPE=image/jpeg:https://mamamediterraneum.it/wp-content/uploads/2020/10/stoccafisso-baccala-merluzzo.jpg
END:VEVENT
BEGIN:VEVENT
DTSTART;TZID=Europe/Rome:20211122T190000
DTEND;TZID=Europe/Rome:20211122T220000
DTSTAMP:20260420T183026
CREATED:20201016T144127Z
LAST-MODIFIED:20211014T170323Z
UID:10002482-1637607600-1637618400@mamamediterraneum.it
SUMMARY:Pesce veloce del Baltico\, ovvero... il baccalà
DESCRIPTION:Si tratta del merluzzo nordico (Gadus morhua) ma è il metodo di conservazione quello che distingue lo stoccafisso dal baccalà\nLa docente della lezione sarà la nostra Chef Kaba Corapi che saprà spiegarvi\, con dovizia di particolari\, la differenza tra i due ingredienti\, le modalità per prepararli prima della cottura e soprattutto come cucinarli secondo queste tre fantastiche ricette: un hummus di baccalà e ceci\, degli ziti al ragù bianco di stocco “a ghiotta” e un baccalà confit in cacciucco \n 
URL:https://mamamediterraneum.it/lezioni/stoccafisso-vs-baccala/
LOCATION:MaMà Mediterraneum\, via di Priscilla 15-17\, Roma\, 00199\, Italia
CATEGORIES:Antipasti,Cucina generale,Per coppie,per esperti,Per principianti,Pesce,Primi,Secondi
ATTACH;FMTTYPE=image/jpeg:https://mamamediterraneum.it/wp-content/uploads/2020/10/stoccafisso-baccala-merluzzo.jpg
END:VEVENT
BEGIN:VEVENT
DTSTART;TZID=Europe/Rome:20191028T190000
DTEND;TZID=Europe/Rome:20191028T220000
DTSTAMP:20260420T183026
CREATED:20190915T151732Z
LAST-MODIFIED:20190916T073048Z
UID:10002132-1572289200-1572300000@mamamediterraneum.it
SUMMARY:Non fare il baccala!
DESCRIPTION:Amatissimo dagli estimatori\, il baccalà ha la capacità di rendere unici i piatti dei quali è protagonista\nIl docente della serata\, Roberto Angelitti\, vi descriverà le caratteristiche e le qualità specifiche di questo gustosissimo merluzzo conservato sotto sale.  Lo chef declinerà questo ingrediente in tre gustosissime ricette: un divertente tiramisù di baccalà\, una insalata tiepida con baccalà croccante e chutney di cipolla rossa e un trancetto di baccalà in crosta di pane e crema e chips di patate viola
URL:https://mamamediterraneum.it/lezioni/non-fare-il-baccala/
LOCATION:MaMà Mediterraneum\, via di Priscilla 15-17\, Roma\, 00199\, Italia
CATEGORIES:Per coppie,per esperti,Per principianti,Pesce
ATTACH;FMTTYPE=image/jpeg:https://mamamediterraneum.it/wp-content/uploads/2019/09/baccalà.jpg
END:VEVENT
BEGIN:VEVENT
DTSTART;TZID=UTC:20190419T190000
DTEND;TZID=UTC:20190419T220000
DTSTAMP:20260420T183026
CREATED:20190312T114704Z
LAST-MODIFIED:20190314T151537Z
UID:10002282-1555700400-1555711200@mamamediterraneum.it
SUMMARY:Baccalà in pastella vs. fish&chips
DESCRIPTION:Si preannuncia una vera sfida tra colossi dello street food\, il romanissimo baccalà in pastella e l’anglosassone fish&chips.\nIl pesce è (quasi) lo stesso\, il merluzzo\, ma il risultato finale sarà decisamente diverso. Lo chef Aurelio Carraffa vi insegnerà i trucchi per preparare la pastella e per realizzare un fritto perfetto e il tutto sarà obbligatoriamente accompagnato da birra fresca. \nDa leccarsi i baffi!
URL:https://mamamediterraneum.it/lezioni/baccala-in-pastella-vs-fishchips/
LOCATION:MaMà Mediterraneum\, via di Priscilla 15-17\, Roma\, 00199\, Italia
CATEGORIES:Fritti,Pesce,street food
ATTACH;FMTTYPE=image/jpeg:https://mamamediterraneum.it/wp-content/uploads/2019/03/fish-and-chips.jpg
END:VEVENT
BEGIN:VEVENT
DTSTART;TZID=UTC:20190326T190000
DTEND;TZID=UTC:20190326T220000
DTSTAMP:20260420T183026
CREATED:20190214T155233Z
LAST-MODIFIED:20250412T135642Z
UID:10002256-1553626800-1553637600@mamamediterraneum.it
SUMMARY:Cucina & vini: il baccalà
DESCRIPTION:Quali vini abbinare ai piatti a base di baccalà? Bollicine? Bianco? Rosso? Non è così scontato…\nSe amate il “pesce veloce del Baltico” e il vino allora questa è la lezione che fa per voi! \nLo chef Aurelio Carraffa\, coadiuvato dalla sommelier Clara Montesanto\, vi guiderà nella preparazione di tre ricette a base del merluzzo sotto sale\, che prende il nome di baccalà\, cui verranno abbinati i giusti vini. \nIl risultato è garantito!
URL:https://mamamediterraneum.it/lezioni/cucina-vini-il-baccala/
LOCATION:MaMà Mediterraneum\, via di Priscilla 15-17\, Roma\, 00199\, Italia
CATEGORIES:Cucina e vini,Per coppie,per esperti,Per principianti,Pesce,Vino
ATTACH;FMTTYPE=image/jpeg:https://mamamediterraneum.it/wp-content/uploads/2019/02/baccalà.jpg
END:VEVENT
BEGIN:VEVENT
DTSTART;TZID=UTC:20190125T190000
DTEND;TZID=UTC:20190125T220000
DTSTAMP:20260420T183026
CREATED:20181212T075325Z
LAST-MODIFIED:20181212T132500Z
UID:10002213-1548442800-1548453600@mamamediterraneum.it
SUMMARY:Le cotture classiche del pesce
DESCRIPTION:Si sa\, il pesce va cucinato in maniera semplice… ma a volte semplicità non è sinonimo di facilità\nIl compito dello chef Aurelio Carraffa sarà infatti quello di insegnarvi tre ricette classiche della cucina italiana che\, se realizzate rispettando dei precisi passaggi\, garantiscono risultati eccellenti. La lezione prevede la realizzazione di un baccalà mantecato alla veneta su tegole di polenta\, una scientifica e infallibile tecnica di cottura per l’orata al sale e una gustosissima spigola all’acqua pazza.
URL:https://mamamediterraneum.it/lezioni/le-cotture-classiche-del-pesce/
LOCATION:MaMà Mediterraneum\, via di Priscilla 15-17\, Roma\, 00199\, Italia
CATEGORIES:Antipasti,Cucina generale,Per coppie,per esperti,Per principianti,Pesce,Secondi
ATTACH;FMTTYPE=image/jpeg:https://mamamediterraneum.it/wp-content/uploads/2018/12/cotture-classiche.jpg
END:VEVENT
BEGIN:VEVENT
DTSTART;TZID=UTC:20181001T190000
DTEND;TZID=UTC:20181001T220000
DTSTAMP:20260420T183026
CREATED:20180826T120324Z
LAST-MODIFIED:20180826T121429Z
UID:10002020-1538420400-1538431200@mamamediterraneum.it
SUMMARY:Dal bosco alla collina: i sapori autunnali
DESCRIPTION:L’aria autunnale\, più fresca\, ispira nuovi piatti e nuovi accostamenti perfetti per questa stagione\nSarà Serena Melis a guidarvi nella prima lezione del mese di ottobre insegnandovi tre nuove ricette davvero molto interessanti. La brava docente sarda vi stupirà nella preparazione del menu che prevede le linguine con baccalà e nocciole\, un umido di moscardini ai funghi e una bavarese al fico d’India e pistacchi
URL:https://mamamediterraneum.it/lezioni/dal-bosco-alla-collina-i-sapori-autunnali/
LOCATION:MaMà Mediterraneum\, via di Priscilla 15-17\, Roma\, 00199\, Italia
CATEGORIES:Dolci al cucchiaio,Pasta,Per coppie,per esperti,Per principianti,Primi,Secondi
ATTACH;FMTTYPE=image/jpeg:https://mamamediterraneum.it/wp-content/uploads/2018/07/dal-bosco-alla-collina.jpg
END:VEVENT
BEGIN:VEVENT
DTSTART;TZID=UTC:20180528T190000
DTEND;TZID=UTC:20180528T220000
DTSTAMP:20260420T183026
CREATED:20180417T091940Z
LAST-MODIFIED:20180417T140435Z
UID:10001981-1527534000-1527544800@mamamediterraneum.it
SUMMARY:A tutto baccalà
DESCRIPTION:Amatissimo dagli estimatori\, il baccalà ha la capacità di rendere unici i piatti dei quali è protagonista\nIl docente della serata\, Luca De Carli\, vi descriverà le caratteristiche e le qualità specifiche di questo gustosissimo merluzzo conservato sotto sale.  Lo chef declinerà questo ingrediente in tre ricette: raviolo di baccalà e patate su crema di ceci\, spaghetti con baccalà\, olive\, capperi\, pomodori secchi e timo e baccalà alla trasteverina
URL:https://mamamediterraneum.it/lezioni/a-tutto-baccala/
LOCATION:MaMà Mediterraneum\, via di Priscilla 15-17\, Roma\, 00199\, Italia
CATEGORIES:Pasta,Pasta fresca,Pesce,Secondi
ATTACH;FMTTYPE=image/jpeg:https://mamamediterraneum.it/wp-content/uploads/2018/04/baccalà.jpg
END:VEVENT
END:VCALENDAR