BEGIN:VCALENDAR
VERSION:2.0
PRODID:-//Mamamediterraneum - ECPv6.15.18//NONSGML v1.0//EN
CALSCALE:GREGORIAN
METHOD:PUBLISH
X-WR-CALNAME:Mamamediterraneum
X-ORIGINAL-URL:https://mamamediterraneum.it
X-WR-CALDESC:Eventi per Mamamediterraneum
REFRESH-INTERVAL;VALUE=DURATION:PT1H
X-Robots-Tag:noindex
X-PUBLISHED-TTL:PT1H
BEGIN:VTIMEZONE
TZID:Europe/Rome
BEGIN:DAYLIGHT
TZOFFSETFROM:+0100
TZOFFSETTO:+0200
TZNAME:CEST
DTSTART:20190331T010000
END:DAYLIGHT
BEGIN:STANDARD
TZOFFSETFROM:+0200
TZOFFSETTO:+0100
TZNAME:CET
DTSTART:20191027T010000
END:STANDARD
BEGIN:DAYLIGHT
TZOFFSETFROM:+0100
TZOFFSETTO:+0200
TZNAME:CEST
DTSTART:20200329T010000
END:DAYLIGHT
BEGIN:STANDARD
TZOFFSETFROM:+0200
TZOFFSETTO:+0100
TZNAME:CET
DTSTART:20201025T010000
END:STANDARD
BEGIN:DAYLIGHT
TZOFFSETFROM:+0100
TZOFFSETTO:+0200
TZNAME:CEST
DTSTART:20210328T010000
END:DAYLIGHT
BEGIN:STANDARD
TZOFFSETFROM:+0200
TZOFFSETTO:+0100
TZNAME:CET
DTSTART:20211031T010000
END:STANDARD
END:VTIMEZONE
BEGIN:VEVENT
DTSTART;TZID=Europe/Rome:20200702T190000
DTEND;TZID=Europe/Rome:20200702T223000
DTSTAMP:20260423T115142
CREATED:20200619T150049Z
LAST-MODIFIED:20200619T150049Z
UID:10002445-1593716400-1593729000@mamamediterraneum.it
SUMMARY:REPLICA:🔥Il BBQ🔥 ricette di terra e di mare - LEZIONE ALL'APERTO
DESCRIPTION:Solo quello con in coperchio può fregiarsi del nome BBQ! Il termine barbecue sembra derivare dal francese “barbe à queue” che indicherebbe la cottura di un intero animale\, cioè dalla barba alla coda.\nPer questa lezione\, rispettando tutte le normative e il distanziamento sociale\, sfrutteremo il bellissimo giardino ricco di opere d’arte della galleria NAM\, proprio accanto alla nostra scuola. \nPer la lezione verranno utilizzati sia BBQ a carbone che a gas. \nLo chef Aurelio Carraffa\, esperto di cottura al BBQ\, vi traghetterà in questo fantastico mondo di cui\, normalmente\, gli uomini sono padroni. La lezione sarà condotta come cooking show e prevederà una parte teorica ma\, soprattutto\, la parte pratica e di degustazione. \nPer la teoria\, parleremo di: \n\ndifferenza tra BBQ a carbone e a gas\ncottura diretta e cottura indiretta\nl’importanza degli insaporitori e dei sali aromatici\nBBQ all’americana e BBQ alla mediterranea\n\nVerranno preparate le seguenti ricette: \n\ninsaporitori (rub)\nsali aromatici\npollo alla birra\npomodori grigliati con la ricotta \npasta fresca grigliata con caviale di melanzane\nalette di pollo \ncostolette di maiale (ribs)\ncotolette di pesce spatola\ncozze al cartoccio\nananas grigliato con salsa al tamarindo\n\nPerfetta da frequentare o da regalare ad aspiranti fuochisti\, a grigliatori “fai da te” e a chi vuole capire una volta per tutte come cuocere senza carbonizzare e affumicare il quartiere…
URL:https://mamamediterraneum.it/lezioni/il-bbq-ricette-di-terra-e-di-mare-lezione-allaperto-2/
LOCATION:MaMà Mediterraneum\, via di Priscilla 15-17\, Roma\, 00199\, Italia
CATEGORIES:Antipasti,Barbecue,Per coppie,per esperti,Per principianti
ATTACH;FMTTYPE=image/jpeg:https://mamamediterraneum.it/wp-content/uploads/2020/06/BBQ3.jpg
END:VEVENT
BEGIN:VEVENT
DTSTART;TZID=Europe/Rome:20200701T190000
DTEND;TZID=Europe/Rome:20200701T223000
DTSTAMP:20260423T115142
CREATED:20200617T090753Z
LAST-MODIFIED:20200617T102352Z
UID:10002205-1593630000-1593642600@mamamediterraneum.it
SUMMARY:🔥Il BBQ🔥 ricette di terra e di mare - LEZIONE ALL'APERTO
DESCRIPTION:Solo quello con in coperchio può fregiarsi del nome BBQ! Il termine barbecue sembra derivare dal francese “barbe à queue” che indicherebbe la cottura di un intero animale\, cioè dalla barba alla coda.\nPer questa lezione\, rispettando tutte le normative e il distanziamento sociale\, sfrutteremo il bellissimo giardino ricco di opere d’arte della galleria NAM\, proprio accanto alla nostra scuola. \nPer la lezione verranno utilizzati sia BBQ a carbone che a gas. \nLo chef Aurelio Carraffa\, esperto di cottura al BBQ\, vi traghetterà in questo fantastico mondo di cui\, normalmente\, gli uomini sono padroni. La lezione sarà condotta come cooking show e prevederà una parte teorica ma\, soprattutto\, la parte pratica e di degustazione. \nPer la teoria\, parleremo di: \n\ndifferenza tra BBQ a carbone e a gas\ncottura diretta e cottura indiretta\nl’importanza degli insaporitori e dei sali aromatici\nBBQ all’americana e BBQ alla mediterranea\n\nVerranno preparate le seguenti ricette: \n\ninsaporitori (rub)\nsali aromatici\npollo alla birra\npomodori grigliati con la ricotta \npasta fresca grigliata con caviale di melanzane\nalette di pollo \ncostolette di maiale (ribs)\ncotolette di pesce spatola\ncozze al cartoccio\nananas grigliato con salsa al tamarindo\n\nPerfetta da frequentare o da regalare ad aspiranti fuochisti\, a grigliatori “fai da te” e a chi vuole capire una volta per tutte come cuocere senza carbonizzare e affumicare il quartiere…
URL:https://mamamediterraneum.it/lezioni/il-bbq-ricette-di-terra-e-di-mare-lezione-allaperto/
LOCATION:MaMà Mediterraneum\, via di Priscilla 15-17\, Roma\, 00199\, Italia
CATEGORIES:Antipasti,Barbecue,Per coppie,per esperti,Per principianti
ATTACH;FMTTYPE=image/jpeg:https://mamamediterraneum.it/wp-content/uploads/2020/06/BBQ3.jpg
END:VEVENT
END:VCALENDAR