BEGIN:VCALENDAR
VERSION:2.0
PRODID:-//Mamamediterraneum - ECPv6.15.18//NONSGML v1.0//EN
CALSCALE:GREGORIAN
METHOD:PUBLISH
X-ORIGINAL-URL:https://mamamediterraneum.it
X-WR-CALDESC:Eventi per Mamamediterraneum
REFRESH-INTERVAL;VALUE=DURATION:PT1H
X-Robots-Tag:noindex
X-PUBLISHED-TTL:PT1H
BEGIN:VTIMEZONE
TZID:UTC
BEGIN:STANDARD
TZOFFSETFROM:+0000
TZOFFSETTO:+0000
TZNAME:UTC
DTSTART:20220101T000000
END:STANDARD
END:VTIMEZONE
BEGIN:VEVENT
DTSTART;TZID=UTC:20231116T190000
DTEND;TZID=UTC:20231116T220000
DTSTAMP:20260425T172105
CREATED:20231012T140337Z
LAST-MODIFIED:20231013T144959Z
UID:10002796-1700161200-1700172000@mamamediterraneum.it
SUMMARY:A tutta birra!!
DESCRIPTION:Oltre ad essere una gustosa e dissetante bevanda\, la birra è anche un ottimo ingrediente per cucinare\nLe diverse qualità di birra si accostano a ingredienti diversi come il pesce\, le carni bianche o rosse e persino ai dolci. È proprio questo il tema della lezione. Insieme alla Chef Kaba Corapi prepareremo infatti tre deliziose ricette come un risotto alla crema di parmigiano 30 mesi\, riduzione di birra e polvere di caffè; un tenerissimo filetto di manzo speziato\, salsa BBQ alla birra e cipolle brasate e un birramisù di pane
URL:https://mamamediterraneum.it/lezioni/a-tutta-birra-3/
LOCATION:MaMà Mediterraneum\, via di Priscilla 15-17\, Roma\, 00199\, Italia
CATEGORIES:Per coppie,per esperti,Per principianti
ATTACH;FMTTYPE=image/jpeg:https://mamamediterraneum.it/wp-content/uploads/2023/10/birra.jpg
END:VEVENT
END:VCALENDAR