BEGIN:VCALENDAR
VERSION:2.0
PRODID:-//Mamamediterraneum - ECPv6.15.18//NONSGML v1.0//EN
CALSCALE:GREGORIAN
METHOD:PUBLISH
X-ORIGINAL-URL:https://mamamediterraneum.it
X-WR-CALDESC:Eventi per Mamamediterraneum
REFRESH-INTERVAL;VALUE=DURATION:PT1H
X-Robots-Tag:noindex
X-PUBLISHED-TTL:PT1H
BEGIN:VTIMEZONE
TZID:Europe/Rome
BEGIN:DAYLIGHT
TZOFFSETFROM:+0100
TZOFFSETTO:+0200
TZNAME:CEST
DTSTART:20240331T010000
END:DAYLIGHT
BEGIN:STANDARD
TZOFFSETFROM:+0200
TZOFFSETTO:+0100
TZNAME:CET
DTSTART:20241027T010000
END:STANDARD
BEGIN:DAYLIGHT
TZOFFSETFROM:+0100
TZOFFSETTO:+0200
TZNAME:CEST
DTSTART:20250330T010000
END:DAYLIGHT
BEGIN:STANDARD
TZOFFSETFROM:+0200
TZOFFSETTO:+0100
TZNAME:CET
DTSTART:20251026T010000
END:STANDARD
BEGIN:DAYLIGHT
TZOFFSETFROM:+0100
TZOFFSETTO:+0200
TZNAME:CEST
DTSTART:20260329T010000
END:DAYLIGHT
BEGIN:STANDARD
TZOFFSETFROM:+0200
TZOFFSETTO:+0100
TZNAME:CET
DTSTART:20261025T010000
END:STANDARD
END:VTIMEZONE
BEGIN:VEVENT
DTSTART;TZID=Europe/Rome:20250218T190000
DTEND;TZID=Europe/Rome:20250218T220000
DTSTAMP:20260423T103738
CREATED:20250115T073316Z
LAST-MODIFIED:20250115T073316Z
UID:10003073-1739905200-1739916000@mamamediterraneum.it
SUMMARY:Fritti & bollicine
DESCRIPTION:Il fritto è un classico buono da gustare in qualsiasi stagione\nEcco che la nostra Kaba Corapi\, docente della serata\, verserà tanto olio in pentola per farvi realizzare dei fritti fragranti che delizieranno il vostro palato e quello dei vostri commensali. La serata prevede la realizzazione di crocchè di patate\, provola e carciofi di crooccanti strips di pollo croccante e maionese al lime e zenzero per finire con delle golose frittelle di mela e salsa mou ai cristalli di sale \nIl tutto innaffiato da ottime “bollicine”
URL:https://mamamediterraneum.it/lezioni/fritti-bollicine-5/
LOCATION:MaMà Mediterraneum\, via di Priscilla 15-17\, Roma\, 00199\, Italia
CATEGORIES:Cucina generale,Fritti,Per coppie,per esperti,Per principianti
ATTACH;FMTTYPE=image/jpeg:https://mamamediterraneum.it/wp-content/uploads/2025/01/fritti.jpg
END:VEVENT
END:VCALENDAR