BEGIN:VCALENDAR
VERSION:2.0
PRODID:-//Mamamediterraneum - ECPv6.15.18//NONSGML v1.0//EN
CALSCALE:GREGORIAN
METHOD:PUBLISH
X-WR-CALNAME:Mamamediterraneum
X-ORIGINAL-URL:https://mamamediterraneum.it
X-WR-CALDESC:Eventi per Mamamediterraneum
REFRESH-INTERVAL;VALUE=DURATION:PT1H
X-Robots-Tag:noindex
X-PUBLISHED-TTL:PT1H
BEGIN:VTIMEZONE
TZID:UTC
BEGIN:STANDARD
TZOFFSETFROM:+0000
TZOFFSETTO:+0000
TZNAME:UTC
DTSTART:20170101T000000
END:STANDARD
END:VTIMEZONE
BEGIN:VEVENT
DTSTART;TZID=UTC:20251030T190000
DTEND;TZID=UTC:20251030T220000
DTSTAMP:20260423T183657
CREATED:20250914T093315Z
LAST-MODIFIED:20250914T093315Z
UID:10003218-1761850800-1761861600@mamamediterraneum.it
SUMMARY:Focaccia & calzoni
DESCRIPTION:Ecco una lezione che vi darà l’opportunità di imparare a cucinare una ottima focaccia nel forno di casa vostra e di preparare dei gustosissimi calzoni\nCristian Marcellini\, giovane ma già notissimo pizzaiolo romano\, oltre a farvi mettere le mani in pasta\, illustrerà anche la teoria sulla lievitazione e gli impasti\, l’importanza della scelta delle farine e la tecnica di frittura dei calzoni. Le preparazioni di questa utilissima lezione saranno: la vera focaccia e i calzoni nelle due varianti al forno e fritti
URL:https://mamamediterraneum.it/lezioni/focaccia-calzoni-4/
LOCATION:MaMà Mediterraneum\, via di Priscilla 15-17\, Roma\, 00199\, Italia
CATEGORIES:Per coppie,per esperti,Per principianti,Pizza
ATTACH;FMTTYPE=image/jpeg:https://mamamediterraneum.it/wp-content/uploads/2018/04/calzoni.jpg
END:VEVENT
BEGIN:VEVENT
DTSTART;TZID=UTC:20241121T190000
DTEND;TZID=UTC:20241121T220000
DTSTAMP:20260423T183657
CREATED:20241014T075654Z
LAST-MODIFIED:20241014T075654Z
UID:10003010-1732215600-1732226400@mamamediterraneum.it
SUMMARY:Focaccia & calzoni
DESCRIPTION:Ecco una lezione che vi darà l’opportunità di imparare a cucinare una ottima focaccia nel forno di casa vostra e di preparare dei gustosissimi calzoni\nCristian Marcellini\, giovane ma già notissimo pizzaiolo romano\, oltre a farvi mettere le mani in pasta\, illustrerà anche la teoria sulla lievitazione e gli impasti\, l’importanza della scelta delle farine e la tecnica di frittura dei calzoni. Le preparazioni di questa utilissima lezione saranno: la vera focaccia e i calzoni nelle due varianti al forno e fritti
URL:https://mamamediterraneum.it/lezioni/focaccia-calzoni-3/
LOCATION:MaMà Mediterraneum\, via di Priscilla 15-17\, Roma\, 00199\, Italia
CATEGORIES:Per coppie,per esperti,Per principianti,Pizza
ATTACH;FMTTYPE=image/jpeg:https://mamamediterraneum.it/wp-content/uploads/2018/04/calzoni.jpg
END:VEVENT
BEGIN:VEVENT
DTSTART;TZID=UTC:20240125T190000
DTEND;TZID=UTC:20240125T220000
DTSTAMP:20260423T183657
CREATED:20231214T132341Z
LAST-MODIFIED:20231222T093749Z
UID:10002826-1706209200-1706220000@mamamediterraneum.it
SUMMARY:Focaccia & calzoni
DESCRIPTION:Ecco una lezione che vi darà l’opportunità di imparare a cucinare una ottima focaccia nel forno di casa vostra e di preparare dei gustosissimi calzoni\nCristian Marcellini\, giovane ma già notissimo pizzaiolo romano\, oltre a farvi mettere le mani in pasta\, illustrerà anche la teoria sulla lievitazione e gli impasti\, l’importanza della scelta delle farine e la tecnica di frittura dei calzoni. Le preparazioni di questa utilissima lezione saranno: la vera focaccia e i calzoni nelle due varianti al forno e fritti
URL:https://mamamediterraneum.it/lezioni/focaccia-calzoni-2/
LOCATION:MaMà Mediterraneum\, via di Priscilla 15-17\, Roma\, 00199\, Italia
CATEGORIES:Per coppie,per esperti,Per principianti,Pizza
ATTACH;FMTTYPE=image/jpeg:https://mamamediterraneum.it/wp-content/uploads/2018/04/calzoni.jpg
END:VEVENT
BEGIN:VEVENT
DTSTART;TZID=UTC:20221124T190000
DTEND;TZID=UTC:20221124T220000
DTSTAMP:20260423T183657
CREATED:20221012T143332Z
LAST-MODIFIED:20221014T095344Z
UID:10002608-1669316400-1669327200@mamamediterraneum.it
SUMMARY:Focaccia & calzoni
DESCRIPTION:Ecco una lezione che vi darà l’opportunità di imparare a cucinare una ottima focaccia nel forno di casa vostra e di preparare dei gustosissimi calzoni\nCristian Marcellini\, giovane ma già notissimo pizzaiolo romano\, oltre a farvi mettere le mani in pasta\, illustrerà anche la teoria sulla lievitazione e gli impasti\, l’importanza della scelta delle farine e la tecnica di frittura dei calzoni. Le preparazioni di questa utilissima lezione saranno: la vera focaccia e i calzoni nelle due varianti al forno e fritti
URL:https://mamamediterraneum.it/lezioni/focaccia-calzoni/
LOCATION:MaMà Mediterraneum\, via di Priscilla 15-17\, Roma\, 00199\, Italia
CATEGORIES:Per coppie,per esperti,Per principianti,Pizza
ATTACH;FMTTYPE=image/jpeg:https://mamamediterraneum.it/wp-content/uploads/2018/04/calzoni.jpg
END:VEVENT
BEGIN:VEVENT
DTSTART;TZID=UTC:20220310T190000
DTEND;TZID=UTC:20220310T220000
DTSTAMP:20260423T183657
CREATED:20180417T091057Z
LAST-MODIFIED:20220214T135933Z
UID:10002079-1646938800-1646949600@mamamediterraneum.it
SUMMARY:Pizza & calzoni
DESCRIPTION:Ecco una lezione che vi darà l’opportunità di imparare a cucinare una ottima pizza nel forno di casa vostra\nCristian Marcellini\, giovane ma già notissimo pizzaiolo romano\, oltre a farvi mettere le mani in pasta\, illustrerà anche la teoria sulla lievitazione e gli impasti\, l’ importanza della scelta delle farine e la tecnica di frittura dei calzoni. Le preparazioni di questa utilissima lezione saranno: la pizza in teglia con vari tipi di farcitura e i calzoni nelle due varianti al forno e fritti
URL:https://mamamediterraneum.it/lezioni/pizza-e-calzoni/
LOCATION:MaMà Mediterraneum\, via di Priscilla 15-17\, Roma\, 00199\, Italia
CATEGORIES:Per coppie,per esperti,Per principianti,Pizza
ATTACH;FMTTYPE=image/jpeg:https://mamamediterraneum.it/wp-content/uploads/2018/04/calzoni.jpg
END:VEVENT
BEGIN:VEVENT
DTSTART;TZID=UTC:20220110T190000
DTEND;TZID=UTC:20220110T220000
DTSTAMP:20260423T183657
CREATED:20211215T091108Z
LAST-MODIFIED:20220102T175323Z
UID:10002297-1641841200-1641852000@mamamediterraneum.it
SUMMARY:Siamo fritti...
DESCRIPTION:Si sa\, fritta è buona anche una suola di scarpa…\nMa in questa bella lezione lo Chef Roberto Angelitti vi insegnerà a preparare ben altro e con eccellenti risultati. Oltre che delle ricette\, si parlerà di grassi di frittura e temperature di fumo\, ovvero quelle che non vanno mai oltrepassate per ottenere un fritto sano e digeribile. Roberto ci insegnerà a preparare e friggere delle perfette mozzarelle in carrozza\, delle polpette di baccalà su crema di ceci\, dei supplì alla zucca e delle croccantissime frittelle di zucchine alla menta  \nIl tutto verrà innaffiato da bollicine\, fredde al punto giusto…
URL:https://mamamediterraneum.it/lezioni/siamo-fritti-3/
LOCATION:MaMà Mediterraneum\, via di Priscilla 15-17\, Roma\, 00199\, Italia
CATEGORIES:Antipasti,Cucina generale,Fritti,Per coppie,per esperti,Per principianti
ATTACH;FMTTYPE=image/jpeg:https://mamamediterraneum.it/wp-content/uploads/2020/02/fritti-.jpg
END:VEVENT
BEGIN:VEVENT
DTSTART;TZID=UTC:20190516T190000
DTEND;TZID=UTC:20190516T220000
DTSTAMP:20260423T183657
CREATED:20190412T044258Z
LAST-MODIFIED:20190414T123623Z
UID:10002098-1558033200-1558044000@mamamediterraneum.it
SUMMARY:Calzoni e calzoncini
DESCRIPTION:La pizza chiusa non è per tutti\, ma gli estimatori sanno bene che è uno scrigno che racchiude vere bontà. Fritti\, al forno\, salati o dolci\, i calzoni sono buoni sempre\nIl docente Luca Materazzi vi farà mettere letteralmente le mani in pasta per realizzare l’impasto e successivamente vi guiderà nella preparazione delle farce. La serata prevede che vengano realizzati\, oltre a quelli classici\, dei calzoni al forno ripieni di calamaro e patate\, dei calzoni ripieni asparagi\, chorizo\, caprino e ricotta e dei golosissimi calzoncini fritti ripieni di ricotta\, arancia caramellata e gocce di cioccolato
URL:https://mamamediterraneum.it/lezioni/calzoni-e-calzoncini/
LOCATION:MaMà Mediterraneum\, via di Priscilla 15-17\, Roma\, 00199\, Italia
CATEGORIES:Pizza
ATTACH;FMTTYPE=image/jpeg:https://mamamediterraneum.it/wp-content/uploads/2019/04/calzoni.jpg
END:VEVENT
BEGIN:VEVENT
DTSTART;TZID=UTC:20180324T200000
DTEND;TZID=UTC:20180324T230000
DTSTAMP:20260423T183657
CREATED:20180212T135407Z
LAST-MODIFIED:20180212T142506Z
UID:10002053-1521921600-1521932400@mamamediterraneum.it
SUMMARY:Siamo fritti...
DESCRIPTION:Si sa\, fritta è buona anche una suola di scarpa…\nMa in questa bella lezione Luca Materazzi vi insegnerà a preparare ben altro e con eccellenti risultati. Oltre che delle ricette si parlerà di grassi di frittura e temperature di fumo\, ovvero quelle che non vanno mai oltrepassate per ottenere un fritto sano e digeribile. Luca ci insegnerà l’impasto per realizzare dei calzoni con prosciutto e mozzarella\, degli arancini (o arancine) siciliani al burro\, e dei supplì all’amatriciana. \nIl tutto verrà innaffiato da bollicine fredde al punto giusto…
URL:https://mamamediterraneum.it/lezioni/siamo-fritti/
LOCATION:MaMà Mediterraneum\, via di Priscilla 15-17\, Roma\, 00199\, Italia
CATEGORIES:Antipasti,Cucina generale,Fritti,Per coppie,per esperti,Per principianti
ATTACH;FMTTYPE=image/jpeg:https://mamamediterraneum.it/wp-content/uploads/2018/02/fritto.jpg
END:VEVENT
END:VCALENDAR