BEGIN:VCALENDAR
VERSION:2.0
PRODID:-//Mamamediterraneum - ECPv6.15.18//NONSGML v1.0//EN
CALSCALE:GREGORIAN
METHOD:PUBLISH
X-ORIGINAL-URL:https://mamamediterraneum.it
X-WR-CALDESC:Eventi per Mamamediterraneum
REFRESH-INTERVAL;VALUE=DURATION:PT1H
X-Robots-Tag:noindex
X-PUBLISHED-TTL:PT1H
BEGIN:VTIMEZONE
TZID:UTC
BEGIN:STANDARD
TZOFFSETFROM:+0000
TZOFFSETTO:+0000
TZNAME:UTC
DTSTART:20180101T000000
END:STANDARD
END:VTIMEZONE
BEGIN:VEVENT
DTSTART;TZID=UTC:20190704T190000
DTEND;TZID=UTC:20190704T223000
DTSTAMP:20260425T020525
CREATED:20190613T110818Z
LAST-MODIFIED:20190613T114230Z
UID:10002335-1562266800-1562279400@mamamediterraneum.it
SUMMARY:Salutare! Guarire mangiando... con gusto - gluten free
DESCRIPTION:La stagione estiva ci offre una varietà di frutta ed ortaggi colorati\, succosi e rinfrescanti.\nIn questa lezione scopriremo come preparare piatti gustosi\, sani\, nutrienti e senza glutine\, approfondendo le proprietà “salutari” degli ingredienti utilizzati. La chef Camilla Monteduro\, coadiuvata dalla biologa nutrizionista Dott.ssa Michela Troiani\, realizzeranno insieme a voi una serie di ricette che partono dalla tisana del risveglio\, passando per la colazione\, il pranzo\, la cena e persino lo spuntino.
URL:https://mamamediterraneum.it/lezioni/salutare-guarire-mangiando-con-gusto-gluten-free/
LOCATION:MaMà Mediterraneum\, via di Priscilla 15-17\, Roma\, 00199\, Italia
CATEGORIES:Gluten free,intolleranza,menu,per esperti,Per principianti
ATTACH;FMTTYPE=image/jpeg:https://mamamediterraneum.it/wp-content/uploads/2019/06/salutare-2.jpg
END:VEVENT
END:VCALENDAR