BEGIN:VCALENDAR
VERSION:2.0
PRODID:-//Mamamediterraneum - ECPv6.15.18//NONSGML v1.0//EN
CALSCALE:GREGORIAN
METHOD:PUBLISH
X-WR-CALNAME:Mamamediterraneum
X-ORIGINAL-URL:https://mamamediterraneum.it
X-WR-CALDESC:Eventi per Mamamediterraneum
REFRESH-INTERVAL;VALUE=DURATION:PT1H
X-Robots-Tag:noindex
X-PUBLISHED-TTL:PT1H
BEGIN:VTIMEZONE
TZID:Europe/Rome
BEGIN:DAYLIGHT
TZOFFSETFROM:+0100
TZOFFSETTO:+0200
TZNAME:CEST
DTSTART:20190331T010000
END:DAYLIGHT
BEGIN:STANDARD
TZOFFSETFROM:+0200
TZOFFSETTO:+0100
TZNAME:CET
DTSTART:20191027T010000
END:STANDARD
BEGIN:DAYLIGHT
TZOFFSETFROM:+0100
TZOFFSETTO:+0200
TZNAME:CEST
DTSTART:20200329T010000
END:DAYLIGHT
BEGIN:STANDARD
TZOFFSETFROM:+0200
TZOFFSETTO:+0100
TZNAME:CET
DTSTART:20201025T010000
END:STANDARD
BEGIN:DAYLIGHT
TZOFFSETFROM:+0100
TZOFFSETTO:+0200
TZNAME:CEST
DTSTART:20210328T010000
END:DAYLIGHT
BEGIN:STANDARD
TZOFFSETFROM:+0200
TZOFFSETTO:+0100
TZNAME:CET
DTSTART:20211031T010000
END:STANDARD
BEGIN:DAYLIGHT
TZOFFSETFROM:+0100
TZOFFSETTO:+0200
TZNAME:CEST
DTSTART:20220327T010000
END:DAYLIGHT
BEGIN:STANDARD
TZOFFSETFROM:+0200
TZOFFSETTO:+0100
TZNAME:CET
DTSTART:20221030T010000
END:STANDARD
BEGIN:DAYLIGHT
TZOFFSETFROM:+0100
TZOFFSETTO:+0200
TZNAME:CEST
DTSTART:20230326T010000
END:DAYLIGHT
BEGIN:STANDARD
TZOFFSETFROM:+0200
TZOFFSETTO:+0100
TZNAME:CET
DTSTART:20231029T010000
END:STANDARD
BEGIN:DAYLIGHT
TZOFFSETFROM:+0100
TZOFFSETTO:+0200
TZNAME:CEST
DTSTART:20240331T010000
END:DAYLIGHT
BEGIN:STANDARD
TZOFFSETFROM:+0200
TZOFFSETTO:+0100
TZNAME:CET
DTSTART:20241027T010000
END:STANDARD
BEGIN:DAYLIGHT
TZOFFSETFROM:+0100
TZOFFSETTO:+0200
TZNAME:CEST
DTSTART:20250330T010000
END:DAYLIGHT
BEGIN:STANDARD
TZOFFSETFROM:+0200
TZOFFSETTO:+0100
TZNAME:CET
DTSTART:20251026T010000
END:STANDARD
BEGIN:DAYLIGHT
TZOFFSETFROM:+0100
TZOFFSETTO:+0200
TZNAME:CEST
DTSTART:20260329T010000
END:DAYLIGHT
BEGIN:STANDARD
TZOFFSETFROM:+0200
TZOFFSETTO:+0100
TZNAME:CET
DTSTART:20261025T010000
END:STANDARD
END:VTIMEZONE
BEGIN:VTIMEZONE
TZID:UTC
BEGIN:STANDARD
TZOFFSETFROM:+0000
TZOFFSETTO:+0000
TZNAME:UTC
DTSTART:20170101T000000
END:STANDARD
END:VTIMEZONE
BEGIN:VEVENT
DTSTART;TZID=Europe/Rome:20251027T190000
DTEND;TZID=Europe/Rome:20251027T220000
DTSTAMP:20260420T221042
CREATED:20250914T093442Z
LAST-MODIFIED:20250914T093442Z
UID:10003213-1761591600-1761602400@mamamediterraneum.it
SUMMARY:I tesori del bosco
DESCRIPTION:I nostri boschi sono ricchi di tesori come funghi\, bacche e frutti. A volte non ce ne rendiamo conto ma\, nella nostra dieta\, facciamo ampio uso di questi prodotti\nIn questa lezione ne mettiamo insieme diversi e il docente\, Aurelio Carraffa\, ci insegnerà come valorizzarli al meglio preparando con il vostro aiuto tre gustose ricette: un uovo cotto a bassa temperatura con porcini e fonduta di pecorino\, una zuppa di ceci\, finferli e mirtilli\, e un capocollo di maiale con castagne\, ginepro e finocchio selvatico.
URL:https://mamamediterraneum.it/lezioni/i-tesori-del-bosco-3/
LOCATION:MaMà Mediterraneum\, via di Priscilla 15-17\, Roma\, 00199\, Italia
CATEGORIES:Antipasti,Cucina generale,Per coppie,per esperti,Per principianti,Primi,Secondi
ATTACH;FMTTYPE=image/jpeg:https://mamamediterraneum.it/wp-content/uploads/2020/09/tesori-bosco.jpg
END:VEVENT
BEGIN:VEVENT
DTSTART;TZID=Europe/Rome:20251023T190000
DTEND;TZID=Europe/Rome:20251023T220000
DTSTAMP:20260420T221042
CREATED:20250914T093326Z
LAST-MODIFIED:20250915T120010Z
UID:10003217-1761246000-1761256800@mamamediterraneum.it
SUMMARY:Preso in castagna!
DESCRIPTION:Si può certamente dire che le castagne sono uno degli ingredienti più tipici dell’autunno e che\, con il loro sapore\, sono in grado di contribuire a realizzare gustosissimi piatti\nSarà la Chef Kaba Corapi che avrà il compito di svelarvi tutti i trucchi per sceglierle\, cucinarle e per valorizzarne le qualità organolettiche. La lezione prevede la realizzazione di tre piatti\, come: la zuppetta di funghi e castagne al profumo di timo\, degli gnocchetti alle castagne con salsa di cipolla rossa e pecorino e il filetto di maiale con castagne e melagrana
URL:https://mamamediterraneum.it/lezioni/preso-in-castagna-5/
LOCATION:MaMà Mediterraneum\, via di Priscilla 15-17\, Roma\, 00199\, Italia
CATEGORIES:Cucina generale,Per coppie,per esperti,Per principianti
ATTACH;FMTTYPE=image/jpeg:https://mamamediterraneum.it/wp-content/uploads/2021/09/castagne.jpg
END:VEVENT
BEGIN:VEVENT
DTSTART;TZID=Europe/Rome:20241028T190000
DTEND;TZID=Europe/Rome:20241028T220000
DTSTAMP:20260420T221042
CREATED:20240914T145612Z
LAST-MODIFIED:20240914T145612Z
UID:10002993-1730142000-1730152800@mamamediterraneum.it
SUMMARY:Preso in castagna! #3
DESCRIPTION:Si può certamente dire che le castagne sono tra gli ingredienti più tipici dell’autunno e che\, con il loro sapore\, sono in grado di contribuire a realizzare gustosissimi piatti\nSarà la Chef Kaba Corapi che avrà il compito di svelarvi tutti i trucchi per sceglierle\, cucinarle e per valorizzarne le qualità organolettiche. La lezione prevede la realizzazione di tre piatti\, come: una zuppetta di ceci e castagne al rosmarino\, un filetto di vitella con castagne e nocciole al timo\, per finire con un golosissimo mascarpone\, castagne e caffè \n 
URL:https://mamamediterraneum.it/lezioni/preso-in-castagna-3/
LOCATION:MaMà Mediterraneum\, via di Priscilla 15-17\, Roma\, 00199\, Italia
CATEGORIES:Carne,Cucina generale,Dolci al cucchiaio,Per coppie,per esperti,Per principianti
ATTACH;FMTTYPE=image/webp:https://mamamediterraneum.it/wp-content/uploads/2023/09/castagne.webp
END:VEVENT
BEGIN:VEVENT
DTSTART;TZID=Europe/Rome:20231019T190000
DTEND;TZID=Europe/Rome:20231019T220000
DTSTAMP:20260420T221042
CREATED:20230914T085127Z
LAST-MODIFIED:20230915T112724Z
UID:10002765-1697742000-1697752800@mamamediterraneum.it
SUMMARY:Preso in castagna! #2
DESCRIPTION:Si può certamente dire che le castagne sono tra gli ingredienti più tipici dell’autunno e che\, con il loro sapore\, sono in grado di contribuire a realizzare gustosissimi piatti\nSarà la Chef Kaba Corapi che avrà il compito di svelarvi tutti i trucchi per sceglierle\, cucinarle e per valorizzarne le qualità organolettiche. La lezione prevede la realizzazione di tre piatti\, come: una vellutata di patate con finferli\, castagne e nocciole; degli gnocchetti di castagne\, salsa di cipolla rossa e pecorino; per finire con dei tounedos di maiale con castagne e melagrana
URL:https://mamamediterraneum.it/lezioni/preso-in-castagna-2-2/
LOCATION:MaMà Mediterraneum\, via di Priscilla 15-17\, Roma\, 00199\, Italia
CATEGORIES:Cucina generale,Per coppie,per esperti,Per principianti
ATTACH;FMTTYPE=image/jpeg:https://mamamediterraneum.it/wp-content/uploads/2021/09/castagne.jpg
END:VEVENT
BEGIN:VEVENT
DTSTART;TZID=Europe/Rome:20231016T190000
DTEND;TZID=Europe/Rome:20231016T220000
DTSTAMP:20260420T221042
CREATED:20230912T142831Z
LAST-MODIFIED:20230914T134134Z
UID:10002758-1697482800-1697493600@mamamediterraneum.it
SUMMARY:I tesori del bosco #2
DESCRIPTION:I nostri boschi sono ricchi di tesori come funghi\, bacche e frutti. A volte non ce ne rendiamo conto ma\, nella nostra dieta\, facciamo ampio uso di questi prodotti\nIn questa lezione ne mettiamo insieme diversi e il docente\, Aurelio Carraffa\, ci insegnerà come valorizzarli al meglio preparando con il vostro aiuto tre gustose ricette: un risotto con porcini e mirtilli\, un tortino di porcini e topinambur\, e una golosissima faraona al latte con castagne e prugne
URL:https://mamamediterraneum.it/lezioni/i-tesori-del-bosco-2/
LOCATION:MaMà Mediterraneum\, via di Priscilla 15-17\, Roma\, 00199\, Italia
CATEGORIES:Antipasti,Cucina generale,Per coppie,per esperti,Per principianti,Primi,Secondi
ATTACH;FMTTYPE=image/jpeg:https://mamamediterraneum.it/wp-content/uploads/2020/09/tesori-bosco.jpg
END:VEVENT
BEGIN:VEVENT
DTSTART;TZID=Europe/Rome:20221110T190000
DTEND;TZID=Europe/Rome:20221110T220000
DTSTAMP:20260420T221042
CREATED:20210914T095907Z
LAST-MODIFIED:20221014T095428Z
UID:10002516-1668106800-1668117600@mamamediterraneum.it
SUMMARY:Preso in castagna!
DESCRIPTION:Si può certamente dire che le castagne sono uno degli ingredienti più tipici dell’autunno e che\, con il loro sapore\, sono in grado di contribuire a realizzare gustosissimi piatti\nSarà la Chef Kaba Corapi che avrà il compito di svelarvi tutti i trucchi per sceglierle\, cucinarle e per valorizzarne le qualità organolettiche. La lezione prevede la realizzazione di tre piatti\, come: la minestra di ceci\, castagne e pasta “ammiscata”\, il filetto di vitella con funghi e castagne e il mascarpone con castagne e crema di caffè
URL:https://mamamediterraneum.it/lezioni/preso-in-castagna-2/
LOCATION:MaMà Mediterraneum\, via di Priscilla 15-17\, Roma\, 00199\, Italia
CATEGORIES:Cucina generale,Per coppie,per esperti,Per principianti
ATTACH;FMTTYPE=image/jpeg:https://mamamediterraneum.it/wp-content/uploads/2021/09/castagne.jpg
END:VEVENT
BEGIN:VEVENT
DTSTART;TZID=Europe/Rome:20201028T190000
DTEND;TZID=Europe/Rome:20201028T220000
DTSTAMP:20260420T221042
CREATED:20200914T091419Z
LAST-MODIFIED:20200914T101255Z
UID:10002466-1603911600-1603922400@mamamediterraneum.it
SUMMARY:I tesori del bosco
DESCRIPTION:I nostri boschi sono ricchi di tesori come funghi\, bacche e frutti. A volte non ce ne rendiamo conto ma\, nella nostra dieta\, facciamo ampio uso di questi prodotti\nIn questa lezione ne mettiamo insieme diversi e il docente\, Aurelio Carraffa\, ci insegnerà come valorizzarli al meglio preparando con il vostro aiuto tre gustose ricette: un uovo cotto a bassa temperatura con porcini e fonduta di pecorino\, una zuppa di ceci\, finferli e mirtilli\, e un capocollo di maiale con castagne\, ginepro e finocchio selvatico.
URL:https://mamamediterraneum.it/lezioni/i-tesori-del-bosco/
LOCATION:MaMà Mediterraneum\, via di Priscilla 15-17\, Roma\, 00199\, Italia
CATEGORIES:Antipasti,Cucina generale,Per coppie,per esperti,Per principianti,Primi,Secondi
ATTACH;FMTTYPE=image/jpeg:https://mamamediterraneum.it/wp-content/uploads/2020/09/tesori-bosco.jpg
END:VEVENT
BEGIN:VEVENT
DTSTART;TZID=UTC:20181121T190000
DTEND;TZID=UTC:20181121T220000
DTSTAMP:20260420T221042
CREATED:20181014T105740Z
LAST-MODIFIED:20181014T140523Z
UID:10002169-1542826800-1542837600@mamamediterraneum.it
SUMMARY:Cucina & vini: le castagne
DESCRIPTION:Continua la fortunata serie di lezioni di cucina su temi stagionali in abbinamento con i vini\nLo chef Aurelio Carraffa con la sommelier Clara Montesanto terreno questa interessante lezione nella quale verranno abbinati e presentati tre vini ad altrettante ricette salate che avranno come ingrediente principale le castagne.
URL:https://mamamediterraneum.it/lezioni/cucina-vini-le-castagne/
LOCATION:MaMà Mediterraneum\, via di Priscilla 15-17\, Roma\, 00199\, Italia
CATEGORIES:Cucina e vini,Per coppie,per esperti,Per principianti
ATTACH;FMTTYPE=image/jpeg:https://mamamediterraneum.it/wp-content/uploads/2018/10/castagne.jpg
END:VEVENT
BEGIN:VEVENT
DTSTART;TZID=UTC:20181018T190000
DTEND;TZID=UTC:20181018T220000
DTSTAMP:20260420T221042
CREATED:20180826T133635Z
LAST-MODIFIED:20180826T133635Z
UID:10002145-1539889200-1539900000@mamamediterraneum.it
SUMMARY:Mare e monti: la cucina di mare incontra il bosco
DESCRIPTION:Sbaglia chi crede che accostare il pesce con ingredienti di terra sia un errore soprattutto se si tratta di frutta secca e frutti del bosco\nSarà compito di Serena Melis quello di dimostrarvi che il croccante di mandorle e noci o il sapore e la pastosità della castagna non sposino quello dei frutti del mare. Per fare ciò avrà a disposizione tre ricette: frutti di mare alle mandorle e paprika\, riso con spigola e castagne alla vaniglia e alici con mousse di noci
URL:https://mamamediterraneum.it/lezioni/mare-e-monti-la-cucina-di-mare-incontra-il-bosco/
LOCATION:MaMà Mediterraneum\, via di Priscilla 15-17\, Roma\, 00199\, Italia
CATEGORIES:Antipasti,Per coppie,per esperti,Per principianti,Pesce,Primi,riso,Secondi
ATTACH;FMTTYPE=image/jpeg:https://mamamediterraneum.it/wp-content/uploads/2018/08/mare-e-monti.jpg
END:VEVENT
END:VCALENDAR