BEGIN:VCALENDAR
VERSION:2.0
PRODID:-//Mamamediterraneum - ECPv6.15.18//NONSGML v1.0//EN
CALSCALE:GREGORIAN
METHOD:PUBLISH
X-WR-CALNAME:Mamamediterraneum
X-ORIGINAL-URL:https://mamamediterraneum.it
X-WR-CALDESC:Eventi per Mamamediterraneum
REFRESH-INTERVAL;VALUE=DURATION:PT1H
X-Robots-Tag:noindex
X-PUBLISHED-TTL:PT1H
BEGIN:VTIMEZONE
TZID:Europe/Rome
BEGIN:DAYLIGHT
TZOFFSETFROM:+0100
TZOFFSETTO:+0200
TZNAME:CEST
DTSTART:20210328T010000
END:DAYLIGHT
BEGIN:STANDARD
TZOFFSETFROM:+0200
TZOFFSETTO:+0100
TZNAME:CET
DTSTART:20211031T010000
END:STANDARD
BEGIN:DAYLIGHT
TZOFFSETFROM:+0100
TZOFFSETTO:+0200
TZNAME:CEST
DTSTART:20220327T010000
END:DAYLIGHT
BEGIN:STANDARD
TZOFFSETFROM:+0200
TZOFFSETTO:+0100
TZNAME:CET
DTSTART:20221030T010000
END:STANDARD
BEGIN:DAYLIGHT
TZOFFSETFROM:+0100
TZOFFSETTO:+0200
TZNAME:CEST
DTSTART:20230326T010000
END:DAYLIGHT
BEGIN:STANDARD
TZOFFSETFROM:+0200
TZOFFSETTO:+0100
TZNAME:CET
DTSTART:20231029T010000
END:STANDARD
BEGIN:DAYLIGHT
TZOFFSETFROM:+0100
TZOFFSETTO:+0200
TZNAME:CEST
DTSTART:20240331T010000
END:DAYLIGHT
BEGIN:STANDARD
TZOFFSETFROM:+0200
TZOFFSETTO:+0100
TZNAME:CET
DTSTART:20241027T010000
END:STANDARD
BEGIN:DAYLIGHT
TZOFFSETFROM:+0100
TZOFFSETTO:+0200
TZNAME:CEST
DTSTART:20250330T010000
END:DAYLIGHT
BEGIN:STANDARD
TZOFFSETFROM:+0200
TZOFFSETTO:+0100
TZNAME:CET
DTSTART:20251026T010000
END:STANDARD
BEGIN:DAYLIGHT
TZOFFSETFROM:+0100
TZOFFSETTO:+0200
TZNAME:CEST
DTSTART:20260329T010000
END:DAYLIGHT
BEGIN:STANDARD
TZOFFSETFROM:+0200
TZOFFSETTO:+0100
TZNAME:CET
DTSTART:20261025T010000
END:STANDARD
END:VTIMEZONE
BEGIN:VTIMEZONE
TZID:UTC
BEGIN:STANDARD
TZOFFSETFROM:+0000
TZOFFSETTO:+0000
TZNAME:UTC
DTSTART:20170101T000000
END:STANDARD
END:VTIMEZONE
BEGIN:VEVENT
DTSTART;TZID=Europe/Rome:20250715T190000
DTEND;TZID=Europe/Rome:20250715T220000
DTSTAMP:20260419T221940
CREATED:20250614T153050Z
LAST-MODIFIED:20250614T153050Z
UID:10003185-1752606000-1752616800@mamamediterraneum.it
SUMMARY:Una fresca cena in terrazza
DESCRIPTION:Con l’arrivo del caldo estivo arriva sempre la nostra voglia di trovare ristoro e freschezza anche in ciò che che gustiamo\, magari in terrazza con i nostri amici\nLa Chef Kaba Corapi sarà felice di accogliervi e di tenervi compagnia realizzando insieme a voi tre interessantissime ricette adatte per la stagione. La prima  ricetta sarà una deliziosa insalatina di seppie all’eoliana\, seguiranno delle mezze maniche al pesto aromatico di ortaggi per finire con delle gustose polpette di lenticchie rosse\, menta e limone
URL:https://mamamediterraneum.it/lezioni/una-fresca-cena-in-terrazza-4/
LOCATION:MaMà Mediterraneum\, via di Priscilla 15-17\, Roma\, 00199\, Italia
CATEGORIES:Antipasti,Cucina generale,Pasta,Per coppie,per esperti,Per principianti,Primi,Secondi
ATTACH;FMTTYPE=image/jpeg:https://mamamediterraneum.it/wp-content/uploads/2022/06/cena-terrazza.jpg
END:VEVENT
BEGIN:VEVENT
DTSTART;TZID=Europe/Rome:20240718T190000
DTEND;TZID=Europe/Rome:20240718T220000
DTSTAMP:20260419T221940
CREATED:20240613T141128Z
LAST-MODIFIED:20240613T141128Z
UID:10002956-1721329200-1721340000@mamamediterraneum.it
SUMMARY:Una fresca cena in terrazza
DESCRIPTION:Con l’arrivo del caldo estivo arriva sempre la nostra voglia di trovare ristoro e freschezza anche in ciò che che gustiamo\, magari in terrazza con i nostri amici\nLa Chef Kaba Corapi sarà felice di accogliervi e di tenervi compagnia realizzando insieme a voi tre interessantissime ricette adatte per la stagione. La prima  ricetta sarà quella dei crostini con crema di melanzane arrostite\, uova e zafferano\, seguiranno delle mezze maniche con pomodorini infornati ed erbe aromatiche per finire con dei gustosi scrigni di pesce bianco all’ isolana
URL:https://mamamediterraneum.it/lezioni/una-fresca-cena-in-terrazza-3/
LOCATION:MaMà Mediterraneum\, via di Priscilla 15-17\, Roma\, 00199\, Italia
CATEGORIES:Antipasti,Cucina generale,Pasta,Per coppie,per esperti,Per principianti
ATTACH;FMTTYPE=image/jpeg:https://mamamediterraneum.it/wp-content/uploads/2022/06/cena-terrazza.jpg
END:VEVENT
BEGIN:VEVENT
DTSTART;TZID=Europe/Rome:20220712T190000
DTEND;TZID=Europe/Rome:20220712T220000
DTSTAMP:20260419T221940
CREATED:20220614T093736Z
LAST-MODIFIED:20220614T133000Z
UID:10002588-1657652400-1657663200@mamamediterraneum.it
SUMMARY:Una fresca cena in terrazza
DESCRIPTION:Con l’arrivo del caldo estivo arriva sempre la nostra voglia di trovare ristoro e freschezza anche in ciò che che gustiamo\, magari in terrazza con i nostri amici\nLo Chef Aurelio Carraffa sarà felice di accogliervi e di tenervi compagnia realizzando insieme a voi quattro interessantissime ricette adatte per la stagione. La prima sarà un mozzafico\, uno straordinario antipasto a base di fichi e mozzarella\, seguirà una parmigiana al bicchiere con stracciatella e pomodori confit\, un timballo di paccheri con piselli\, zucchine\, zenzero e menta e i famosissimi calamaretti ripieni di ricotta\, limone e colatura di alici dello Chef Carraffa
URL:https://mamamediterraneum.it/lezioni/una-fresca-cena-in-terrazza-2/
LOCATION:MaMà Mediterraneum\, via di Priscilla 15-17\, Roma\, 00199\, Italia
CATEGORIES:Antipasti,Cucina generale,Pasta,per esperti,Per principianti,verdure
ATTACH;FMTTYPE=image/jpeg:https://mamamediterraneum.it/wp-content/uploads/2022/06/cena-terrazza.jpg
END:VEVENT
BEGIN:VEVENT
DTSTART;TZID=UTC:20210615T190000
DTEND;TZID=UTC:20210615T220000
DTSTAMP:20260419T221940
CREATED:20180417T085108Z
LAST-MODIFIED:20210518T141236Z
UID:10002077-1623783600-1623794400@mamamediterraneum.it
SUMMARY:Una cena in terrazza
DESCRIPTION:Eccoci pronti per allestire le nostre terrazze e preparare delle conviviali cene tra amici\nLe temperature serali si alzano e anche le ricette devono adeguarsi alla stagione calda e alla convivialità della serata. Realizzeremo piatti facilmente realizzabili\, alcuni anche in anticipo\, e che saranno sicuramente molto apprezzati dai nostri ospiti: una insalata di melanzane con pane croccante e menta\, degli spaghetti alla carbonara di mare e degli involtini di pescespada alla calabrese
URL:https://mamamediterraneum.it/lezioni/una-cena-in-terrazza/
LOCATION:MaMà Mediterraneum\, via di Priscilla 15-17\, Roma\, 00199\, Italia
CATEGORIES:Antipasti,menu,Pasta,Per coppie,per esperti,Per principianti,Pesce
ATTACH;FMTTYPE=image/jpeg:https://mamamediterraneum.it/wp-content/uploads/2018/04/terrazza.jpg
END:VEVENT
BEGIN:VEVENT
DTSTART;TZID=UTC:20180717T190000
DTEND;TZID=UTC:20180717T190000
DTSTAMP:20260419T221940
CREATED:20180615T144228Z
LAST-MODIFIED:20180615T144228Z
UID:10002109-1531854000-1531854000@mamamediterraneum.it
SUMMARY:cena di una sera di mezza estate
DESCRIPTION:Cosa c’è di più gradevole di invitare degli amici a cena e preparare loro dei piatti freschi e gustosi? La serata inizierà bene e metterà tutti di buon umore favorendo la convivialità e il piacere di ritrovarsi insieme.\nLe brave Antonella Comite e Paola Lanini\, alias Cuoche che Passione\, hanno studiato un menu perfetto per una cena tra amici. Le due docenti vi seguiranno passo passo nella preparazione di un finger food di crema fredda di melone con spiedini al prosciutto\, un anello di riso freddo con cozze e olive di Gaeta e un millefoglie di patate\, pomodori e gamberoni. \n 
URL:https://mamamediterraneum.it/lezioni/cena-di-una-sera-di-mezza-estate/
LOCATION:MaMà Mediterraneum\, via di Priscilla 15-17\, Roma\, 00199\, Italia
CATEGORIES:Antipasti,Per coppie,per esperti,Per principianti,Pesce,Primi,riso,Secondi
ATTACH;FMTTYPE=image/jpeg:https://mamamediterraneum.it/wp-content/uploads/2018/06/serata-estate.jpg
END:VEVENT
END:VCALENDAR