BEGIN:VCALENDAR
VERSION:2.0
PRODID:-//Mamamediterraneum - ECPv6.15.18//NONSGML v1.0//EN
CALSCALE:GREGORIAN
METHOD:PUBLISH
X-WR-CALNAME:Mamamediterraneum
X-ORIGINAL-URL:https://mamamediterraneum.it
X-WR-CALDESC:Eventi per Mamamediterraneum
REFRESH-INTERVAL;VALUE=DURATION:PT1H
X-Robots-Tag:noindex
X-PUBLISHED-TTL:PT1H
BEGIN:VTIMEZONE
TZID:Europe/Rome
BEGIN:DAYLIGHT
TZOFFSETFROM:+0100
TZOFFSETTO:+0200
TZNAME:CEST
DTSTART:20210328T010000
END:DAYLIGHT
BEGIN:STANDARD
TZOFFSETFROM:+0200
TZOFFSETTO:+0100
TZNAME:CET
DTSTART:20211031T010000
END:STANDARD
BEGIN:DAYLIGHT
TZOFFSETFROM:+0100
TZOFFSETTO:+0200
TZNAME:CEST
DTSTART:20220327T010000
END:DAYLIGHT
BEGIN:STANDARD
TZOFFSETFROM:+0200
TZOFFSETTO:+0100
TZNAME:CET
DTSTART:20221030T010000
END:STANDARD
BEGIN:DAYLIGHT
TZOFFSETFROM:+0100
TZOFFSETTO:+0200
TZNAME:CEST
DTSTART:20230326T010000
END:DAYLIGHT
BEGIN:STANDARD
TZOFFSETFROM:+0200
TZOFFSETTO:+0100
TZNAME:CET
DTSTART:20231029T010000
END:STANDARD
END:VTIMEZONE
BEGIN:VEVENT
DTSTART;TZID=Europe/Rome:20220311T190000
DTEND;TZID=Europe/Rome:20220311T220000
DTSTAMP:20260423T175910
CREATED:20220211T104452Z
LAST-MODIFIED:20220214T140042Z
UID:10002555-1647025200-1647036000@mamamediterraneum.it
SUMMARY:Le conchiglie\, scrigni di bontà
DESCRIPTION:Possono essere più o meno grandi\, ma al loro interno tutte le conchiglie di mare\, contengono preziosi molluschi carichi di sapore\nSarà compito della docente della serata\, Kaba Corapi\, quello di svelarvi tutti i segreti per valorizzare questi molluschi bivalvi che\, se ben cucinati\, ci regalano sapori straordinari. La nostra Chef vi insegnerà a realizzare tre particolarissimi piatti che\, solo a leggerne i nomi\, provocano l’acquolina in bocca: una tempura di cannolicchi con salsa all’aglio nero\, una fregola con le cozze marinate e la loro maionese e un maiale con le vongole all’alentejana.
URL:https://mamamediterraneum.it/lezioni/le-conchiglie-scrigni-di-bonta/
LOCATION:MaMà Mediterraneum\, via di Priscilla 15-17\, Roma\, 00199\, Italia
CATEGORIES:Per coppie,per esperti,Per principianti,Pesce,Secondi
ATTACH;FMTTYPE=image/jpeg:https://mamamediterraneum.it/wp-content/uploads/2022/02/conchiglie.jpg
END:VEVENT
END:VCALENDAR