BEGIN:VCALENDAR
VERSION:2.0
PRODID:-//Mamamediterraneum - ECPv6.15.18//NONSGML v1.0//EN
CALSCALE:GREGORIAN
METHOD:PUBLISH
X-WR-CALNAME:Mamamediterraneum
X-ORIGINAL-URL:https://mamamediterraneum.it
X-WR-CALDESC:Eventi per Mamamediterraneum
REFRESH-INTERVAL;VALUE=DURATION:PT1H
X-Robots-Tag:noindex
X-PUBLISHED-TTL:PT1H
BEGIN:VTIMEZONE
TZID:Europe/Rome
BEGIN:DAYLIGHT
TZOFFSETFROM:+0100
TZOFFSETTO:+0200
TZNAME:CEST
DTSTART:20190331T010000
END:DAYLIGHT
BEGIN:STANDARD
TZOFFSETFROM:+0200
TZOFFSETTO:+0100
TZNAME:CET
DTSTART:20191027T010000
END:STANDARD
BEGIN:DAYLIGHT
TZOFFSETFROM:+0100
TZOFFSETTO:+0200
TZNAME:CEST
DTSTART:20200329T010000
END:DAYLIGHT
BEGIN:STANDARD
TZOFFSETFROM:+0200
TZOFFSETTO:+0100
TZNAME:CET
DTSTART:20201025T010000
END:STANDARD
BEGIN:DAYLIGHT
TZOFFSETFROM:+0100
TZOFFSETTO:+0200
TZNAME:CEST
DTSTART:20210328T010000
END:DAYLIGHT
BEGIN:STANDARD
TZOFFSETFROM:+0200
TZOFFSETTO:+0100
TZNAME:CET
DTSTART:20211031T010000
END:STANDARD
END:VTIMEZONE
BEGIN:VEVENT
DTSTART;TZID=Europe/Rome:20200612T190000
DTEND;TZID=Europe/Rome:20200612T203000
DTSTAMP:20260420T024209
CREATED:20200522T090315Z
LAST-MODIFIED:20200522T113249Z
UID:10002198-1591988400-1591993800@mamamediterraneum.it
SUMMARY:Le confetture di Gianluca Forino
DESCRIPTION:L’estate è la stagione migliore per preparare le confetture grazie alla grande quantità di frutta maturata al sole e disponibile sui banchi del mercato\nIn questa lezione online il nostro pastry Chef Gianluca Forino\, avrà molto da far bollire in pentola per insegnarvi a preparare una perfetta marmellata di albicocche\, una confettura di arance amare\, una di cipolle rosse e una mostarda di fichi
URL:https://mamamediterraneum.it/lezioni/le-confetture-di-gianluca-forino/
LOCATION:on-line
CATEGORIES:Cucina generale
ATTACH;FMTTYPE=image/jpeg:https://mamamediterraneum.it/wp-content/uploads/2020/05/confetture.jpg
END:VEVENT
END:VCALENDAR