BEGIN:VCALENDAR
VERSION:2.0
PRODID:-//Mamamediterraneum - ECPv6.15.18//NONSGML v1.0//EN
CALSCALE:GREGORIAN
METHOD:PUBLISH
X-WR-CALNAME:Mamamediterraneum
X-ORIGINAL-URL:https://mamamediterraneum.it
X-WR-CALDESC:Eventi per Mamamediterraneum
REFRESH-INTERVAL;VALUE=DURATION:PT1H
X-Robots-Tag:noindex
X-PUBLISHED-TTL:PT1H
BEGIN:VTIMEZONE
TZID:UTC
BEGIN:STANDARD
TZOFFSETFROM:+0000
TZOFFSETTO:+0000
TZNAME:UTC
DTSTART:20180101T000000
END:STANDARD
END:VTIMEZONE
BEGIN:VTIMEZONE
TZID:Europe/Rome
BEGIN:DAYLIGHT
TZOFFSETFROM:+0100
TZOFFSETTO:+0200
TZNAME:CEST
DTSTART:20190331T010000
END:DAYLIGHT
BEGIN:STANDARD
TZOFFSETFROM:+0200
TZOFFSETTO:+0100
TZNAME:CET
DTSTART:20191027T010000
END:STANDARD
BEGIN:DAYLIGHT
TZOFFSETFROM:+0100
TZOFFSETTO:+0200
TZNAME:CEST
DTSTART:20200329T010000
END:DAYLIGHT
BEGIN:STANDARD
TZOFFSETFROM:+0200
TZOFFSETTO:+0100
TZNAME:CET
DTSTART:20201025T010000
END:STANDARD
BEGIN:DAYLIGHT
TZOFFSETFROM:+0100
TZOFFSETTO:+0200
TZNAME:CEST
DTSTART:20210328T010000
END:DAYLIGHT
BEGIN:STANDARD
TZOFFSETFROM:+0200
TZOFFSETTO:+0100
TZNAME:CET
DTSTART:20211031T010000
END:STANDARD
END:VTIMEZONE
BEGIN:VEVENT
DTSTART;TZID=UTC:20260413T190000
DTEND;TZID=UTC:20260413T220000
DTSTAMP:20260421T092325
CREATED:20260314T085215Z
LAST-MODIFIED:20260314T085215Z
UID:10003339-1776106800-1776117600@mamamediterraneum.it
SUMMARY:In viaggio con le spezie: la cucina Indiana
DESCRIPTION:La cucina indiana sa regalarci aromi e sapori\, a volte inaspettati\, grazie alla sapiente miscelazione delle spezie\nSi tratta di una delle cucine più apprezzate al mondo\, che sa valorizzare ingredienti vegetali e non\, assicurando risultati culinari esaltanti. Sarà lo Chef Aurelio Carraffa a introdurvi in questo mondo profumato dai curry\, o meglio\, dai masala\, e guidandovi meticolosamente durante la preparazione di queste nuove ricette. Realizzeremo e gusteremo insieme un curry di dahl e manzo Madras\, il famoso chicken tikka masala – pollo con yogurt speziato\, che verranno accompagnati da un profumatissimo riso al ghee e il famoso pane chapati. \nDa non perdere!
URL:https://mamamediterraneum.it/lezioni/in-viaggio-con-le-spezie-la-cucina-indiana-2/
LOCATION:MaMà Mediterraneum\, via di Priscilla 15-17\, Roma\, 00199\, Italia
CATEGORIES:Etnica,Per coppie,per esperti,Per principianti,Piatto unico
ATTACH;FMTTYPE=image/jpeg:https://mamamediterraneum.it/wp-content/uploads/2026/03/indiana.jpg
END:VEVENT
BEGIN:VEVENT
DTSTART;TZID=UTC:20250317T190000
DTEND;TZID=UTC:20250317T220000
DTSTAMP:20260421T092325
CREATED:20250214T143957Z
LAST-MODIFIED:20250214T143957Z
UID:10003089-1742238000-1742248800@mamamediterraneum.it
SUMMARY:In viaggio con le spezie: la cucina Indiana
DESCRIPTION:La cucina indiana sa regalarci aromi e sapori\, a volte inaspettati\, grazie alla sapiente miscelazione delle spezie\nSi tratta di una delle cucine più apprezzate al mondo\, che sa valorizzare ingredienti vegetali e non\, assicurando risultati culinari esaltanti. Sarà lo Chef Aurelio Carraffa a introdurvi in questo mondo profumato dai curry\, o meglio\, dai masala\, e guidandovi meticolosamente durante la preparazione di tre gustosissime pietanze. Realizzeremo e gusteremo insieme una curry tandoori di verdure\, un moghlai murgh – pollo con yogurt speziato\, che verranno accompagnati da un profumatissimo  riso pilaf all’indiana. \nDa non perdere!
URL:https://mamamediterraneum.it/lezioni/in-viaggio-con-le-spezie-la-cucina-indiana/
LOCATION:MaMà Mediterraneum\, via di Priscilla 15-17\, Roma\, 00199\, Italia
CATEGORIES:Etnica,Per coppie,per esperti,Per principianti,Piatto unico
ATTACH;FMTTYPE=image/jpeg:https://mamamediterraneum.it/wp-content/uploads/2025/02/indiana.jpg
END:VEVENT
BEGIN:VEVENT
DTSTART;TZID=Europe/Rome:20200604T190000
DTEND;TZID=Europe/Rome:20200604T203000
DTSTAMP:20260421T092325
CREATED:20200521T180315Z
LAST-MODIFIED:20200523T072210Z
UID:10002442-1591297200-1591302600@mamamediterraneum.it
SUMMARY:Un salto in India... con Andrea Misseri
DESCRIPTION:La cucina indiana è tra le più rinomate\, complesse ed apprezzate in assoluto. Con l’uso sapiente delle spezie\, il cui uso varia di regione in regione\, si preparano pietanze deliziose di carne\, di pesce e vegetariane\nIn questo viaggio vi accompagnerà uno Chef che in India ha lavorato molto e che conosce alla perfezione tutti i segreti della sua cucina. Sarà Andrea Misseri il padrone di casa che in questa lezione online vi insegnerà come preparare un fish caldin\, ovvero un curry verde di pesce con riso basmati\, una raita con pomodori e cetrioli e la vera chutney di mango
URL:https://mamamediterraneum.it/lezioni/un-salto-in-india-con-andrea-misseri/
LOCATION:on-line
CATEGORIES:Etnica,per esperti,Per principianti,Pesce
ATTACH;FMTTYPE=image/jpeg:https://mamamediterraneum.it/wp-content/uploads/2020/05/indiana.jpg
END:VEVENT
BEGIN:VEVENT
DTSTART;TZID=UTC:20190307T190000
DTEND;TZID=UTC:20190307T220000
DTSTAMP:20260421T092325
CREATED:20190213T083805Z
LAST-MODIFIED:20190214T154754Z
UID:10002234-1551985200-1551996000@mamamediterraneum.it
SUMMARY:La cucina Indiana
DESCRIPTION:La cucina indiana sa regalarci profumi e sapori\, a volte inaspettati\, grazie alla sapiente miscelazione delle spezie\nSarà lo chef Luca Materazzi a introdurvi in questo mondo profumato dai curry e dai masala\, guidandovi meticolosamente durante la preparazione di tre gustosissime pietanze. Realizzeremo e gusteremo insieme una zuppa Dahl\, dei cheese samosa\, un pollo tikka masala e dei cheese naan.
URL:https://mamamediterraneum.it/lezioni/la-cucina-indiana/
LOCATION:MaMà Mediterraneum\, via di Priscilla 15-17\, Roma\, 00199\, Italia
CATEGORIES:Antipasti,Etnica,Per coppie,per esperti,Per principianti
ATTACH;FMTTYPE=image/jpeg:https://mamamediterraneum.it/wp-content/uploads/2019/02/indiana.jpg
END:VEVENT
END:VCALENDAR