BEGIN:VCALENDAR
VERSION:2.0
PRODID:-//Mamamediterraneum - ECPv6.15.18//NONSGML v1.0//EN
CALSCALE:GREGORIAN
METHOD:PUBLISH
X-ORIGINAL-URL:https://mamamediterraneum.it
X-WR-CALDESC:Eventi per Mamamediterraneum
REFRESH-INTERVAL;VALUE=DURATION:PT1H
X-Robots-Tag:noindex
X-PUBLISHED-TTL:PT1H
BEGIN:VTIMEZONE
TZID:UTC
BEGIN:STANDARD
TZOFFSETFROM:+0000
TZOFFSETTO:+0000
TZNAME:UTC
DTSTART:20230101T000000
END:STANDARD
END:VTIMEZONE
BEGIN:VEVENT
DTSTART;TZID=UTC:20240617T190000
DTEND;TZID=UTC:20240617T220000
DTSTAMP:20260423T034813
CREATED:20240514T124924Z
LAST-MODIFIED:20240514T124924Z
UID:10002939-1718650800-1718661600@mamamediterraneum.it
SUMMARY:Delizie estive semifredde
DESCRIPTION:Non sono gelati ma nemmeno semplici dolci. I semifreddi sono deliziose preparazioni da gustare a fine pasto\nLa nostra brava docente Maria Paola Rescio preparerà tutto l’occorrente per insegnarvi a realizzare tre gustosissime ricette. Preparazioni semplici ma che richiedono specifici passaggi e lavorazioni per ottenere degli ottimi semifreddi. Impasterete e lavorerete gli ingredienti per preparare un semifreddo di pesca e amaretti\, un tiramifreddo ovvero un semifreddo al caffè con base pan di spagna al cacao\, terminando con un golosissimo semifreddo di fragole e cocco
URL:https://mamamediterraneum.it/lezioni/delizie-estive-semifredde/
LOCATION:MaMà Mediterraneum\, via di Priscilla 15-17\, Roma\, 00199\, Italia
CATEGORIES:Dolci,Per coppie,Per principianti
ATTACH;FMTTYPE=image/jpeg:https://mamamediterraneum.it/wp-content/uploads/2024/05/semifreddi.jpg
END:VEVENT
END:VCALENDAR