BEGIN:VCALENDAR
VERSION:2.0
PRODID:-//Mamamediterraneum - ECPv6.15.18//NONSGML v1.0//EN
CALSCALE:GREGORIAN
METHOD:PUBLISH
X-WR-CALNAME:Mamamediterraneum
X-ORIGINAL-URL:https://mamamediterraneum.it
X-WR-CALDESC:Eventi per Mamamediterraneum
REFRESH-INTERVAL;VALUE=DURATION:PT1H
X-Robots-Tag:noindex
X-PUBLISHED-TTL:PT1H
BEGIN:VTIMEZONE
TZID:UTC
BEGIN:STANDARD
TZOFFSETFROM:+0000
TZOFFSETTO:+0000
TZNAME:UTC
DTSTART:20170101T000000
END:STANDARD
END:VTIMEZONE
BEGIN:VEVENT
DTSTART;TZID=UTC:20181105T100000
DTEND;TZID=UTC:20181105T130000
DTSTAMP:20260420T224322
CREATED:20181014T091213Z
LAST-MODIFIED:20181014T140411Z
UID:10002163-1541412000-1541422800@mamamediterraneum.it
SUMMARY:I dolci da credenza
DESCRIPTION:La brava pasticcera Alessandra D’Amato sarà la padrona di casa per questa lezione matinée dedicata ai dolci da credenza\, ovvero quelle torte e altre preparazioni che ci riportano con la mente ai dolci delle nostre nonne e che\, per gli ingredienti usati\, non necessitano di essere conservate in frigorifero.\nLa nostra pastry chef vi guiderà nella realizzazione di un tronchetto indulgente al cioccolato e Rocher\, una torta ai marroni e una crostata al cioccolato\, arancia e Gran Marnier. \n 
URL:https://mamamediterraneum.it/lezioni/i-dolci-da-credenza/
LOCATION:MaMà Mediterraneum\, via di Priscilla 15-17\, Roma\, 00199\, Italia
CATEGORIES:Dolci,pasticceria,torte
ATTACH;FMTTYPE=image/jpeg:https://mamamediterraneum.it/wp-content/uploads/2018/10/dolci-credenza.jpg
END:VEVENT
END:VCALENDAR