BEGIN:VCALENDAR
VERSION:2.0
PRODID:-//Mamamediterraneum - ECPv6.15.18//NONSGML v1.0//EN
CALSCALE:GREGORIAN
METHOD:PUBLISH
X-ORIGINAL-URL:https://mamamediterraneum.it
X-WR-CALDESC:Eventi per Mamamediterraneum
REFRESH-INTERVAL;VALUE=DURATION:PT1H
X-Robots-Tag:noindex
X-PUBLISHED-TTL:PT1H
BEGIN:VTIMEZONE
TZID:UTC
BEGIN:STANDARD
TZOFFSETFROM:+0000
TZOFFSETTO:+0000
TZNAME:UTC
DTSTART:20180101T000000
END:STANDARD
END:VTIMEZONE
BEGIN:VEVENT
DTSTART;TZID=UTC:20190506T190000
DTEND;TZID=UTC:20190506T220000
DTSTAMP:20260425T162949
CREATED:20190412T072638Z
LAST-MODIFIED:20190412T072751Z
UID:10002305-1557169200-1557180000@mamamediterraneum.it
SUMMARY:La pinsa romana\, una rivoluzione?
DESCRIPTION:Quello della pinsa è un fenomeno culinario che sta raccogliendo sempre più estimatori. La differenza con la pizza è nel mix di farine utilizzate nell’impasto che la rendono più croccante e digeribile di quest’ultima\nIl docente Domenico De Rosa\, metterà tutta la sua esperienza ventennale nell’insegnare i trucchi per una pinsa fatta bene\, soprattutto per l’impasto\, che è il segreto per la riuscita di una pinsa eccezionale. Lavoreremo insieme utilizzando strumenti “casalinghi” per la realizzazione di una buona Pinsa Romana facilmente replicabile a casa. Si partirà dall’impasto fino alla cottura finale dei prodotti. Il docente fornirà le necessarie nozioni relative\, oltre che all’impasto\, alla sua manipolazione e stesura\, insegnerà vari tipi di condimenti e ovviamente tutto quello che è necessario conoscere sui tempi e le modalità di cottura. \n 
URL:https://mamamediterraneum.it/lezioni/la-pinsa-romana-una-rivoluzione/
LOCATION:MaMà Mediterraneum\, via di Priscilla 15-17\, Roma\, 00199\, Italia
CATEGORIES:Per coppie,per esperti,Per principianti,Pizza
ATTACH;FMTTYPE=image/jpeg:https://mamamediterraneum.it/wp-content/uploads/2019/04/pinsa.jpg
END:VEVENT
END:VCALENDAR