BEGIN:VCALENDAR
VERSION:2.0
PRODID:-//Mamamediterraneum - ECPv6.15.18//NONSGML v1.0//EN
CALSCALE:GREGORIAN
METHOD:PUBLISH
X-WR-CALNAME:Mamamediterraneum
X-ORIGINAL-URL:https://mamamediterraneum.it
X-WR-CALDESC:Eventi per Mamamediterraneum
REFRESH-INTERVAL;VALUE=DURATION:PT1H
X-Robots-Tag:noindex
X-PUBLISHED-TTL:PT1H
BEGIN:VTIMEZONE
TZID:Europe/Rome
BEGIN:DAYLIGHT
TZOFFSETFROM:+0100
TZOFFSETTO:+0200
TZNAME:CEST
DTSTART:20220327T010000
END:DAYLIGHT
BEGIN:STANDARD
TZOFFSETFROM:+0200
TZOFFSETTO:+0100
TZNAME:CET
DTSTART:20221030T010000
END:STANDARD
BEGIN:DAYLIGHT
TZOFFSETFROM:+0100
TZOFFSETTO:+0200
TZNAME:CEST
DTSTART:20230326T010000
END:DAYLIGHT
BEGIN:STANDARD
TZOFFSETFROM:+0200
TZOFFSETTO:+0100
TZNAME:CET
DTSTART:20231029T010000
END:STANDARD
BEGIN:DAYLIGHT
TZOFFSETFROM:+0100
TZOFFSETTO:+0200
TZNAME:CEST
DTSTART:20240331T010000
END:DAYLIGHT
BEGIN:STANDARD
TZOFFSETFROM:+0200
TZOFFSETTO:+0100
TZNAME:CET
DTSTART:20241027T010000
END:STANDARD
END:VTIMEZONE
BEGIN:VEVENT
DTSTART;TZID=Europe/Rome:20231109T190000
DTEND;TZID=Europe/Rome:20231109T220000
DTSTAMP:20260426T061236
CREATED:20230913T091525Z
LAST-MODIFIED:20230928T155337Z
UID:10002763-1699556400-1699567200@mamamediterraneum.it
SUMMARY:RisotTiamo: tre ricette di Ludovica Gargari
DESCRIPTION:Ritorna Ludovica Gargari con tre gustose ricette a base di riso\, il cereale più consumato al mondo\nGiovane Chef e food influencer\, Ludovica vi guiderà per mano nella realizzazione di tre ricette dove il riso sarà protagonista assoluto\, sempre con il suo stile semplice e genuino che contraddistingue anche tutte le ricette presenti nel suo recente libro di cucina Farfalle nello stomaco. Ludovica vi guiderà durante la preparazione di un risotto alla zucca taleggio e nocciole\, dei supplì cacio pepe e lime\, e un dolce risolatte alla vaniglia
URL:https://mamamediterraneum.it/lezioni/risottiamo-tre-ricette-di-ludovica-gargari/
LOCATION:MaMà Mediterraneum\, via di Priscilla 15-17\, Roma\, 00199\, Italia
CATEGORIES:Cucina generale,Per coppie,Per principianti,riso
ATTACH;FMTTYPE=image/jpeg:https://mamamediterraneum.it/wp-content/uploads/2023/09/suppli.jpg
END:VEVENT
END:VCALENDAR