BEGIN:VCALENDAR
VERSION:2.0
PRODID:-//Mamamediterraneum - ECPv6.15.18//NONSGML v1.0//EN
CALSCALE:GREGORIAN
METHOD:PUBLISH
X-WR-CALNAME:Mamamediterraneum
X-ORIGINAL-URL:https://mamamediterraneum.it
X-WR-CALDESC:Eventi per Mamamediterraneum
REFRESH-INTERVAL;VALUE=DURATION:PT1H
X-Robots-Tag:noindex
X-PUBLISHED-TTL:PT1H
BEGIN:VTIMEZONE
TZID:Europe/Rome
BEGIN:DAYLIGHT
TZOFFSETFROM:+0100
TZOFFSETTO:+0200
TZNAME:CEST
DTSTART:20220327T010000
END:DAYLIGHT
BEGIN:STANDARD
TZOFFSETFROM:+0200
TZOFFSETTO:+0100
TZNAME:CET
DTSTART:20221030T010000
END:STANDARD
BEGIN:DAYLIGHT
TZOFFSETFROM:+0100
TZOFFSETTO:+0200
TZNAME:CEST
DTSTART:20230326T010000
END:DAYLIGHT
BEGIN:STANDARD
TZOFFSETFROM:+0200
TZOFFSETTO:+0100
TZNAME:CET
DTSTART:20231029T010000
END:STANDARD
BEGIN:DAYLIGHT
TZOFFSETFROM:+0100
TZOFFSETTO:+0200
TZNAME:CEST
DTSTART:20240331T010000
END:DAYLIGHT
BEGIN:STANDARD
TZOFFSETFROM:+0200
TZOFFSETTO:+0100
TZNAME:CET
DTSTART:20241027T010000
END:STANDARD
END:VTIMEZONE
BEGIN:VEVENT
DTSTART;TZID=Europe/Rome:20231109T190000
DTEND;TZID=Europe/Rome:20231109T220000
DTSTAMP:20260420T122300
CREATED:20230913T091525Z
LAST-MODIFIED:20230928T155337Z
UID:10002763-1699556400-1699567200@mamamediterraneum.it
SUMMARY:RisotTiamo: tre ricette di Ludovica Gargari
DESCRIPTION:Ritorna Ludovica Gargari con tre gustose ricette a base di riso\, il cereale più consumato al mondo\nGiovane Chef e food influencer\, Ludovica vi guiderà per mano nella realizzazione di tre ricette dove il riso sarà protagonista assoluto\, sempre con il suo stile semplice e genuino che contraddistingue anche tutte le ricette presenti nel suo recente libro di cucina Farfalle nello stomaco. Ludovica vi guiderà durante la preparazione di un risotto alla zucca taleggio e nocciole\, dei supplì cacio pepe e lime\, e un dolce risolatte alla vaniglia
URL:https://mamamediterraneum.it/lezioni/risottiamo-tre-ricette-di-ludovica-gargari/
LOCATION:MaMà Mediterraneum\, via di Priscilla 15-17\, Roma\, 00199\, Italia
CATEGORIES:Cucina generale,Per coppie,Per principianti,riso
ATTACH;FMTTYPE=image/jpeg:https://mamamediterraneum.it/wp-content/uploads/2023/09/suppli.jpg
END:VEVENT
BEGIN:VEVENT
DTSTART;TZID=Europe/Rome:20230622T190000
DTEND;TZID=Europe/Rome:20230622T220000
DTSTAMP:20260420T122300
CREATED:20230511T140008Z
LAST-MODIFIED:20230514T143324Z
UID:10002716-1687460400-1687471200@mamamediterraneum.it
SUMMARY:Primi piatti classici rivisitati
DESCRIPTION:Ci sono dei piatti che costituiscono dei capisaldi della nostra cucina\, ma siamo proprio sicuri che non possano essere rivisitati?\nLudovica Gargari\, giovane Chef e food influencer\, interpreterà a suo modo tre piatti della cucina classica italiana conferendo loro un tocco di freschezza e di novità. Diverranno così dei “nuovi” piatti che andranno a rimpolpare il nostro quaderno delle ricette. Ludovica vi guiderà passo passo durante la preparazione di una pasta alla Nerano 2.0\, una pasta aNORMAle e\, visto che è giovedì… gnocchi!
URL:https://mamamediterraneum.it/lezioni/primi-piatti-classici-rivisitati/
LOCATION:MaMà Mediterraneum\, via di Priscilla 15-17\, Roma\, 00199\, Italia
CATEGORIES:Cucina generale,Pasta,Per coppie,per esperti,Per principianti,Primi
ATTACH;FMTTYPE=image/jpeg:https://mamamediterraneum.it/wp-content/uploads/2023/05/primi-piatti.jpg
END:VEVENT
BEGIN:VEVENT
DTSTART;TZID=Europe/Rome:20230511T190000
DTEND;TZID=Europe/Rome:20230511T220000
DTSTAMP:20260420T122300
CREATED:20230426T163139Z
LAST-MODIFIED:20230426T163139Z
UID:10002709-1683831600-1683842400@mamamediterraneum.it
SUMMARY:Ravioli dolci e salati - REPLICA
DESCRIPTION:I ravioli sono veri e propri scrigni di sfoglia di pasta che racchiudono veri tesori\nLudovica Gargari\, giovane Chef e food influencer\, interpreterà a suo modo questo particolare formato di pasta ripiena\, declinandolo in versione salata ma anche dolce. La nostra docente vi farà mettere le mani in pasta per la preparazione di tre deliziose ricette: dei cappellacci con gamberi\, la versione orientale dei ravioli\, ovvero i gyoza vegetariani e concluderà in dolcezza con dei ravioli al cacao ripieni di ricotta e pistacchi
URL:https://mamamediterraneum.it/lezioni/ravioli-dolci-e-salati-2/
LOCATION:MaMà Mediterraneum\, via di Priscilla 15-17\, Roma\, 00199\, Italia
CATEGORIES:Cucina generale,Dolci,Pasta ripiena,Per coppie,per esperti,Per principianti,Primi
ATTACH;FMTTYPE=image/jpeg:https://mamamediterraneum.it/wp-content/uploads/2023/04/ravioli.jpg
END:VEVENT
BEGIN:VEVENT
DTSTART;TZID=Europe/Rome:20230504T190000
DTEND;TZID=Europe/Rome:20230504T220000
DTSTAMP:20260420T122300
CREATED:20230412T142055Z
LAST-MODIFIED:20230414T104345Z
UID:10002688-1683226800-1683237600@mamamediterraneum.it
SUMMARY:Ravioli dolci e salati
DESCRIPTION:I ravioli sono veri e propri scrigni di sfoglia di pasta che racchiudono veri tesori\nLudovica Gargari\, giovane Chef e food influencer\, interpreterà a suo modo questo particolare formato di pasta ripiena\, declinandolo in versione salata ma anche dolce. La nostra docente vi farà mettere le mani in pasta per la preparazione di tre deliziose ricette: dei cappellacci con gamberi\, la versione orientale dei ravioli\, ovvero i gyoza vegetariani e concluderà in dolcezza con dei ravioli al cacao ripieni di ricotta e pistacchi
URL:https://mamamediterraneum.it/lezioni/ravioli-dolci-e-salati/
LOCATION:MaMà Mediterraneum\, via di Priscilla 15-17\, Roma\, 00199\, Italia
CATEGORIES:Cucina generale,Dolci,Pasta ripiena,Per coppie,per esperti,Per principianti,Primi
ATTACH;FMTTYPE=image/jpeg:https://mamamediterraneum.it/wp-content/uploads/2023/04/ravioli.jpg
END:VEVENT
BEGIN:VEVENT
DTSTART;TZID=Europe/Rome:20230413T190000
DTEND;TZID=Europe/Rome:20230413T220000
DTSTAMP:20260420T122300
CREATED:20230314T111927Z
LAST-MODIFIED:20230314T115133Z
UID:10002684-1681412400-1681423200@mamamediterraneum.it
SUMMARY:Farfalle nello stomaco: tre ricette di Ludovica Gargari
DESCRIPTION:Rileggere le ricette classiche con uno stile personale non è sempre una operazione semplice\nLudovica Gargari\, giovane Chef e food influencer\, interpreterà tre ricette classiche con il suo stile semplice e genuino che contraddistingue anche tutte le ricette presenti nel suo recente libro di cucina Farfalle nello stomaco. Ludovica vi guiderà durante la preparazione di canederli pressati su verdura di stagione e ricotta salata\, una fregola sarda alle vongole con zucchine\, fiori e pane croccante al lime\, e un baccalà all’arancia
URL:https://mamamediterraneum.it/lezioni/farfalle-nello-stomaco-tre-ricette-di-ludovica-gargari/
LOCATION:MaMà Mediterraneum\, via di Priscilla 15-17\, Roma\, 00199\, Italia
CATEGORIES:Cucina generale,Per coppie,Per principianti
ATTACH;FMTTYPE=image/jpeg:https://mamamediterraneum.it/wp-content/uploads/2023/03/gargari.jpg
END:VEVENT
END:VCALENDAR