BEGIN:VCALENDAR
VERSION:2.0
PRODID:-//Mamamediterraneum - ECPv6.15.18//NONSGML v1.0//EN
CALSCALE:GREGORIAN
METHOD:PUBLISH
X-WR-CALNAME:Mamamediterraneum
X-ORIGINAL-URL:https://mamamediterraneum.it
X-WR-CALDESC:Eventi per Mamamediterraneum
REFRESH-INTERVAL;VALUE=DURATION:PT1H
X-Robots-Tag:noindex
X-PUBLISHED-TTL:PT1H
BEGIN:VTIMEZONE
TZID:UTC
BEGIN:STANDARD
TZOFFSETFROM:+0000
TZOFFSETTO:+0000
TZNAME:UTC
DTSTART:20230101T000000
END:STANDARD
END:VTIMEZONE
BEGIN:VEVENT
DTSTART;TZID=UTC:20240514T190000
DTEND;TZID=UTC:20240514T220000
DTSTAMP:20260424T154756
CREATED:20231114T151504Z
LAST-MODIFIED:20240414T080847Z
UID:10002806-1715713200-1715724000@mamamediterraneum.it
SUMMARY:Gnocchi diversi
DESCRIPTION:Non esistono solo quelli di patate… Gli gnocchi possono essere realizzati con molti altri ingredienti rendendoli\, a volte\, stupefacenti\nEcco allora che la nostra docente\, Kaba Corapi\, ci insegnerà a realizzare tre nuove ricette di gnocchi decisamente gustose. La serata prevede la realizzazione e la degustazione di gnocchi di semola al ragù di salsiccia\, zafferano e finocchietto\, degli gnudi di ricotta ed erbette al burro\, salvia e nocciole\, per finire con degli gnocchi di pane fritti\, cacio\, pepe e limone
URL:https://mamamediterraneum.it/lezioni/gnocchi-diversi/
LOCATION:MaMà Mediterraneum\, via di Priscilla 15-17\, Roma\, 00199\, Italia
CATEGORIES:Pasta fresca,Per coppie,per esperti,Per principianti,Primi
ATTACH;FMTTYPE=image/jpeg:https://mamamediterraneum.it/wp-content/uploads/2021/09/gnocchi.jpg
END:VEVENT
END:VCALENDAR