BEGIN:VCALENDAR
VERSION:2.0
PRODID:-//Mamamediterraneum - ECPv6.15.18//NONSGML v1.0//EN
CALSCALE:GREGORIAN
METHOD:PUBLISH
X-WR-CALNAME:Mamamediterraneum
X-ORIGINAL-URL:https://mamamediterraneum.it
X-WR-CALDESC:Eventi per Mamamediterraneum
REFRESH-INTERVAL;VALUE=DURATION:PT1H
X-Robots-Tag:noindex
X-PUBLISHED-TTL:PT1H
BEGIN:VTIMEZONE
TZID:UTC
BEGIN:STANDARD
TZOFFSETFROM:+0000
TZOFFSETTO:+0000
TZNAME:UTC
DTSTART:20170101T000000
END:STANDARD
END:VTIMEZONE
BEGIN:VEVENT
DTSTART;TZID=UTC:20180209T190000
DTEND;TZID=UTC:20180209T220000
DTSTAMP:20260420T182530
CREATED:20171215T154046Z
LAST-MODIFIED:20171216T153257Z
UID:10002017-1518202800-1518213600@mamamediterraneum.it
SUMMARY:Curry...osando
DESCRIPTION:Oggi viaggeremo in estremo oriente scoprendo i profumi delle variegate cucine di paesi lontani. Entreremo nel mondo dei curry e dei masala imparandone segreti e composizioni.\nCucineremo tre piatti profumatissimi accompagnandoli con del riso al vapore. Impareremo a realizzare una zuppa thai di gamberetti\, il “vero” pollo al curry e un manzo al curry verde.
URL:https://mamamediterraneum.it/lezioni/curry-osando/
LOCATION:MaMà Mediterraneum\, via di Priscilla 15-17\, Roma\, 00199\, Italia
CATEGORIES:Etnica,Per coppie,per esperti,Per principianti,Secondi
ATTACH;FMTTYPE=image/jpeg:https://mamamediterraneum.it/wp-content/uploads/2017/12/curry-1.jpg
END:VEVENT
END:VCALENDAR