BEGIN:VCALENDAR
VERSION:2.0
PRODID:-//Mamamediterraneum - ECPv6.15.18//NONSGML v1.0//EN
CALSCALE:GREGORIAN
METHOD:PUBLISH
X-WR-CALNAME:Mamamediterraneum
X-ORIGINAL-URL:https://mamamediterraneum.it
X-WR-CALDESC:Eventi per Mamamediterraneum
REFRESH-INTERVAL;VALUE=DURATION:PT1H
X-Robots-Tag:noindex
X-PUBLISHED-TTL:PT1H
BEGIN:VTIMEZONE
TZID:UTC
BEGIN:STANDARD
TZOFFSETFROM:+0000
TZOFFSETTO:+0000
TZNAME:UTC
DTSTART:20180101T000000
END:STANDARD
END:VTIMEZONE
BEGIN:VEVENT
DTSTART;TZID=UTC:20240607T190000
DTEND;TZID=UTC:20240607T220000
DTSTAMP:20260420T183106
CREATED:20240514T124947Z
LAST-MODIFIED:20240514T124947Z
UID:10002936-1717786800-1717797600@mamamediterraneum.it
SUMMARY:Cucina&vini: le melanzane
DESCRIPTION:È arrivata la stagione in cui questi straordinari ortaggi danno il loro meglio. Nere\, viola\, striate\, bianche che siano\, sono indubbiamente tra gli ingredienti fondamentali della cucina mediterranea.\nSarà con Clara Montesanto\, la sommelier della scuola\, che lo chef Aurelio Carraffa giocherà ad abbinare i giusti vini a tre piatti in cui le melanzane saranno protagoniste. Coma antipasto realizzeremo insieme una un’albanella di melanzane\, stracciatella e pomodori confit\, come primo piatto una pasta dal nome curioso\, la Norma va a Palermo\, e finiremo con delle golosissime melanzane ripiene di tonno fresco
URL:https://mamamediterraneum.it/lezioni/cucinavini-le-melanzane/
LOCATION:MaMà Mediterraneum\, via di Priscilla 15-17\, Roma\, 00199\, Italia
CATEGORIES:Antipasti,Pasta,Per coppie,per esperti,Per principianti,Primi,Secondi
ATTACH;FMTTYPE=image/jpeg:https://mamamediterraneum.it/wp-content/uploads/2024/05/melanzane.jpg
END:VEVENT
BEGIN:VEVENT
DTSTART;TZID=UTC:20190524T190000
DTEND;TZID=UTC:20190524T220000
DTSTAMP:20260420T183106
CREATED:20190412T045929Z
LAST-MODIFIED:20190412T072914Z
UID:10002100-1558724400-1558735200@mamamediterraneum.it
SUMMARY:La parmigiana\, un nome per tre nuove ricette
DESCRIPTION:parmigiana\n\n/par·mi·già·na/\n\n\n\n\nsostantivo femminile\nmelanzane affettate e fritte\, disposte in tegame a strati\, alternate a parmigiano grattugiato e salsa di pomodoro\, e cotte al forno\n\n\nQuesto è quello che recita il vocabolario ma in realtà\, insieme allo chef Aurelio Carraffa\, rivisiteremo questa classica ricetta creando tre piatti davvero unici. Il primo sarà un cannolo di parmigiana croccante\, proseguiremo con una parmigiana di alici per concludere con un tortino di parmigiana estiva con pesto e stracciatella
URL:https://mamamediterraneum.it/lezioni/la-parmigiana-un-nome-per-tre-nuove-ricette/
LOCATION:MaMà Mediterraneum\, via di Priscilla 15-17\, Roma\, 00199\, Italia
CATEGORIES:Cucina generale,Per coppie,per esperti,Per principianti
ATTACH;FMTTYPE=image/jpeg:https://mamamediterraneum.it/wp-content/uploads/2019/04/parmigiana.jpg
END:VEVENT
END:VCALENDAR