BEGIN:VCALENDAR
VERSION:2.0
PRODID:-//Mamamediterraneum - ECPv6.15.18//NONSGML v1.0//EN
CALSCALE:GREGORIAN
METHOD:PUBLISH
X-ORIGINAL-URL:https://mamamediterraneum.it
X-WR-CALDESC:Eventi per Mamamediterraneum
REFRESH-INTERVAL;VALUE=DURATION:PT1H
X-Robots-Tag:noindex
X-PUBLISHED-TTL:PT1H
BEGIN:VTIMEZONE
TZID:Europe/Rome
BEGIN:DAYLIGHT
TZOFFSETFROM:+0100
TZOFFSETTO:+0200
TZNAME:CEST
DTSTART:20180325T010000
END:DAYLIGHT
BEGIN:STANDARD
TZOFFSETFROM:+0200
TZOFFSETTO:+0100
TZNAME:CET
DTSTART:20181028T010000
END:STANDARD
BEGIN:DAYLIGHT
TZOFFSETFROM:+0100
TZOFFSETTO:+0200
TZNAME:CEST
DTSTART:20190331T010000
END:DAYLIGHT
BEGIN:STANDARD
TZOFFSETFROM:+0200
TZOFFSETTO:+0100
TZNAME:CET
DTSTART:20191027T010000
END:STANDARD
BEGIN:DAYLIGHT
TZOFFSETFROM:+0100
TZOFFSETTO:+0200
TZNAME:CEST
DTSTART:20200329T010000
END:DAYLIGHT
BEGIN:STANDARD
TZOFFSETFROM:+0200
TZOFFSETTO:+0100
TZNAME:CET
DTSTART:20201025T010000
END:STANDARD
END:VTIMEZONE
BEGIN:VEVENT
DTSTART;TZID=Europe/Rome:20191014T190000
DTEND;TZID=Europe/Rome:20191014T220000
DTSTAMP:20260421T131054
CREATED:20190914T084137Z
LAST-MODIFIED:20190915T153946Z
UID:10002124-1571079600-1571090400@mamamediterraneum.it
SUMMARY:Tacos party
DESCRIPTION:Chi non ha mai assaggiato queste buonissime conchiglie di farina di mais\, di origine messicana\, contenenti gustosissime farce?\nLa nostra bravissima docente Chiara Pompili vi svelerà tutti i segreti per realizzare in casa le tortillas e tre nuovi condimenti davvero gustosi. Chiara vi seguirà passo passo durante la preparazione di un taco con salmone all’arancia\, miele e senape con salsa guaiamole e mango\, un taco con caponata di zucca in agrodolce e un taco con battuta di carne\, salsa di parmigiano e scorza di lime
URL:https://mamamediterraneum.it/lezioni/tacos-party/
LOCATION:MaMà Mediterraneum\, via di Priscilla 15-17\, Roma\, 00199\, Italia
CATEGORIES:Etnica,Per coppie,per esperti,Per principianti
ATTACH;FMTTYPE=image/jpeg:https://mamamediterraneum.it/wp-content/uploads/2019/09/tacos2.jpg
END:VEVENT
END:VCALENDAR