BEGIN:VCALENDAR
VERSION:2.0
PRODID:-//Mamamediterraneum - ECPv6.15.18//NONSGML v1.0//EN
CALSCALE:GREGORIAN
METHOD:PUBLISH
X-WR-CALNAME:Mamamediterraneum
X-ORIGINAL-URL:https://mamamediterraneum.it
X-WR-CALDESC:Eventi per Mamamediterraneum
REFRESH-INTERVAL;VALUE=DURATION:PT1H
X-Robots-Tag:noindex
X-PUBLISHED-TTL:PT1H
BEGIN:VTIMEZONE
TZID:UTC
BEGIN:STANDARD
TZOFFSETFROM:+0000
TZOFFSETTO:+0000
TZNAME:UTC
DTSTART:20170101T000000
END:STANDARD
END:VTIMEZONE
BEGIN:VEVENT
DTSTART;TZID=UTC:20240304T190000
DTEND;TZID=UTC:20240304T220000
DTSTAMP:20260423T135008
CREATED:20240214T162707Z
LAST-MODIFIED:20240228T112237Z
UID:10002867-1709578800-1709589600@mamamediterraneum.it
SUMMARY:Mazzah: gli antipasti medio orientali
DESCRIPTION:Ci soni vari modi chiamare e scrivere quell’insieme di preparazioni che compongono un frugale pasto in Medio Oriente a base di antipasti: “mazzah” in Palestina\, “mezze” in turchia e “mezè” in greco ma in ogni caso il significato deriva dal persiano ed è univoco: sapore!\nSono ricchissime di sapore infatti le preparazioni che lo chef Aurelio Carraffa vi guiderà a preparare in occasione di questa divertente e gustosissima lezione che prevederà\, come sempre\, una degustazione finale di quanto preparato insieme. Le ricette tradizionali\, comuni a tutte le cucine di origine ottomana\, saranno: l’hummus o crema di ceci\, il babaganoush o la crema di melanzane\, il tabouleh o insalata di grano e prezzemolo\, i falafel o polpette di ceci fritte e le kofte o polpette di manzo speziate. \nImperdibile
URL:https://mamamediterraneum.it/lezioni/mazzah-gli-antipasti-medio-orientali-2/
LOCATION:MaMà Mediterraneum\, via di Priscilla 15-17\, Roma\, 00199\, Italia
CATEGORIES:Antipasti,Etnica,Per coppie,per esperti,Per principianti
ATTACH;FMTTYPE=image/jpeg:https://mamamediterraneum.it/wp-content/uploads/2024/02/meze-mediorientali.jpg
END:VEVENT
BEGIN:VEVENT
DTSTART;TZID=UTC:20190617T190000
DTEND;TZID=UTC:20190617T220000
DTSTAMP:20260423T135008
CREATED:20190512T141613Z
LAST-MODIFIED:20190514T042656Z
UID:10002314-1560798000-1560808800@mamamediterraneum.it
SUMMARY:"Mezze" estive: piccoli piatti freddi mediorientali
DESCRIPTION:Le mezze\, o mazzah in palestinese\, sono un insieme di piccoli piatti che costituiscono un pasto vario e frugale tipico dei paesi del Medio Oriente\nNon se ne gusta solo uno perché è la varietà la caratteristica di questo modo di pranzare o cenare. Lo Chef Aurelio Carraffa ne ha selezionati  cinque\, adatti alla stagione estiva\, classici e meno conosciuti\, ma tutti davvero interessantissimi. Si partirà dall’hummus di ceci e l’insalata di grano\, meglio nota come taboulé\, per continuare con la rémoulade\, gli involtini di melanzane e riso e l’insalata dorata di bulgur.
URL:https://mamamediterraneum.it/lezioni/mezze-estive-piccoli-piatti-freddi-mediorientali/
LOCATION:MaMà Mediterraneum\, via di Priscilla 15-17\, Roma\, 00199\, Italia
CATEGORIES:Antipasti,Cucina generale,Etnica,menu
ATTACH;FMTTYPE=image/jpeg:https://mamamediterraneum.it/wp-content/uploads/2019/05/hummus.jpg
END:VEVENT
BEGIN:VEVENT
DTSTART;TZID=UTC:20190308T190000
DTEND;TZID=UTC:20190308T220000
DTSTAMP:20260423T135008
CREATED:20190212T172105Z
LAST-MODIFIED:20190307T095011Z
UID:10002233-1552071600-1552082400@mamamediterraneum.it
SUMMARY:La cucina libanese
DESCRIPTION:La cucina libanese viene\, a ragione\, ritenuta tra le migliori del Medio Oriente trovando nei i suoi mille antipasti\, le “mezze” la vera espressione della cultura gastronomica di questa bellissima terra\nIn questa lezione ci dedicheremo a piatti meno conosciuti dei tradizionalissimi hommos (o hummus)\, tabouleh e falafel\, o meglio ne impareremo delle interessantissime varianti. Lo chef Aurelio Carraffa vi guiderà nella realizzazione di un tabouleh con il pesce e salsa al curry\, di una indimenticabile insalata di frutta secca\, di falafel di zucchine e dei kibbeh.
URL:https://mamamediterraneum.it/lezioni/la-cucina-libanese/
LOCATION:MaMà Mediterraneum\, via di Priscilla 15-17\, Roma\, 00199\, Italia
CATEGORIES:Antipasti,Etnica,Per coppie,per esperti,Per principianti
ATTACH;FMTTYPE=image/jpeg:https://mamamediterraneum.it/wp-content/uploads/2019/02/libanese.jpg
END:VEVENT
BEGIN:VEVENT
DTSTART;TZID=UTC:20181030T190000
DTEND;TZID=UTC:20181030T220000
DTSTAMP:20260423T135008
CREATED:20180826T150852Z
LAST-MODIFIED:20180826T150852Z
UID:10002155-1540926000-1540936800@mamamediterraneum.it
SUMMARY:Mazzah: gli antipasti medio orientali
DESCRIPTION:Ci soni vari modi chiamare e scrivere quell’insieme di preparazioni che compongono un frugale pasto in Medio Oriente a base di antipasti: “mazzah” in Palestina\, “mezze” in turchia e “mezè” in greco ma in ogni caso il significato deriva dal persiano ed è univoco: sapore!\nSono ricchissime di sapore infatti le preparazioni che lo chef Aurelio Carraffa vi guiderà a preparare in occasione di questa divertente e gustosissima lezione che prevederà\, come sempre\, una degustazione finale di quanto preparato insieme. Le ricette tradizionali\, comuni a tutte le cucine di origine ottomana\, saranno: l’hummus o crema di ceci\, il babaganoush o la crema di melanzane\, il tabouleh o insalata di grano e prezzemolo\, i falafel o polpette di ceci fritte e le kofte o polpette di manzo speziate. \nImperdibile
URL:https://mamamediterraneum.it/lezioni/mazzah-gli-antipasti-medio-orientali/
LOCATION:MaMà Mediterraneum\, via di Priscilla 15-17\, Roma\, 00199\, Italia
CATEGORIES:Antipasti,Etnica,Per coppie,per esperti,Per principianti
ATTACH;FMTTYPE=image/jpeg:https://mamamediterraneum.it/wp-content/uploads/2018/07/antipasti-mediorientali.jpg
END:VEVENT
END:VCALENDAR