BEGIN:VCALENDAR
VERSION:2.0
PRODID:-//Mamamediterraneum - ECPv6.15.18//NONSGML v1.0//EN
CALSCALE:GREGORIAN
METHOD:PUBLISH
X-ORIGINAL-URL:https://mamamediterraneum.it
X-WR-CALDESC:Eventi per Mamamediterraneum
REFRESH-INTERVAL;VALUE=DURATION:PT1H
X-Robots-Tag:noindex
X-PUBLISHED-TTL:PT1H
BEGIN:VTIMEZONE
TZID:UTC
BEGIN:STANDARD
TZOFFSETFROM:+0000
TZOFFSETTO:+0000
TZNAME:UTC
DTSTART:20170101T000000
END:STANDARD
END:VTIMEZONE
BEGIN:VEVENT
DTSTART;TZID=UTC:20181122T190000
DTEND;TZID=UTC:20181122T220000
DTSTAMP:20260423T114710
CREATED:20181014T150029Z
LAST-MODIFIED:20181014T150029Z
UID:10002042-1542913200-1542924000@mamamediterraneum.it
SUMMARY:Crostate moderne
DESCRIPTION:Ci sono crostate e crostate\, quella della nonna e quelle di alta pasticceria\, è alla seconda categoria che apparterranno i dolci di questa lezione.\nIl noto pasticcere e pastry chef Gianluca Forino sarà il docente che vi guiderà nella preparazione di impasti e farciture per realizzare delle bellissime e buonissime crostate moderne. Saranno ben quattro le preparazioni che vi impegneranno e in particolare:  una crostata con supreme al cioccolato e lampone\, una torta nocciola e arancia\, una tarte lemon pie rivisitata e infine una crostata di frutta con crema al formaggio \n 
URL:https://mamamediterraneum.it/lezioni/crostate-moderne/
LOCATION:MaMà Mediterraneum\, via di Priscilla 15-17\, Roma\, 00199\, Italia
CATEGORIES:Dolci,torte
ATTACH;FMTTYPE=image/jpeg:https://mamamediterraneum.it/wp-content/uploads/2018/10/crostate-moderne.jpg
END:VEVENT
END:VCALENDAR