BEGIN:VCALENDAR
VERSION:2.0
PRODID:-//Mamamediterraneum - ECPv6.15.18//NONSGML v1.0//EN
CALSCALE:GREGORIAN
METHOD:PUBLISH
X-WR-CALNAME:Mamamediterraneum
X-ORIGINAL-URL:https://mamamediterraneum.it
X-WR-CALDESC:Eventi per Mamamediterraneum
REFRESH-INTERVAL;VALUE=DURATION:PT1H
X-Robots-Tag:noindex
X-PUBLISHED-TTL:PT1H
BEGIN:VTIMEZONE
TZID:Europe/Rome
BEGIN:DAYLIGHT
TZOFFSETFROM:+0100
TZOFFSETTO:+0200
TZNAME:CEST
DTSTART:20180325T010000
END:DAYLIGHT
BEGIN:STANDARD
TZOFFSETFROM:+0200
TZOFFSETTO:+0100
TZNAME:CET
DTSTART:20181028T010000
END:STANDARD
BEGIN:DAYLIGHT
TZOFFSETFROM:+0100
TZOFFSETTO:+0200
TZNAME:CEST
DTSTART:20190331T010000
END:DAYLIGHT
BEGIN:STANDARD
TZOFFSETFROM:+0200
TZOFFSETTO:+0100
TZNAME:CET
DTSTART:20191027T010000
END:STANDARD
BEGIN:DAYLIGHT
TZOFFSETFROM:+0100
TZOFFSETTO:+0200
TZNAME:CEST
DTSTART:20200329T010000
END:DAYLIGHT
BEGIN:STANDARD
TZOFFSETFROM:+0200
TZOFFSETTO:+0100
TZNAME:CET
DTSTART:20201025T010000
END:STANDARD
BEGIN:DAYLIGHT
TZOFFSETFROM:+0100
TZOFFSETTO:+0200
TZNAME:CEST
DTSTART:20210328T010000
END:DAYLIGHT
BEGIN:STANDARD
TZOFFSETFROM:+0200
TZOFFSETTO:+0100
TZNAME:CET
DTSTART:20211031T010000
END:STANDARD
BEGIN:DAYLIGHT
TZOFFSETFROM:+0100
TZOFFSETTO:+0200
TZNAME:CEST
DTSTART:20220327T010000
END:DAYLIGHT
BEGIN:STANDARD
TZOFFSETFROM:+0200
TZOFFSETTO:+0100
TZNAME:CET
DTSTART:20221030T010000
END:STANDARD
BEGIN:DAYLIGHT
TZOFFSETFROM:+0100
TZOFFSETTO:+0200
TZNAME:CEST
DTSTART:20230326T010000
END:DAYLIGHT
BEGIN:STANDARD
TZOFFSETFROM:+0200
TZOFFSETTO:+0100
TZNAME:CET
DTSTART:20231029T010000
END:STANDARD
BEGIN:DAYLIGHT
TZOFFSETFROM:+0100
TZOFFSETTO:+0200
TZNAME:CEST
DTSTART:20240331T010000
END:DAYLIGHT
BEGIN:STANDARD
TZOFFSETFROM:+0200
TZOFFSETTO:+0100
TZNAME:CET
DTSTART:20241027T010000
END:STANDARD
BEGIN:DAYLIGHT
TZOFFSETFROM:+0100
TZOFFSETTO:+0200
TZNAME:CEST
DTSTART:20250330T010000
END:DAYLIGHT
BEGIN:STANDARD
TZOFFSETFROM:+0200
TZOFFSETTO:+0100
TZNAME:CET
DTSTART:20251026T010000
END:STANDARD
BEGIN:DAYLIGHT
TZOFFSETFROM:+0100
TZOFFSETTO:+0200
TZNAME:CEST
DTSTART:20260329T010000
END:DAYLIGHT
BEGIN:STANDARD
TZOFFSETFROM:+0200
TZOFFSETTO:+0100
TZNAME:CET
DTSTART:20261025T010000
END:STANDARD
END:VTIMEZONE
BEGIN:VTIMEZONE
TZID:UTC
BEGIN:STANDARD
TZOFFSETFROM:+0000
TZOFFSETTO:+0000
TZNAME:UTC
DTSTART:20170101T000000
END:STANDARD
END:VTIMEZONE
BEGIN:VEVENT
DTSTART;TZID=Europe/Rome:20250121T190000
DTEND;TZID=Europe/Rome:20250121T220000
DTSTAMP:20260424T135856
CREATED:20241215T090446Z
LAST-MODIFIED:20241215T090446Z
UID:10003045-1737486000-1737496800@mamamediterraneum.it
SUMMARY:Polpo di genio!
DESCRIPTION:Il polpo è uno dei prodotti del mare più amati\, facile da cucinare\, versatile e veramente gustoso.\nNelle precedenti lezioni con lo stesso tema\, tutte sold out\, abbiamo proposto ricette che hanno riscosso un grande successo. Per gli amanti di questo straordinario mollusco ne proponiamo altre tre\, inedite \, che a nostro parere soddisferanno le aspettative di coloro che vorranno partecipare. Lo Chef Aurelio Carraffa vi insegnerà a realizzare un goloso panino con otto ingredienti\, l’octopus burger\, delle linguine con ragù di polpo e crema di cicoria e un polpo ubriaco con crema di pecorino \nDa non perdere!
URL:https://mamamediterraneum.it/lezioni/polpo-di-genio/
LOCATION:MaMà Mediterraneum\, via di Priscilla 15-17\, Roma\, 00199\, Italia
CATEGORIES:Antipasti,Cucina generale,Panini,Per coppie,per esperti,Per principianti,Pesce,Secondi
ATTACH;FMTTYPE=image/jpeg:https://mamamediterraneum.it/wp-content/uploads/2021/07/polpo.jpg
END:VEVENT
BEGIN:VEVENT
DTSTART;TZID=UTC:20240924T190000
DTEND;TZID=UTC:20240924T220000
DTSTAMP:20260424T135856
CREATED:20240826T144817Z
LAST-MODIFIED:20240826T144817Z
UID:10002970-1727204400-1727215200@mamamediterraneum.it
SUMMARY:Cucina&vini: i molluschi
DESCRIPTION:Che siano cefalopodi o bivalvi\, i molluschi del Mediterraneo sono ingredienti perfetti per realizzare deliziose ricette di mare\nSarà con Clara Montesanto\, la sommelier della scuola\, che lo chef Aurelio Carraffa giocherà ad abbinare i giusti vini a tre piatti in cui i molluschi saranno protagonisti. inizieremo con degli spatzle (gnocchetti) di scarola con cozze e pecorino\, proseguiremo con una sempre confortante spaghetti alle vongole con crema di patate\, per finire con dei calamaretti ripieni di grano spezzato al ragù di mare
URL:https://mamamediterraneum.it/lezioni/cucinavini-i-molluschi/
LOCATION:MaMà Mediterraneum\, via di Priscilla 15-17\, Roma\, 00199\, Italia
CATEGORIES:Pasta,Per coppie,per esperti,Per principianti,Pesce,Primi,Secondi
ATTACH;FMTTYPE=image/jpeg:https://mamamediterraneum.it/wp-content/uploads/2024/08/Spaghetti-con-vongole-crema-di-patate.jpg
END:VEVENT
BEGIN:VEVENT
DTSTART;TZID=Europe/Rome:20240911T190000
DTEND;TZID=Europe/Rome:20240911T220000
DTSTAMP:20260424T135856
CREATED:20240613T141134Z
LAST-MODIFIED:20240826T144634Z
UID:10002953-1726081200-1726092000@mamamediterraneum.it
SUMMARY:Polpo da maestro
DESCRIPTION:Il polpo\, re dei molluschi cefalopodi\, è uno degli ingredienti più versatili in cucina e tra i più amati dagli chef\nPuò essere servito sotto varie forme e\, con il suo sapore\, si presta ad essere abbinato con molteplici ingredienti. Lo Chef Aurelio Carraffa\, docente di questa lezione\, ci insegnerà i segreti per cucinarlo e per valorizzare le sue carni. La serata prevede la preparazione di tre gustose ricette: inizieremo con delle polpette di polpo al pistacchio con gazpacho all’anguria\, proseguiremo con una gustosa calamarata con polpo\, cicoria e pecorino e concluderemo in bellezza con una tiella di polpo di Gaeta
URL:https://mamamediterraneum.it/lezioni/polpo-da-maestro/
LOCATION:MaMà Mediterraneum\, via di Priscilla 15-17\, Roma\, 00199\, Italia
CATEGORIES:Cucina generale,Per coppie,per esperti,Per principianti,Pesce
ATTACH;FMTTYPE=image/jpeg:https://mamamediterraneum.it/wp-content/uploads/2024/06/polpo.jpg
END:VEVENT
BEGIN:VEVENT
DTSTART;TZID=Europe/Rome:20240614T190000
DTEND;TZID=Europe/Rome:20240614T220000
DTSTAMP:20260424T135856
CREATED:20240514T125007Z
LAST-MODIFIED:20240514T125007Z
UID:10002933-1718391600-1718402400@mamamediterraneum.it
SUMMARY:Polpo di sole!
DESCRIPTION:Il polpo è uno dei prodotti del mare più amati\, facile da cucinare\, versatile e veramente gustoso.\nA grandissima richiesta ritorna la serie di lezioni aventi come soggetto un grande protagonista della cucina di mare. Per gli amanti di questo straordinario mollusco cefalopode proponiamo tre ricette che\, siamo sicuri\, soddisferanno le aspettative di coloro che vorranno partecipare. Lo Chef Aurelio Carraffa vi insegnerà a realizzare delle ricette perfette per la stagione in arrivo\, ovvero: un tortino di polpo e patate con pesto di olive taggiasche e bottarga\, un orzo tiepido con polpo e sedano e dei ravioli di moscardini alla Luciana con brodo tiepido agrumato.
URL:https://mamamediterraneum.it/lezioni/polpo-di-sole/
LOCATION:MaMà Mediterraneum\, via di Priscilla 15-17\, Roma\, 00199\, Italia
CATEGORIES:Cucina generale,Pasta ripiena,Per coppie,per esperti,Per principianti,Pesce,Primi
ATTACH;FMTTYPE=image/jpeg:https://mamamediterraneum.it/wp-content/uploads/2024/05/polpo-33.jpg
END:VEVENT
BEGIN:VEVENT
DTSTART;TZID=Europe/Rome:20231212T190000
DTEND;TZID=Europe/Rome:20231212T220000
DTSTAMP:20260424T135856
CREATED:20231114T151557Z
LAST-MODIFIED:20231115T104157Z
UID:10002810-1702407600-1702418400@mamamediterraneum.it
SUMMARY:Risotti di mare
DESCRIPTION:La riuscita di un risotto dipende dalla qualità degli ingredienti\, il riso in primis\, ma molto anche dalla tecnica di preparazione\nSaranno il pesce e i frutti di mare i protagonisti della serata insieme all’eccellente riso di Cascina Oschiena. Impareremo che la tostatura e la mantecatura finale fanno la differenza tra un buon risotto e un risotto ordinario. Lo Chef Aurelio Carraffa preparerà insieme a voi tre ricette come il risotto con pesci di scoglio e piselli\, il risotto al baccalà con agrumi canditi e non e quello al limone con le vongole
URL:https://mamamediterraneum.it/lezioni/risotti-di-mare-3-2/
LOCATION:MaMà Mediterraneum\, via di Priscilla 15-17\, Roma\, 00199\, Italia
CATEGORIES:Pesce,Primi,Risotti
ATTACH;FMTTYPE=image/jpeg:https://mamamediterraneum.it/wp-content/uploads/2019/11/risotti-di-mare.jpg
END:VEVENT
BEGIN:VEVENT
DTSTART;TZID=Europe/Rome:20230520T100000
DTEND;TZID=Europe/Rome:20230520T150000
DTSTAMP:20260424T135856
CREATED:20230414T101659Z
LAST-MODIFIED:20230414T104158Z
UID:10002700-1684576800-1684594800@mamamediterraneum.it
SUMMARY:Masterclass di cucina: pesce\, tecniche e segreti per una preparazione perfetta
DESCRIPTION:Il pesce è una materia prima che\, se sapientemente “lavorata”\, ci permette di realizzare piatti di rara bontà\nIn questa seconda Masterclass\, si affronteranno tutte le tematiche relative alla conoscenza dei prodotti del mare e alle tecniche di preparazione e cottura. \nIl docente Chef\, Aurelio Carraffa\, metterà a disposizione degli allievi tutta la sua esperienza e capacità maturata in anni di lavoro\, dispensando segreti e trucchi per realizzare dei piatti di pesce perfetti. Si affronteranno temi specifici come: \n\nScelta e riconoscimento delle materie prime\nNozioni di igiene e sicurezza alimentare\nTecniche di sfilettamento\nTecniche di taglio e preparazione (tartare e carpacci)\nMarinatura e affumicatura\nCottura a bassa temperatura (cbt)\nCotture tradizionali e innovative\n\nLa lezione prevede una che parte di essa sia in modalità dimostrativa e il resto in modalità partecipativa. \nSi realizzeranno e gusteranno insieme tre piatti nei quali verranno utilizzate le tecniche e le preparazioni precedentemente eseguite: sgombro affumicato con spuma di ragusano DOP e tuorlo d’uovo\,  dei fagottini di scampi e zenzero con fiori di zucchina e pesto di pistacchi\, e un polpo cotto in cbt\, panzanella\, salsa verde e la sua maionese \nLa lezione avrà una durata di 4\,5/5 ore \nAi partecipanti verrà rilasciato un attestato di partecipazione
URL:https://mamamediterraneum.it/lezioni/masterclass-di-cucina-pesce-tecniche-e-segreti-per-una-preparazione-perfetta/
LOCATION:MaMà Mediterraneum\, via di Priscilla 15-17\, Roma\, 00199\, Italia
CATEGORIES:Masterclass,per esperti,per professionisti,Pesce
ATTACH;FMTTYPE=image/jpeg:https://mamamediterraneum.it/wp-content/uploads/2023/04/masterclass-pesce.jpg
END:VEVENT
BEGIN:VEVENT
DTSTART;TZID=Europe/Rome:20230517T190000
DTEND;TZID=Europe/Rome:20230517T220000
DTSTAMP:20260424T135856
CREATED:20230412T144232Z
LAST-MODIFIED:20230414T104251Z
UID:10002691-1684350000-1684360800@mamamediterraneum.it
SUMMARY:Polpo di scena
DESCRIPTION:Il polpo è uno dei prodotti del mare più amati\, facile da cucinare\, versatile e veramente gustoso.\nA grandissima richiesta ritorna una lezione con un grande protagonista della cucina di mare. Per gli amanti di questo straordinario mollusco riproponiamo tre ricette che\, siamo sicuri\, soddisferanno le aspettative di coloro che vorranno partecipare. Lo Chef Aurelio Carraffa vi insegnerà a realizzare una catalana di polpo\, degli spaghetti con i polpetti affogati alla napoletana e dei ravioli di patate con ragù di polpo e crema di pecorino siciliano
URL:https://mamamediterraneum.it/lezioni/polpo-di-scena-5/
LOCATION:MaMà Mediterraneum\, via di Priscilla 15-17\, Roma\, 00199\, Italia
CATEGORIES:Cucina generale,Pasta ripiena,Per coppie,per esperti,Per principianti,Pesce,Primi
ATTACH;FMTTYPE=image/jpeg:https://mamamediterraneum.it/wp-content/uploads/2019/09/polpo.jpg
END:VEVENT
BEGIN:VEVENT
DTSTART;TZID=Europe/Rome:20220325T190000
DTEND;TZID=Europe/Rome:20220325T220000
DTSTAMP:20260424T135856
CREATED:20220211T112316Z
LAST-MODIFIED:20220214T140012Z
UID:10002553-1648234800-1648245600@mamamediterraneum.it
SUMMARY:Un polpo al cuore!
DESCRIPTION:Il polpo è uno dei prodotti del mare più amati\, facile da cucinare\, versatile e veramente gustoso.\nA grandissima richiesta e dopo il tutto esaurito nelle varie lezioni dedicate a questo incredibile mollusco\, proponiamo altre tre ricette\, che che soddisferanno certamente le aspettative di coloro che vorranno partecipare. Sarà sempre lo Chef Aurelio Carraffa che vi insegnerà a realizzare un orzo tiepido con polpo e sedano\, dei fusilli con polpo e malvasia e un tenerissimo polpo “ubriaco” con crema di pecorino
URL:https://mamamediterraneum.it/lezioni/polpo-di-scena-4/
LOCATION:MaMà Mediterraneum\, via di Priscilla 15-17\, Roma\, 00199\, Italia
CATEGORIES:Cucina generale,Per coppie,per esperti,Per principianti,Pesce
ATTACH;FMTTYPE=image/jpeg:https://mamamediterraneum.it/wp-content/uploads/2019/09/polpo.jpg
END:VEVENT
BEGIN:VEVENT
DTSTART;TZID=Europe/Rome:20220311T190000
DTEND;TZID=Europe/Rome:20220311T220000
DTSTAMP:20260424T135856
CREATED:20220211T104452Z
LAST-MODIFIED:20220214T140042Z
UID:10002555-1647025200-1647036000@mamamediterraneum.it
SUMMARY:Le conchiglie\, scrigni di bontà
DESCRIPTION:Possono essere più o meno grandi\, ma al loro interno tutte le conchiglie di mare\, contengono preziosi molluschi carichi di sapore\nSarà compito della docente della serata\, Kaba Corapi\, quello di svelarvi tutti i segreti per valorizzare questi molluschi bivalvi che\, se ben cucinati\, ci regalano sapori straordinari. La nostra Chef vi insegnerà a realizzare tre particolarissimi piatti che\, solo a leggerne i nomi\, provocano l’acquolina in bocca: una tempura di cannolicchi con salsa all’aglio nero\, una fregola con le cozze marinate e la loro maionese e un maiale con le vongole all’alentejana.
URL:https://mamamediterraneum.it/lezioni/le-conchiglie-scrigni-di-bonta/
LOCATION:MaMà Mediterraneum\, via di Priscilla 15-17\, Roma\, 00199\, Italia
CATEGORIES:Per coppie,per esperti,Per principianti,Pesce,Secondi
ATTACH;FMTTYPE=image/jpeg:https://mamamediterraneum.it/wp-content/uploads/2022/02/conchiglie.jpg
END:VEVENT
BEGIN:VEVENT
DTSTART;TZID=Europe/Rome:20220121T190000
DTEND;TZID=Europe/Rome:20220121T220000
DTSTAMP:20260424T135856
CREATED:20211214T102730Z
LAST-MODIFIED:20220109T230837Z
UID:10002532-1642791600-1642802400@mamamediterraneum.it
SUMMARY:Polpo di fulmine!
DESCRIPTION:Il polpo\, re dei molluschi cefalopodi\, è uno degli ingredienti più versatili in cucina e tra i più amati dagli chef\nPuò essere servito sotto varie forme e\, con il suo sapore\, si presta ad essere abbinato con molteplici ingredienti. Lo Chef Aurelio Carraffa\, docente di questa lezione\, ci insegnerà i segreti per cucinarlo e per valorizzare le sue carni. La serata prevede la preparazione di tre gustose ricette: una insalata di polpo in salsa verde con crema di patate e frutti del cappero\, degli spaghetti con lo stracotto di polpo e crema di pecorino e dei ravioli di polpo fritti\, su crema di ceci e pomodori secchi
URL:https://mamamediterraneum.it/lezioni/polpo-di-fulmine/
LOCATION:MaMà Mediterraneum\, via di Priscilla 15-17\, Roma\, 00199\, Italia
CATEGORIES:Cucina generale,Per coppie,per esperti,Per principianti,Pesce
ATTACH;FMTTYPE=image/jpeg:https://mamamediterraneum.it/wp-content/uploads/2019/12/polpo.jpg
END:VEVENT
BEGIN:VEVENT
DTSTART;TZID=Europe/Rome:20210914T190000
DTEND;TZID=Europe/Rome:20210914T220000
DTSTAMP:20260424T135856
CREATED:20210715T131544Z
LAST-MODIFIED:20210715T133156Z
UID:10002509-1631646000-1631656800@mamamediterraneum.it
SUMMARY:Polpo di scena 2 - NUOVA
DESCRIPTION:Il polpo è uno dei prodotti del mare più amati\, facile da cucinare\, versatile e veramente gustoso.\nNelle prime tre lezioni\, tutte sold out\, abbiamo proposto ricette che hanno riscosso un grande successo. Per gli amanti di questo straordinario mollusco ne proponiamo altre tre\, inedite \, che a nostro parere soddisferanno le aspettative di coloro che vorranno partecipare. Lo Chef Aurelio Carraffa vi insegnerà a realizzare un polpo alla gallega (o galiziana)\, un indimenticabile panino con otto ingredienti\, l’octopus\, e un polpo con fonduta di pecorino affumicato e crema di ceci. \nDa non perdere!
URL:https://mamamediterraneum.it/lezioni/polpo-di-scena-3/
LOCATION:MaMà Mediterraneum\, via di Priscilla 15-17\, Roma\, 00199\, Italia
CATEGORIES:Antipasti,Cucina generale,Panini,Per coppie,per esperti,Per principianti,Pesce,Secondi
ATTACH;FMTTYPE=image/jpeg:https://mamamediterraneum.it/wp-content/uploads/2021/07/polpo.jpg
END:VEVENT
BEGIN:VEVENT
DTSTART;TZID=Europe/Rome:20200519T190000
DTEND;TZID=Europe/Rome:20200519T203000
DTSTAMP:20260424T135856
CREATED:20200505T065050Z
LAST-MODIFIED:20200505T085808Z
UID:10002430-1589914800-1589920200@mamamediterraneum.it
SUMMARY:Te pijasse un polpo! - webinar
DESCRIPTION:Il polpo è uno dei prodotti del mare più amati\, facile da cucinare\, versatile e veramente gustoso.\nPer gli amanti di questo straordinario mollusco proponiamo due ricette che\, a nostro parere soddisferanno le aspettative di coloro che vorranno partecipare a questo seminario on-line. Lo Chef Aurelio Carraffa vi insegnerà a realizzare delle linguine con ragù di polpo e crema di cicoria e un polpo con patata affumicata e cipolla caramellata
URL:https://mamamediterraneum.it/lezioni/polpo-di-scena-2/
LOCATION:on-line
CATEGORIES:Cucina generale,on-line,Pasta ripiena,Per coppie,per esperti,Per principianti,Pesce,Primi
ATTACH;FMTTYPE=image/jpeg:https://mamamediterraneum.it/wp-content/uploads/2020/05/polpo.jpg
END:VEVENT
BEGIN:VEVENT
DTSTART;TZID=Europe/Rome:20200313T190000
DTEND;TZID=Europe/Rome:20200313T220000
DTSTAMP:20260424T135856
CREATED:20200210T171705Z
LAST-MODIFIED:20200210T171705Z
UID:10002195-1584126000-1584136800@mamamediterraneum.it
SUMMARY:Polp fiction
DESCRIPTION:Il polpo\, re dei molluschi cefalopodi\, è uno degli ingredienti più versatili in cucina e tra i più amati dagli chef\nPuò essere servito sotto varie forme e\, con il suo sapore\, si presta ad essere abbinato con molteplici ingredienti. Lo Chef Luca Materazzi\, docente di questa lezione\, ci insegnerà i segreti per cucinarlo e per valorizzare le sue carni. La serata prevede la preparazione di tre gustose ricette: degli spaghettoni con ragù di polpo\, delle polpette di polpo e melanzane e insalata con citronette al mango e uno spiedino di polpo\, patate\, salsa ponzu e hummus di ceci
URL:https://mamamediterraneum.it/lezioni/polp-fiction-2/
LOCATION:MaMà Mediterraneum\, via di Priscilla 15-17\, Roma\, 00199\, Italia
CATEGORIES:Cucina generale,Per coppie,per esperti,Per principianti,Pesce
ATTACH;FMTTYPE=image/jpeg:https://mamamediterraneum.it/wp-content/uploads/2019/12/polpo.jpg
END:VEVENT
BEGIN:VEVENT
DTSTART;TZID=Europe/Rome:20200128T190000
DTEND;TZID=Europe/Rome:20200128T220000
DTSTAMP:20260424T135856
CREATED:20191211T160738Z
LAST-MODIFIED:20191211T163717Z
UID:10002399-1580238000-1580248800@mamamediterraneum.it
SUMMARY:Polp fiction
DESCRIPTION:Il polpo\, re dei molluschi cefalopodi\, è uno degli ingredienti più versatili in cucina e tra i più amati dagli chef\nPuò essere servito sotto varie forme e\, con il suo sapore\, si presta ad essere abbinato con molteplici ingredienti. Lo Chef Luca Materazzi\, docente di questa lezione\, ci insegnerà i segreti per cucinarlo e per valorizzare le sue carni. La serata prevede la preparazione di tre gustose ricette: degli spaghettoni con ragù di polpo\, delle polpette di polpo e melanzane e insalata con citronette al mango e uno spiedino di polpo\, patate\, salsa ponzu e hummus di ceci
URL:https://mamamediterraneum.it/lezioni/polp-fiction/
LOCATION:MaMà Mediterraneum\, via di Priscilla 15-17\, Roma\, 00199\, Italia
CATEGORIES:Cucina generale,Per coppie,per esperti,Per principianti,Pesce
ATTACH;FMTTYPE=image/jpeg:https://mamamediterraneum.it/wp-content/uploads/2019/12/polpo.jpg
END:VEVENT
BEGIN:VEVENT
DTSTART;TZID=Europe/Rome:20191217T190000
DTEND;TZID=Europe/Rome:20191217T220000
DTSTAMP:20260424T135856
CREATED:20191115T140907Z
LAST-MODIFIED:20191216T143022Z
UID:10002378-1576609200-1576620000@mamamediterraneum.it
SUMMARY:Risotti di mare 2
DESCRIPTION:La riuscita di un risotto dipende dalla qualità degli ingredienti\, il riso in primis\, ma anche dalla tecnica di preparazione\nSaranno il pesce e i frutti di mare i protagonisti della serata insieme all’eccellente riso Cascina Oschiena. Anche la mantecatura e la consistenza finale fanno la differenza tra un buon risotto e un risotto ordinario. Lo Chef Aurelio Carraffa avrà tre ricette per insegnarvi come realizzare delle ottime ricette come il risotto al nero di seppia con ‘nduja e stracciata di burrata\, il risotto al baccalà con agrumi canditi e non e quello al limone con le vongole
URL:https://mamamediterraneum.it/lezioni/risotti-di-mare-2/
LOCATION:MaMà Mediterraneum\, via di Priscilla 15-17\, Roma\, 00199\, Italia
CATEGORIES:Pesce,Primi,Risotti
ATTACH;FMTTYPE=image/jpeg:https://mamamediterraneum.it/wp-content/uploads/2019/11/risotti-di-mare.jpg
END:VEVENT
BEGIN:VEVENT
DTSTART;TZID=Europe/Rome:20191015T190000
DTEND;TZID=Europe/Rome:20191015T220000
DTSTAMP:20260424T135857
CREATED:20190914T085014Z
LAST-MODIFIED:20190915T153939Z
UID:10002125-1571166000-1571176800@mamamediterraneum.it
SUMMARY:Polpo di scena
DESCRIPTION:Il polpo è uno dei prodotti del mare più amati\, facile da cucinare\, versatile e veramente gustoso.\nNella prima due lezioni\, sold out\, abbiamo proposto ricette che hanno riscosso un grande successo. Per gli amanti di questo straordinario mollusco ne proponiamo altre tre\, inedite\, che a nostro parere soddisferanno le aspettative di coloro che vorranno partecipare. Lo Chef Aurelio Carraffa vi insegnerà a realizzare una catalana di polpo\, degli spaghetti con i polpetti affogati alla napoletana e dei ravioli di patate con ragù di polpo e crema di pecorino siciliano
URL:https://mamamediterraneum.it/lezioni/polpo-di-scena/
LOCATION:MaMà Mediterraneum\, via di Priscilla 15-17\, Roma\, 00199\, Italia
CATEGORIES:Cucina generale,Pasta ripiena,Per coppie,per esperti,Per principianti,Pesce,Primi
ATTACH;FMTTYPE=image/jpeg:https://mamamediterraneum.it/wp-content/uploads/2019/09/polpo.jpg
END:VEVENT
BEGIN:VEVENT
DTSTART;TZID=UTC:20190709T190000
DTEND;TZID=UTC:20190709T220000
DTSTAMP:20260424T135857
CREATED:20190613T112056Z
LAST-MODIFIED:20190613T114218Z
UID:10002336-1562698800-1562709600@mamamediterraneum.it
SUMMARY:Molluschi e crostacei
DESCRIPTION:I molluschi e i crostacei sono prodotti del mare di grande pregio che\, se “trattati” con rispetto\, sono in grado di regalarci piatti straordinari\nIn questa serata prepareremo tre piatti di grande interesse\, con materie prime locali di altissima qualità. Lo chef Luca Materazzi vi farà divertire aiutandovi a preparare una capasanta con polvere di olio alla nocciola e aioli\, un riso con gambero rosso di Mazzara\, stracciatella e zafferano e un battuto di mazzancolle con ciliegie e avocado
URL:https://mamamediterraneum.it/lezioni/molluschi-e-crostacei/
LOCATION:MaMà Mediterraneum\, via di Priscilla 15-17\, Roma\, 00199\, Italia
CATEGORIES:Cucina generale,menu,Per coppie,per esperti,Per principianti,Pesce
ATTACH;FMTTYPE=image/jpeg:https://mamamediterraneum.it/wp-content/uploads/2019/06/molluschi-crostacei.jpg
END:VEVENT
BEGIN:VEVENT
DTSTART;TZID=UTC:20181128T190000
DTEND;TZID=UTC:20181128T220000
DTSTAMP:20260424T135857
CREATED:20181014T133512Z
LAST-MODIFIED:20181014T140546Z
UID:10002036-1543431600-1543442400@mamamediterraneum.it
SUMMARY:i molluschi con conchiglia
DESCRIPTION:Conosciuti come molluschi bivalvi\, questi tesori del mare sono una vera delizia per il palato.\nLo chef Luca Materazzi ha ideato tre fantastiche ricette che avrà modo di insegnarvi e di farvi gustare a seguito della loro preparazione. La serata inizierà con la preparazione di un antipasto a base di vongole\, funghi e chips di rapa rossa\, per proseguire con una capa santa\, foie gras e crema di mais e si concluderà con la preparazione dei tonnarelli all’uovo e aglio nero\, con cozze e zucca. \n 
URL:https://mamamediterraneum.it/lezioni/i-molluschi-con-conchiglia/
LOCATION:MaMà Mediterraneum\, via di Priscilla 15-17\, Roma\, 00199\, Italia
CATEGORIES:Antipasti,Pasta,Pasta fresca,Primi
ATTACH;FMTTYPE=image/jpeg:https://mamamediterraneum.it/wp-content/uploads/2018/10/conchiglie.jpg
END:VEVENT
END:VCALENDAR