BEGIN:VCALENDAR
VERSION:2.0
PRODID:-//Mamamediterraneum - ECPv6.15.18//NONSGML v1.0//EN
CALSCALE:GREGORIAN
METHOD:PUBLISH
X-WR-CALNAME:Mamamediterraneum
X-ORIGINAL-URL:https://mamamediterraneum.it
X-WR-CALDESC:Eventi per Mamamediterraneum
REFRESH-INTERVAL;VALUE=DURATION:PT1H
X-Robots-Tag:noindex
X-PUBLISHED-TTL:PT1H
BEGIN:VTIMEZONE
TZID:UTC
BEGIN:STANDARD
TZOFFSETFROM:+0000
TZOFFSETTO:+0000
TZNAME:UTC
DTSTART:20170101T000000
END:STANDARD
END:VTIMEZONE
BEGIN:VEVENT
DTSTART;TZID=UTC:20180614T190000
DTEND;TZID=UTC:20180614T220000
DTSTAMP:20260420T220941
CREATED:20180503T103824Z
LAST-MODIFIED:20180504T064526Z
UID:10002082-1529002800-1529013600@mamamediterraneum.it
SUMMARY:Una serata in morbidezza: mousse salate e dolci
DESCRIPTION:Con il termine mousse\, mutuato come molti altri dal linguaggio della cucina francese\, si intendono quelle preparazioni che assumono una consistenza schiumosa grazie all’inglobamento nella massa di microscopiche bolle di aria.\nLe mousse\, per lo più dolci\, possono avere anche un carattere sapido e possono essere servite come gustosi antipasti. \nIn questa lezione Paola Lanini e Antonella Comite\, le titolari di Cuochechepassione\, insegneranno ad utilizzare tecniche di preparazione diverse per la preparazione delle diverse mousse\, come la meringa italiana e base semifreddo\, per un uso sicuro delle uova. Queste le ricette della serata: mousse di ricotta di bufala\, mousse al caffè e mousse di fragole. \n 
URL:https://mamamediterraneum.it/lezioni/serata-morbidezza-mousse-salate-dolci/
LOCATION:MaMà Mediterraneum\, via di Priscilla 15-17\, Roma\, 00199\, Italia
CATEGORIES:Antipasti,Dolci al cucchiaio
ATTACH;FMTTYPE=image/jpeg:https://mamamediterraneum.it/wp-content/uploads/2018/05/mousse-fragola.jpg
END:VEVENT
BEGIN:VEVENT
DTSTART;TZID=UTC:20180412T190000
DTEND;TZID=UTC:20180412T220000
DTSTAMP:20260420T220941
CREATED:20180212T141055Z
LAST-MODIFIED:20180216T093027Z
UID:10002061-1523559600-1523570400@mamamediterraneum.it
SUMMARY:I dolci al cucchiaio classici
DESCRIPTION:A volte si prova piacere anche solo affondando il cucchiaio in una morbida mousse…\nLa docente Nicoletta Lanci preparerà tutto l’occorrente per insegnarvi a preparare delle gustosissime ricette dolci. Preparazioni semplici ma che richiedono specifici passaggi e lavorazioni per ottenere degli ottimi dolci. Impasterete e lavorerete gli ingredienti per preparare un classico tiramisù\, una mousse al cioccolato e una cheesecake ai frutti di bosco.
URL:https://mamamediterraneum.it/lezioni/morbidosa-cedevolezza/
LOCATION:MaMà Mediterraneum\, via di Priscilla 15-17\, Roma\, 00199\, Italia
CATEGORIES:Dolci,Dolci al cucchiaio
ATTACH;FMTTYPE=image/jpeg:https://mamamediterraneum.it/wp-content/uploads/2018/02/cheesecake.jpg
END:VEVENT
END:VCALENDAR