BEGIN:VCALENDAR
VERSION:2.0
PRODID:-//Mamamediterraneum - ECPv6.15.18//NONSGML v1.0//EN
CALSCALE:GREGORIAN
METHOD:PUBLISH
X-ORIGINAL-URL:https://mamamediterraneum.it
X-WR-CALDESC:Eventi per Mamamediterraneum
REFRESH-INTERVAL;VALUE=DURATION:PT1H
X-Robots-Tag:noindex
X-PUBLISHED-TTL:PT1H
BEGIN:VTIMEZONE
TZID:Europe/Rome
BEGIN:DAYLIGHT
TZOFFSETFROM:+0100
TZOFFSETTO:+0200
TZNAME:CEST
DTSTART:20200329T010000
END:DAYLIGHT
BEGIN:STANDARD
TZOFFSETFROM:+0200
TZOFFSETTO:+0100
TZNAME:CET
DTSTART:20201025T010000
END:STANDARD
BEGIN:DAYLIGHT
TZOFFSETFROM:+0100
TZOFFSETTO:+0200
TZNAME:CEST
DTSTART:20210328T010000
END:DAYLIGHT
BEGIN:STANDARD
TZOFFSETFROM:+0200
TZOFFSETTO:+0100
TZNAME:CET
DTSTART:20211031T010000
END:STANDARD
BEGIN:DAYLIGHT
TZOFFSETFROM:+0100
TZOFFSETTO:+0200
TZNAME:CEST
DTSTART:20220327T010000
END:DAYLIGHT
BEGIN:STANDARD
TZOFFSETFROM:+0200
TZOFFSETTO:+0100
TZNAME:CET
DTSTART:20221030T010000
END:STANDARD
END:VTIMEZONE
BEGIN:VEVENT
DTSTART;TZID=Europe/Rome:20211124T190000
DTEND;TZID=Europe/Rome:20211124T220000
DTSTAMP:20260420T024655
CREATED:20200913T164006Z
LAST-MODIFIED:20211014T170311Z
UID:10002463-1637780400-1637791200@mamamediterraneum.it
SUMMARY:La pasta frolla e le sue varianti
DESCRIPTION:Dire “pasta frolla” è riduttivo poiché esistono molte ricette e diverse varianti per realizzarla\nIl nostro Pastry Chef Gianluca Forino vi insegnerà la teoria e la tecnica per una corretta realizzazione della pasta frolla. In particolare la lezione\, molto ricca di preparazioni\, vi darà modo di imparare a realizzare: pasta frolla montata\, pasta sablé\, pasta frolla alla nocciola\, pasta frolla al cacao\, biscotti alla vaniglia\, biscotti al cioccolato e frutta secca\, cookies e cantucci
URL:https://mamamediterraneum.it/lezioni/la-pasta-frolla-e-le-sue-varianti/
LOCATION:MaMà Mediterraneum\, via di Priscilla 15-17\, Roma\, 00199\, Italia
CATEGORIES:pasticceria,Per coppie,per esperti,Per principianti
ATTACH;FMTTYPE=image/jpeg:https://mamamediterraneum.it/wp-content/uploads/2020/09/pasta-frolla.jpg
END:VEVENT
END:VCALENDAR