BEGIN:VCALENDAR
VERSION:2.0
PRODID:-//Mamamediterraneum - ECPv6.15.18//NONSGML v1.0//EN
CALSCALE:GREGORIAN
METHOD:PUBLISH
X-WR-CALNAME:Mamamediterraneum
X-ORIGINAL-URL:https://mamamediterraneum.it
X-WR-CALDESC:Eventi per Mamamediterraneum
REFRESH-INTERVAL;VALUE=DURATION:PT1H
X-Robots-Tag:noindex
X-PUBLISHED-TTL:PT1H
BEGIN:VTIMEZONE
TZID:UTC
BEGIN:STANDARD
TZOFFSETFROM:+0000
TZOFFSETTO:+0000
TZNAME:UTC
DTSTART:20240101T000000
END:STANDARD
END:VTIMEZONE
BEGIN:VEVENT
DTSTART;TZID=UTC:20250710T190000
DTEND;TZID=UTC:20250710T220000
DTSTAMP:20260424T075305
CREATED:20250514T145429Z
LAST-MODIFIED:20250614T153159Z
UID:10003161-1752174000-1752184800@mamamediterraneum.it
SUMMARY:Buddha e poke bowls
DESCRIPTION:È la moda del momento quella delle ciotole così colme di vari ingredienti da ricordare lo stomaco delle statue raffiguranti Buddha\nQuando contengono anche il pesce crudo e il riso bianco costituiscono una sorta di sushi scomposto\, tipico delle Hawaii\, che prende il nome di Poke. La bravissima Chef Kaba Corapi avrà il compito di guidarvi nella preparazioni di tutti gli ingredienti\, nel taglio delle molte verdure e dei pesci che\, assemblati nelle ciotole\, andranno a formare questi piatti unici:  poke: riso Venere e pesce bianco\, cipolla di Tropea\, pesca\, edamame\, semi e germogli. Buddha bowl: grano saraceno\, datterini marinati alle erbe\, melanzane\, tempeh dorato\, avocado\, germogli e uno adatto per la colazione/dessert: quinoa\, cacao\, cocco\, frutta fresca e secca
URL:https://mamamediterraneum.it/lezioni/buddha-e-poke-bowls-4/
LOCATION:MaMà Mediterraneum\, via di Priscilla 15-17\, Roma\, 00199\, Italia
CATEGORIES:Per coppie,per esperti,Per principianti,Pesce,Piatto unico
ATTACH;FMTTYPE=image/jpeg:https://mamamediterraneum.it/wp-content/uploads/2019/05/buddha-bowl.jpg
END:VEVENT
END:VCALENDAR