BEGIN:VCALENDAR
VERSION:2.0
PRODID:-//Mamamediterraneum - ECPv6.15.18//NONSGML v1.0//EN
CALSCALE:GREGORIAN
METHOD:PUBLISH
X-WR-CALNAME:Mamamediterraneum
X-ORIGINAL-URL:https://mamamediterraneum.it
X-WR-CALDESC:Eventi per Mamamediterraneum
REFRESH-INTERVAL;VALUE=DURATION:PT1H
X-Robots-Tag:noindex
X-PUBLISHED-TTL:PT1H
BEGIN:VTIMEZONE
TZID:UTC
BEGIN:STANDARD
TZOFFSETFROM:+0000
TZOFFSETTO:+0000
TZNAME:UTC
DTSTART:20170101T000000
END:STANDARD
END:VTIMEZONE
BEGIN:VTIMEZONE
TZID:Europe/Rome
BEGIN:DAYLIGHT
TZOFFSETFROM:+0100
TZOFFSETTO:+0200
TZNAME:CEST
DTSTART:20190331T010000
END:DAYLIGHT
BEGIN:STANDARD
TZOFFSETFROM:+0200
TZOFFSETTO:+0100
TZNAME:CET
DTSTART:20191027T010000
END:STANDARD
BEGIN:DAYLIGHT
TZOFFSETFROM:+0100
TZOFFSETTO:+0200
TZNAME:CEST
DTSTART:20200329T010000
END:DAYLIGHT
BEGIN:STANDARD
TZOFFSETFROM:+0200
TZOFFSETTO:+0100
TZNAME:CET
DTSTART:20201025T010000
END:STANDARD
BEGIN:DAYLIGHT
TZOFFSETFROM:+0100
TZOFFSETTO:+0200
TZNAME:CEST
DTSTART:20210328T010000
END:DAYLIGHT
BEGIN:STANDARD
TZOFFSETFROM:+0200
TZOFFSETTO:+0100
TZNAME:CET
DTSTART:20211031T010000
END:STANDARD
END:VTIMEZONE
BEGIN:VEVENT
DTSTART;TZID=UTC:20260120T190000
DTEND;TZID=UTC:20260120T220000
DTSTAMP:20260419T192112
CREATED:20251214T105250Z
LAST-MODIFIED:20251214T105250Z
UID:10003279-1768935600-1768946400@mamamediterraneum.it
SUMMARY:In viaggio con le spezie: le polpette degli "Altri"
DESCRIPTION:Si sa\, le polpette piacciono a tutti\, grandi e bambini e fanno parte del patrimonio gastronomico di tutti i popoli\nIn questa lezione monografica\, il nostro “cuciniere” Aurelio Carraffa ci insegnerà a realizzarne diverse\, tipiche del Medio Oriente\, impastando tutti gli ingredienti per formare gustosissime piccole sfere. L’uso delle spezie e delle erbe aromatiche impreziosiranno gli impasti che daranno vita a delle kotlet\, polpette persiane di manzo e patate\, a delle kofta kebab\, le famose polpette cotte intorno allo spiedo e a dei croccantissimi falafel\, le polpette di ceci fritte. \nImperdibile…
URL:https://mamamediterraneum.it/lezioni/in-viaggio-con-le-spezie-le-polpette-degli-altri-2/
LOCATION:MaMà Mediterraneum\, via di Priscilla 15-17\, Roma\, 00199\, Italia
CATEGORIES:Antipasti,Carne,Cucina generale,Etnica,Per coppie,per esperti,Per principianti,spezie,verdure
ATTACH;FMTTYPE=image/jpeg:https://mamamediterraneum.it/wp-content/uploads/2021/07/polpette.jpg
END:VEVENT
BEGIN:VEVENT
DTSTART;TZID=UTC:20241209T190000
DTEND;TZID=UTC:20241209T220000
DTSTAMP:20260419T192112
CREATED:20241114T112148Z
LAST-MODIFIED:20241114T112148Z
UID:10003033-1733770800-1733781600@mamamediterraneum.it
SUMMARY:Antipasti natalizi
DESCRIPTION:La festività natalizie sono una gradita occasione da trascorrere con le persone a noi più care anche condividendo del buon cibo\nTra i piatti da proporre\, gli antipasti ci danno la possibilità di offrire piccole porzioni di cibo anche per una cena a base di piccoli assaggi. Sarà compito del docente\, lo chef Aurelio Carraffa\, insegnarvi nuove ricette adatte per l’occasione. La lezione prevedrà la preparazione di un carpaccio di spigola al pepe rosa\, un salmone marinato alla rapa rossa con creme fraiche fatta in casa\, delle frittelle di zucchine e menta\, una crema fritta all’ascolana e dei classici crostini di fegatini alla toscana
URL:https://mamamediterraneum.it/lezioni/antipasti-natalizi-3/
LOCATION:MaMà Mediterraneum\, via di Priscilla 15-17\, Roma\, 00199\, Italia
CATEGORIES:Antipasti,Carne,Fritti,Per coppie,per esperti,Per principianti,Pesce,Secondi,verdure
ATTACH;FMTTYPE=image/jpeg:https://mamamediterraneum.it/wp-content/uploads/2024/11/antipasti-natalizi.jpg
END:VEVENT
BEGIN:VEVENT
DTSTART;TZID=UTC:20231201T190000
DTEND;TZID=UTC:20231201T220000
DTSTAMP:20260419T192112
CREATED:20231115T084807Z
LAST-MODIFIED:20231115T084808Z
UID:10002668-1701457200-1701468000@mamamediterraneum.it
SUMMARY:Antipasti natalizi
DESCRIPTION:La festività natalizie sono una gradita occasione da trascorrere con le persone a noi più care anche condividendo del buon cibo\nTra i piatti da proporre\, gli antipasti ci danno la possibilità di offrire piccole porzioni di cibo anche per una cena a base di piccoli assaggi. Sarà compito della docente Kaba Corapi insegnarvi nuove ricette adatte per l’occasione. In particolare la lezione sarà una occasione per imparare a preparare un carpaccio di salmone marinato a secco con erbe aromatiche e scorzette\, una caponata di pere e pescespada\, una classica Vichyssoise e degli scrigni di prosciutto affumicato e ortaggi croccanti\, maionese al lime e pepe rosa
URL:https://mamamediterraneum.it/lezioni/antipasti-natalizi/
LOCATION:MaMà Mediterraneum\, via di Priscilla 15-17\, Roma\, 00199\, Italia
CATEGORIES:Antipasti,Carne,Per coppie,per esperti,Per principianti,Pesce,Secondi,verdure
ATTACH;FMTTYPE=image/jpeg:https://mamamediterraneum.it/wp-content/uploads/2023/11/carpaccio-salmone.jpg
END:VEVENT
BEGIN:VEVENT
DTSTART;TZID=UTC:20220519T190000
DTEND;TZID=UTC:20220519T220000
DTSTAMP:20260419T192112
CREATED:20220412T145330Z
LAST-MODIFIED:20220414T091235Z
UID:10002577-1652986800-1652997600@mamamediterraneum.it
SUMMARY:Polpette e polpettoni
DESCRIPTION:L’impasto di carni con pane\, uova e spezie è da sempre una preparazione della cucina di famiglia\, un cibo confortevole che ci ricorda la nostra infanzia e i nostri cari\nSarà compito della docente Kaba Corapi insegnarvi nuovi impasti e nuovi condimenti\, non per sostituire ciò che da sempre è buono\, ma per avere delle interessanti alternative da utilizzare in occasioni particolari e non. Le ricette della serata\, decisamente di stagione\, prevedono la realizzazione di polpette di zucchine alla greca\, di un polpettone di manzo “falso magro” e di polpette di pollo in umido
URL:https://mamamediterraneum.it/lezioni/polpette-e-polpettoni-2-2/
LOCATION:MaMà Mediterraneum\, via di Priscilla 15-17\, Roma\, 00199\, Italia
CATEGORIES:Antipasti,Carne,Per coppie,per esperti,Per principianti,Pesce,Secondi
ATTACH;FMTTYPE=image/jpeg:https://mamamediterraneum.it/wp-content/uploads/2022/04/fritti-2.jpg
END:VEVENT
BEGIN:VEVENT
DTSTART;TZID=UTC:20220207T190000
DTEND;TZID=UTC:20220207T220000
DTSTAMP:20260419T192112
CREATED:20220114T121249Z
LAST-MODIFIED:20220211T101314Z
UID:10002544-1644260400-1644271200@mamamediterraneum.it
SUMMARY:Polpetta mon amour!
DESCRIPTION:Si sa\, le polpette piacciono a tutti\, grandi e bambini e\, come si dice\, una tira l’altra…\nEcco perché in questa lezione monografica il nostro “cuciniere” Roberto Angelitti ci insegnerà a farne di diversi tipi impastando tutti gli ingredienti per formare gustosissime piccole sfere. Impasteremo e cucineremo delle gustosissime  polpette di manzo con uvetta pinoli e brandy\, delle profumatissime polpette di bollito e le polpette vegetali con cannellini e paprica affumicata
URL:https://mamamediterraneum.it/lezioni/polpetta-mon-amour-2/
LOCATION:MaMà Mediterraneum\, via di Priscilla 15-17\, Roma\, 00199\, Italia
CATEGORIES:Antipasti,Cucina generale,Per coppie,Per principianti
ATTACH;FMTTYPE=image/jpeg:https://mamamediterraneum.it/wp-content/uploads/2018/04/piovono-polpette.jpg
END:VEVENT
BEGIN:VEVENT
DTSTART;TZID=UTC:20210924T190000
DTEND;TZID=UTC:20210924T220000
DTSTAMP:20260419T192112
CREATED:20251214T104741Z
LAST-MODIFIED:20251214T104741Z
UID:10003273-1632510000-1632520800@mamamediterraneum.it
SUMMARY:In viaggio con le spezie: le polpette degli "Altri"
DESCRIPTION:Si sa\, le polpette piacciono a tutti\, grandi e bambini e fanno parte del patrimonio gastronomico di tutti i popoli\nIn questa lezione monografica\, il nostro “cuciniere” Aurelio Carraffa ci insegnerà a realizzarne diverse\, tipiche del Medio Oriente\, impastando tutti gli ingredienti per formare gustosissime piccole sfere. L’uso delle spezie e delle erbe aromatiche impreziosiranno gli impasti che daranno vita a delle kotlet\, polpette persiane di manzo e patate\, a delle kofta kebab\, le famose polpette cotte intorno allo spiedo e a dei croccantissimi falafel\, le polpette di ceci fritte. \nImperdibile…
URL:https://mamamediterraneum.it/lezioni/in-viaggio-con-le-spezie-le-polpette-degli-altri/
LOCATION:MaMà Mediterraneum\, via di Priscilla 15-17\, Roma\, 00199\, Italia
CATEGORIES:Antipasti,Carne,Cucina generale,Etnica,Per coppie,per esperti,Per principianti,spezie,verdure
ATTACH;FMTTYPE=image/jpeg:https://mamamediterraneum.it/wp-content/uploads/2021/07/polpette.jpg
END:VEVENT
BEGIN:VEVENT
DTSTART;TZID=UTC:20210924T190000
DTEND;TZID=UTC:20210924T220000
DTSTAMP:20260419T192112
CREATED:20210715T131630Z
LAST-MODIFIED:20210715T133258Z
UID:10002510-1632510000-1632520800@mamamediterraneum.it
SUMMARY:In viaggio con le spezie: le polpette degli "altri" - NUOVA
DESCRIPTION:Si sa\, le polpette piacciono a tutti\, grandi e bambini e fanno parte del patrimonio gastronomico di tutti i popoli\nIn questa lezione monografica\, il nostro “cuciniere” Aurelio Carraffa ci insegnerà a realizzarne diverse\, tipiche del Medio Oriente\, impastando tutti gli ingredienti per formare gustosissime piccole sfere. L’uso delle spezie e delle erbe aromatiche impreziosiranno gli impasti che daranno vita a delle kotlet\, polpette persiane di manzo e patate\, a delle kofta kebab\, le famose polpette cotte intorno allo spiedo e a dei croccantissimi falafel\, le polpette di ceci fritte. \nImperdibile…
URL:https://mamamediterraneum.it/lezioni/polpette/
LOCATION:MaMà Mediterraneum\, via di Priscilla 15-17\, Roma\, 00199\, Italia
CATEGORIES:Antipasti,Carne,Cucina generale,Etnica,Per coppie,per esperti,Per principianti,spezie,verdure
ATTACH;FMTTYPE=image/jpeg:https://mamamediterraneum.it/wp-content/uploads/2021/07/polpette.jpg
END:VEVENT
BEGIN:VEVENT
DTSTART;TZID=Europe/Rome:20200221T190000
DTEND;TZID=Europe/Rome:20200221T220000
DTSTAMP:20260419T192112
CREATED:20191015T144607Z
LAST-MODIFIED:20200115T082922Z
UID:10002150-1582311600-1582322400@mamamediterraneum.it
SUMMARY:meatballs for the people
DESCRIPTION:Le polpette di carne sono una goduria per il palato oltre ad un vero esempio di comfort food\nDifficile non amarle\, cucinate in umido o fritte\, in bianco o al pomodoro. Il nostro resident Chef\, Aurelio Carraffa\, vi farà realizzare diversi impasti per poi formare polpette piccole e grandi che andranno a costituire il menu della serata che prevede: degli spaghetti con le polpettine al sugo\, delle polpette di mortadella\, delle polpette al vino bianco e delle romanissime polpette di bollito
URL:https://mamamediterraneum.it/lezioni/meatballs-for-the-people/
LOCATION:MaMà Mediterraneum\, via di Priscilla 15-17\, Roma\, 00199\, Italia
CATEGORIES:Antipasti,Carne,Pasta,Per coppie,per esperti,Per principianti,Secondi
ATTACH;FMTTYPE=image/jpeg:https://mamamediterraneum.it/wp-content/uploads/2019/10/meatballs.jpg
END:VEVENT
BEGIN:VEVENT
DTSTART;TZID=UTC:20190401T190000
DTEND;TZID=UTC:20190401T220000
DTSTAMP:20260419T192112
CREATED:20190314T152032Z
LAST-MODIFIED:20190314T152032Z
UID:10002294-1554145200-1554156000@mamamediterraneum.it
SUMMARY:Polpette e polpettoni
DESCRIPTION:L’impasto di carni con pane\, uova e spezie è da sempre una preparazione della cucina di famiglia\, un cibo confortevole che ci ricorda la nostra infanzia e i nostri cari\nSarà compito del docente Luca Materazzi insegnarvi nuovi impasti e nuovi condimenti\, non per sostituire ciò che da sempre è buono\, ma per avere delle interessanti alternative da utilizzare in occasioni particolari e non. Le ricette della serata prevedono la realizzazione di  polpette di pollo e béchamel con chutney di albicocche secche\, polpettone di carne farcito con carciofi e tartufo\, con cipolle rosse caramellate per finire con delle polpette fritte di baccalà
URL:https://mamamediterraneum.it/lezioni/polpette-e-polpettoni-2/
LOCATION:MaMà Mediterraneum\, via di Priscilla 15-17\, Roma\, 00199\, Italia
CATEGORIES:Antipasti,Carne,Per coppie,per esperti,Per principianti,Pesce,Secondi
ATTACH;FMTTYPE=image/jpeg:https://mamamediterraneum.it/wp-content/uploads/2019/01/polpettone.jpg
END:VEVENT
BEGIN:VEVENT
DTSTART;TZID=UTC:20190218T190000
DTEND;TZID=UTC:20190218T220000
DTSTAMP:20260419T192112
CREATED:20190113T091437Z
LAST-MODIFIED:20190114T084614Z
UID:10002229-1550516400-1550527200@mamamediterraneum.it
SUMMARY:Polpette e polpettoni
DESCRIPTION:L’impasto di carni con pane\, uova e spezie è da sempre una preparazione della cucina di famiglia\, un cibo confortevole che ci ricorda la nostra infanzia e i nostri cari\nSarà compito del docente Luca Materazzi insegnarvi nuovi impasti e nuovi condimenti\, non per sostituire ciò che da sempre è buono\, ma per avere delle interessanti alternative da utilizzare in occasioni particolari e non. Le ricette della serata prevedono la realizzazione di  polpette di pollo e béchamel con chutney di albicocche secche\, polpettone di carne farcito con carciofi e tartufo\, con cipolle rosse caramellate per finire con delle polpette fritte di baccalà
URL:https://mamamediterraneum.it/lezioni/polpette-e-polpettoni/
LOCATION:MaMà Mediterraneum\, via di Priscilla 15-17\, Roma\, 00199\, Italia
CATEGORIES:Antipasti,Carne,Per coppie,per esperti,Per principianti,Pesce,Secondi
ATTACH;FMTTYPE=image/jpeg:https://mamamediterraneum.it/wp-content/uploads/2019/01/polpettone.jpg
END:VEVENT
BEGIN:VEVENT
DTSTART;TZID=UTC:20180514T190000
DTEND;TZID=UTC:20180514T220000
DTSTAMP:20260419T192112
CREATED:20180417T075536Z
LAST-MODIFIED:20210715T111316Z
UID:10002075-1526324400-1526335200@mamamediterraneum.it
SUMMARY:polpetta mon amour!
DESCRIPTION:Si sa\, le polpette piacciono a tutti\, grandi e bambini e\, come si dice\, una tira l’altra…\nEcco perché in questa lezione monografica il nostro “cuciniere” Aurelio Carraffa ci insegnerà a farne di diversi tipi impastando tutti gli ingredienti per formare gustosissime piccole sfere. Impasteremo e cucineremo  polpette alla “Norma”\, polpette di pane\, polpette di carne e salsa allo yogurt\, polpette di broccoli e maionese di tofu. \n 
URL:https://mamamediterraneum.it/lezioni/polpetta-mon-amour/
LOCATION:MaMà Mediterraneum\, via di Priscilla 15-17\, Roma\, 00199\, Italia
CATEGORIES:Antipasti,Cucina generale,Per coppie,Per principianti
ATTACH;FMTTYPE=image/jpeg:https://mamamediterraneum.it/wp-content/uploads/2018/04/piovono-polpette.jpg
END:VEVENT
END:VCALENDAR