BEGIN:VCALENDAR
VERSION:2.0
PRODID:-//Mamamediterraneum - ECPv6.15.18//NONSGML v1.0//EN
CALSCALE:GREGORIAN
METHOD:PUBLISH
X-WR-CALNAME:Mamamediterraneum
X-ORIGINAL-URL:https://mamamediterraneum.it
X-WR-CALDESC:Eventi per Mamamediterraneum
REFRESH-INTERVAL;VALUE=DURATION:PT1H
X-Robots-Tag:noindex
X-PUBLISHED-TTL:PT1H
BEGIN:VTIMEZONE
TZID:UTC
BEGIN:STANDARD
TZOFFSETFROM:+0000
TZOFFSETTO:+0000
TZNAME:UTC
DTSTART:20240101T000000
END:STANDARD
END:VTIMEZONE
BEGIN:VEVENT
DTSTART;TZID=UTC:20250521T190000
DTEND;TZID=UTC:20250521T223000
DTSTAMP:20260424T231548
CREATED:20250414T151648Z
LAST-MODIFIED:20250414T151648Z
UID:10003140-1747854000-1747866600@mamamediterraneum.it
SUMMARY:I più classici dei risotti
DESCRIPTION:Partiamo dall’assunto che la Cucina Classica Italiana è tra le migliori del mondo\, che non ci si può spingere in avanti se non si conoscono I Classici e che non è detto che\, solo perché siamo italiani\, dobbiamo saper cucinare i piatti della nostra Penisola\nIn questa lezione lo Chef Aurelio Carraffa vi guiderà nella preparazione di tre tra i più iconici risotti della tradizione. Con leggerezza e divertimento prepareremo insieme un vero risotto alla pescatora\, uno gustosissimo al nero di seppia e un risotto giallo alla milanese
URL:https://mamamediterraneum.it/lezioni/i-piu-classici-dei-risotti/
LOCATION:MaMà Mediterraneum\, via di Priscilla 15-17\, Roma\, 00199\, Italia
CATEGORIES:Per coppie,per esperti,Per principianti,Primi,riso
ATTACH;FMTTYPE=image/jpeg:https://mamamediterraneum.it/wp-content/uploads/2025/04/risotto.jpg
END:VEVENT
END:VCALENDAR