BEGIN:VCALENDAR
VERSION:2.0
PRODID:-//Mamamediterraneum - ECPv6.15.18//NONSGML v1.0//EN
CALSCALE:GREGORIAN
METHOD:PUBLISH
X-ORIGINAL-URL:https://mamamediterraneum.it
X-WR-CALDESC:Eventi per Mamamediterraneum
REFRESH-INTERVAL;VALUE=DURATION:PT1H
X-Robots-Tag:noindex
X-PUBLISHED-TTL:PT1H
BEGIN:VTIMEZONE
TZID:UTC
BEGIN:STANDARD
TZOFFSETFROM:+0000
TZOFFSETTO:+0000
TZNAME:UTC
DTSTART:20240101T000000
END:STANDARD
END:VTIMEZONE
BEGIN:VEVENT
DTSTART;TZID=UTC:20250624T190000
DTEND;TZID=UTC:20250624T220000
DTSTAMP:20260424T215651
CREATED:20250514T145446Z
LAST-MODIFIED:20250514T145446Z
UID:10003164-1750791600-1750802400@mamamediterraneum.it
SUMMARY:Risotti estivi di mare
DESCRIPTION:In base agli ingredienti utilizzati un risotto può essere più o meno adatto alla stagione calda.\nIl risotto è un primo piatto di estrema eleganza che\, al contrario di quanto si possa pensare\, è molto semplice da preparare in occasione di cene con diversi ospiti.  In questa invitante lezione il nostro Chef Aurelio Carraffa vi insegnerà la tecnica per realizzare dei risotti che\, con i giusti ingredienti\, ben si prestano alle serate estive. La serata prevede la preparazione di un risotto aglio\, olio\, peperoncino e bottarga\, un alle erbe aromatiche con julienne di seppia e un sorprendente risotto verde al cardamomo con le ostriche “grattugiate”
URL:https://mamamediterraneum.it/lezioni/risotti-estivi-di-mare-2/
LOCATION:MaMà Mediterraneum\, via di Priscilla 15-17\, Roma\, 00199\, Italia
CATEGORIES:Per coppie,per esperti,Per principianti,Pesce,Primi,riso
ATTACH;FMTTYPE=image/jpeg:https://mamamediterraneum.it/wp-content/uploads/2020/05/risotti-estivi.jpg
END:VEVENT
END:VCALENDAR