BEGIN:VCALENDAR
VERSION:2.0
PRODID:-//Mamamediterraneum - ECPv6.15.18//NONSGML v1.0//EN
CALSCALE:GREGORIAN
METHOD:PUBLISH
X-ORIGINAL-URL:https://mamamediterraneum.it
X-WR-CALDESC:Eventi per Mamamediterraneum
REFRESH-INTERVAL;VALUE=DURATION:PT1H
X-Robots-Tag:noindex
X-PUBLISHED-TTL:PT1H
BEGIN:VTIMEZONE
TZID:UTC
BEGIN:STANDARD
TZOFFSETFROM:+0000
TZOFFSETTO:+0000
TZNAME:UTC
DTSTART:20170101T000000
END:STANDARD
END:VTIMEZONE
BEGIN:VTIMEZONE
TZID:Europe/Paris
BEGIN:DAYLIGHT
TZOFFSETFROM:+0100
TZOFFSETTO:+0200
TZNAME:CEST
DTSTART:20200329T010000
END:DAYLIGHT
BEGIN:STANDARD
TZOFFSETFROM:+0200
TZOFFSETTO:+0100
TZNAME:CET
DTSTART:20201025T010000
END:STANDARD
BEGIN:DAYLIGHT
TZOFFSETFROM:+0100
TZOFFSETTO:+0200
TZNAME:CEST
DTSTART:20210328T010000
END:DAYLIGHT
BEGIN:STANDARD
TZOFFSETFROM:+0200
TZOFFSETTO:+0100
TZNAME:CET
DTSTART:20211031T010000
END:STANDARD
BEGIN:DAYLIGHT
TZOFFSETFROM:+0100
TZOFFSETTO:+0200
TZNAME:CEST
DTSTART:20220327T010000
END:DAYLIGHT
BEGIN:STANDARD
TZOFFSETFROM:+0200
TZOFFSETTO:+0100
TZNAME:CET
DTSTART:20221030T010000
END:STANDARD
BEGIN:DAYLIGHT
TZOFFSETFROM:+0100
TZOFFSETTO:+0200
TZNAME:CEST
DTSTART:20230326T010000
END:DAYLIGHT
BEGIN:STANDARD
TZOFFSETFROM:+0200
TZOFFSETTO:+0100
TZNAME:CET
DTSTART:20231029T010000
END:STANDARD
BEGIN:DAYLIGHT
TZOFFSETFROM:+0100
TZOFFSETTO:+0200
TZNAME:CEST
DTSTART:20240331T010000
END:DAYLIGHT
BEGIN:STANDARD
TZOFFSETFROM:+0200
TZOFFSETTO:+0100
TZNAME:CET
DTSTART:20241027T010000
END:STANDARD
BEGIN:DAYLIGHT
TZOFFSETFROM:+0100
TZOFFSETTO:+0200
TZNAME:CEST
DTSTART:20250330T010000
END:DAYLIGHT
BEGIN:STANDARD
TZOFFSETFROM:+0200
TZOFFSETTO:+0100
TZNAME:CET
DTSTART:20251026T010000
END:STANDARD
END:VTIMEZONE
BEGIN:VTIMEZONE
TZID:Europe/Rome
BEGIN:DAYLIGHT
TZOFFSETFROM:+0100
TZOFFSETTO:+0200
TZNAME:CEST
DTSTART:20190331T010000
END:DAYLIGHT
BEGIN:STANDARD
TZOFFSETFROM:+0200
TZOFFSETTO:+0100
TZNAME:CET
DTSTART:20191027T010000
END:STANDARD
BEGIN:DAYLIGHT
TZOFFSETFROM:+0100
TZOFFSETTO:+0200
TZNAME:CEST
DTSTART:20200329T010000
END:DAYLIGHT
BEGIN:STANDARD
TZOFFSETFROM:+0200
TZOFFSETTO:+0100
TZNAME:CET
DTSTART:20201025T010000
END:STANDARD
BEGIN:DAYLIGHT
TZOFFSETFROM:+0100
TZOFFSETTO:+0200
TZNAME:CEST
DTSTART:20210328T010000
END:DAYLIGHT
BEGIN:STANDARD
TZOFFSETFROM:+0200
TZOFFSETTO:+0100
TZNAME:CET
DTSTART:20211031T010000
END:STANDARD
BEGIN:DAYLIGHT
TZOFFSETFROM:+0100
TZOFFSETTO:+0200
TZNAME:CEST
DTSTART:20220327T010000
END:DAYLIGHT
BEGIN:STANDARD
TZOFFSETFROM:+0200
TZOFFSETTO:+0100
TZNAME:CET
DTSTART:20221030T010000
END:STANDARD
BEGIN:DAYLIGHT
TZOFFSETFROM:+0100
TZOFFSETTO:+0200
TZNAME:CEST
DTSTART:20230326T010000
END:DAYLIGHT
BEGIN:STANDARD
TZOFFSETFROM:+0200
TZOFFSETTO:+0100
TZNAME:CET
DTSTART:20231029T010000
END:STANDARD
BEGIN:DAYLIGHT
TZOFFSETFROM:+0100
TZOFFSETTO:+0200
TZNAME:CEST
DTSTART:20240331T010000
END:DAYLIGHT
BEGIN:STANDARD
TZOFFSETFROM:+0200
TZOFFSETTO:+0100
TZNAME:CET
DTSTART:20241027T010000
END:STANDARD
END:VTIMEZONE
BEGIN:VEVENT
DTSTART;TZID=UTC:20260120T190000
DTEND;TZID=UTC:20260120T220000
DTSTAMP:20260424T142746
CREATED:20251214T105250Z
LAST-MODIFIED:20251214T105250Z
UID:10003279-1768935600-1768946400@mamamediterraneum.it
SUMMARY:In viaggio con le spezie: le polpette degli "Altri"
DESCRIPTION:Si sa\, le polpette piacciono a tutti\, grandi e bambini e fanno parte del patrimonio gastronomico di tutti i popoli\nIn questa lezione monografica\, il nostro “cuciniere” Aurelio Carraffa ci insegnerà a realizzarne diverse\, tipiche del Medio Oriente\, impastando tutti gli ingredienti per formare gustosissime piccole sfere. L’uso delle spezie e delle erbe aromatiche impreziosiranno gli impasti che daranno vita a delle kotlet\, polpette persiane di manzo e patate\, a delle kofta kebab\, le famose polpette cotte intorno allo spiedo e a dei croccantissimi falafel\, le polpette di ceci fritte. \nImperdibile…
URL:https://mamamediterraneum.it/lezioni/in-viaggio-con-le-spezie-le-polpette-degli-altri-2/
LOCATION:MaMà Mediterraneum\, via di Priscilla 15-17\, Roma\, 00199\, Italia
CATEGORIES:Antipasti,Carne,Cucina generale,Etnica,Per coppie,per esperti,Per principianti,spezie,verdure
ATTACH;FMTTYPE=image/jpeg:https://mamamediterraneum.it/wp-content/uploads/2021/07/polpette.jpg
END:VEVENT
BEGIN:VEVENT
DTSTART;TZID=Europe/Paris:20241025T190000
DTEND;TZID=Europe/Paris:20241025T220000
DTSTAMP:20260424T142746
CREATED:20240914T145634Z
LAST-MODIFIED:20240914T145634Z
UID:10002995-1729882800-1729893600@mamamediterraneum.it
SUMMARY:In viaggio con le spezie: Orient Express #2
DESCRIPTION:Un nuovo appuntamento dedicato alla cucina e alle spezie che si focalizza sulle ricette di tre paesi del lontano Oriente\nDopo il grande successo riscosso dalle lezioni sulla cucina thailandese\, proponiamo una selezione di ricette tra le più classiche e gustose di questa area geografica. Lo Chef Aurelio Carraffa vi metterà in condizione di realizzare nella nostra cucina\, ma soprattutto a casa vostra\, tre ricette davvero interessanti. La lezione prevede la preparazione dei classici e sempre buonissimi spaghetti di soia con verdure saltate (Cina)\, il famoso nasi goreng\, piatto a base di riso\, pollo e gamberi (Indonesia) e il Bún Bo Nam Bô\, la carne marinata saltata con noodles e erbe  (Vietnam) \nDa non perdere!
URL:https://mamamediterraneum.it/lezioni/in-viaggio-con-le-spezie-orient-express-2/
LOCATION:MaMà Mediterraneum\, via di Priscilla 15-17\, Roma\, 00199\, Italia
CATEGORIES:Antipasti,Carne,Etnica,Per coppie,per esperti,Per principianti,Pesce,spezie,verdure
ATTACH;FMTTYPE=image/jpeg:https://mamamediterraneum.it/wp-content/uploads/2024/09/orient-express.jpg
END:VEVENT
BEGIN:VEVENT
DTSTART;TZID=UTC:20230918T190000
DTEND;TZID=UTC:20230918T220000
DTSTAMP:20260424T142746
CREATED:20230825T095724Z
LAST-MODIFIED:20230827T143845Z
UID:10002741-1695063600-1695074400@mamamediterraneum.it
SUMMARY:In viaggio con le spezie: i pepi
DESCRIPTION:Un tempo alcune spezie valevano quanto l’oro ed erano preziose merci di scambio soprattutto tra oriente e occidente\nOggi ne abbiamo a disposizione moltissime e la loro aggiunta in una ricetta può veramente fare la differenza. In questa lezione lo Chef Aurelio Carraffa ci parlerà delle varie specie di pepi e del loro uso in cucina. Sul lato pratico invece vi cimenterete nella preparazione di un risotto cacio e pepe verde vanigliato\, una tartare di manzo\, funghi\, maionese aromatica e pepe nero del Madagascar e una millefoglie sbiciolata con frutti rossi e crema al mascarpone aromatizzata al pepe di Timut \n 
URL:https://mamamediterraneum.it/lezioni/in-viaggio-con-le-spezie-i-pepi/
LOCATION:MaMà Mediterraneum\, via di Priscilla 15-17\, Roma\, 00199\, Italia
CATEGORIES:menu,Per coppie,per esperti,Per principianti,spezie
ATTACH;FMTTYPE=image/jpeg:https://mamamediterraneum.it/wp-content/uploads/2023/08/pepe.jpg
END:VEVENT
BEGIN:VEVENT
DTSTART;TZID=Europe/Paris:20230529T190000
DTEND;TZID=Europe/Paris:20230529T220000
DTSTAMP:20260424T142746
CREATED:20230414T105327Z
LAST-MODIFIED:20230414T105327Z
UID:10002701-1685386800-1685397600@mamamediterraneum.it
SUMMARY:In viaggio con le spezie: Orient Express
DESCRIPTION:Un nuovo appuntamento dedicato alla cucina e alle spezie che si focalizza sulle ricette semplici ma soprattutto veloci\nIn questa lezione monografica\, il nostro chef Aurelio Carraffa ci porterà in giro per l’oriente parlandoci ma\, soprattutto\, insegnandoci ad usare le spezie\, capaci di trasformare in capolavoro ogni ricetta. Insieme realizzerete dei fiori d’uovo con pomodoro speziato\, un profumatissimo riso persiano alle erbe e degli straccetti di manzo ai pepi
URL:https://mamamediterraneum.it/lezioni/polpette-2-2/
LOCATION:MaMà Mediterraneum\, via di Priscilla 15-17\, Roma\, 00199\, Italia
CATEGORIES:Etnica,Per coppie,per esperti,Per principianti,spezie
ATTACH;FMTTYPE=image/jpeg:https://mamamediterraneum.it/wp-content/uploads/2023/04/express.jpg
END:VEVENT
BEGIN:VEVENT
DTSTART;TZID=Europe/Rome:20230127T190000
DTEND;TZID=Europe/Rome:20230127T223000
DTSTAMP:20260424T142746
CREATED:20221213T151020Z
LAST-MODIFIED:20221213T154759Z
UID:10002631-1674846000-1674858600@mamamediterraneum.it
SUMMARY:In viaggio con le spezie: approfondimento
DESCRIPTION:Conoscere le spezie e imparare ad utilizzarle nei nostri piatti è una grande opportunità per rendere uniche e saporite le nostre ricette\nQuesta lezione insieme allo Chef Aurelio Carraffa sarà prima di tutto una lezione teorica e un laboratorio sensoriale nel quale si impareranno a conoscere e riconoscere gli aromi di moltissime spezie e altrettante miscele. Successivamente\, si applicherà la teoria appresa nella preparazione di due ricette: Moghlai murgh – pollo con yogurt speziato e una zuppa thailandese di gamberetti. Il tutto accompagnato con un immancabile riso basmati profumato al cardamomo \nImperdibile
URL:https://mamamediterraneum.it/lezioni/in-viaggio-con-le-spezie-approfondimento/
LOCATION:MaMà Mediterraneum\, via di Priscilla 15-17\, Roma\, 00199\, Italia
CATEGORIES:Cucina generale,Etnica,Per coppie,per esperti,Per principianti,spezie
ATTACH;FMTTYPE=image/webp:https://mamamediterraneum.it/wp-content/uploads/2022/12/spezie-2.webp
END:VEVENT
BEGIN:VEVENT
DTSTART;TZID=Europe/Rome:20221017T190000
DTEND;TZID=Europe/Rome:20221017T220000
DTSTAMP:20260424T142746
CREATED:20220914T142459Z
LAST-MODIFIED:20220917T101443Z
UID:10002595-1666033200-1666044000@mamamediterraneum.it
SUMMARY:In viaggio con le spezie: Curry dal mondo 4 - NUOVA
DESCRIPTION:Nella cucina orientale il temine curry non indica solo il mix di spezie ma soprattutto la pietanza con il quale viene preparata\nDopo il tutto esaurito delle precedenti lezioni viaggeremo in estremo oriente\, e non solo\, gustando tre diverse pietanze che utilizzano varie miscele di spezie per venire insaporiti. Il capo spedizione di questo fantastico viaggio nel mondo dei curry sarà lo Chef Aurelio Carraffa che vi insegnerà a preparare un delizioso curry di verdure in versione indiana\, degli spaghetti al curry “Mediterraneum” una speciale miscela di spezie ideata dallo chef\, e un curry thai con pollo e patate. Un profumato riso a chicco lungo\, cotto al vapore\, accompagnerà tutti i piatti.
URL:https://mamamediterraneum.it/lezioni/curry-dal-mondo-4/
LOCATION:MaMà Mediterraneum\, via di Priscilla 15-17\, Roma\, 00199\, Italia
CATEGORIES:Cucina generale,Etnica,Per coppie,per esperti,Per principianti,spezie
ATTACH;FMTTYPE=image/jpeg:https://mamamediterraneum.it/wp-content/uploads/2022/09/curry-2.jpg
END:VEVENT
BEGIN:VEVENT
DTSTART;TZID=Europe/Paris:20211018T190000
DTEND;TZID=Europe/Paris:20211018T220000
DTSTAMP:20260424T142746
CREATED:20210914T101555Z
LAST-MODIFIED:20210914T101555Z
UID:10002520-1634583600-1634594400@mamamediterraneum.it
SUMMARY:In viaggio con le spezie: Orient Express
DESCRIPTION:Un nuovo appuntamento dedicato alla cucina e alle spezie che si focalizza sulle ricette semplici ma soprattutto veloci\nIn questa lezione monografica\, il nostro chef Aurelio Carraffa ci porterà in giro per l’oriente parlandoci ma\, soprattutto\, insegnandoci ad usare le spezie\, capaci di trasformare in capolavoro ogni ricetta. Insieme realizzerete dei fiori d’uovo con pomodoro al garam masala\, un curry di calamaretti alla thailandese e degli straccetti di manzo ai pepi
URL:https://mamamediterraneum.it/lezioni/polpette-2/
LOCATION:MaMà Mediterraneum\, via di Priscilla 15-17\, Roma\, 00199\, Italia
CATEGORIES:Antipasti,Carne,Etnica,Per coppie,per esperti,Per principianti,Pesce,spezie,verdure
ATTACH;FMTTYPE=image/jpeg:https://mamamediterraneum.it/wp-content/uploads/2021/09/orient-express.jpg
END:VEVENT
BEGIN:VEVENT
DTSTART;TZID=Europe/Rome:20210928T190000
DTEND;TZID=Europe/Rome:20210928T220000
DTSTAMP:20260424T142746
CREATED:20210715T131439Z
LAST-MODIFIED:20210715T133318Z
UID:10002508-1632855600-1632866400@mamamediterraneum.it
SUMMARY:In viaggio con le spezie: Curry dal mondo 2 - NUOVA
DESCRIPTION:Nella cucina orientale il temine curry non indica solo il mix di spezie ma soprattutto la pietanza con il quale viene preparata\nViaggeremo in estremo oriente\, gustando tre diverse pietanze che utilizzano curry in polvere e in pasta per venire insaporiti. Il capo spedizione di questo fantastico viaggio nel mondo dei curry sarà lo Chef Aurelio Carraffa che vi insegnerà a preparare un delizioso curry tandoori\, un curry thai di calamaretti e un manzo al curry verde. Un profumato riso a chicco lungo\, cotto al vapore\, accompagnerà tutti i piatti.
URL:https://mamamediterraneum.it/lezioni/curry-dal-mondo-2-2/
LOCATION:MaMà Mediterraneum\, via di Priscilla 15-17\, Roma\, 00199\, Italia
CATEGORIES:Cucina generale,Etnica,Per coppie,per esperti,Per principianti,Pesce,spezie
ATTACH;FMTTYPE=image/jpeg:https://mamamediterraneum.it/wp-content/uploads/2020/02/curry-.jpg
END:VEVENT
BEGIN:VEVENT
DTSTART;TZID=UTC:20210924T190000
DTEND;TZID=UTC:20210924T220000
DTSTAMP:20260424T142746
CREATED:20251214T104741Z
LAST-MODIFIED:20251214T104741Z
UID:10003273-1632510000-1632520800@mamamediterraneum.it
SUMMARY:In viaggio con le spezie: le polpette degli "Altri"
DESCRIPTION:Si sa\, le polpette piacciono a tutti\, grandi e bambini e fanno parte del patrimonio gastronomico di tutti i popoli\nIn questa lezione monografica\, il nostro “cuciniere” Aurelio Carraffa ci insegnerà a realizzarne diverse\, tipiche del Medio Oriente\, impastando tutti gli ingredienti per formare gustosissime piccole sfere. L’uso delle spezie e delle erbe aromatiche impreziosiranno gli impasti che daranno vita a delle kotlet\, polpette persiane di manzo e patate\, a delle kofta kebab\, le famose polpette cotte intorno allo spiedo e a dei croccantissimi falafel\, le polpette di ceci fritte. \nImperdibile…
URL:https://mamamediterraneum.it/lezioni/in-viaggio-con-le-spezie-le-polpette-degli-altri/
LOCATION:MaMà Mediterraneum\, via di Priscilla 15-17\, Roma\, 00199\, Italia
CATEGORIES:Antipasti,Carne,Cucina generale,Etnica,Per coppie,per esperti,Per principianti,spezie,verdure
ATTACH;FMTTYPE=image/jpeg:https://mamamediterraneum.it/wp-content/uploads/2021/07/polpette.jpg
END:VEVENT
BEGIN:VEVENT
DTSTART;TZID=UTC:20210924T190000
DTEND;TZID=UTC:20210924T220000
DTSTAMP:20260424T142746
CREATED:20210715T131630Z
LAST-MODIFIED:20210715T133258Z
UID:10002510-1632510000-1632520800@mamamediterraneum.it
SUMMARY:In viaggio con le spezie: le polpette degli "altri" - NUOVA
DESCRIPTION:Si sa\, le polpette piacciono a tutti\, grandi e bambini e fanno parte del patrimonio gastronomico di tutti i popoli\nIn questa lezione monografica\, il nostro “cuciniere” Aurelio Carraffa ci insegnerà a realizzarne diverse\, tipiche del Medio Oriente\, impastando tutti gli ingredienti per formare gustosissime piccole sfere. L’uso delle spezie e delle erbe aromatiche impreziosiranno gli impasti che daranno vita a delle kotlet\, polpette persiane di manzo e patate\, a delle kofta kebab\, le famose polpette cotte intorno allo spiedo e a dei croccantissimi falafel\, le polpette di ceci fritte. \nImperdibile…
URL:https://mamamediterraneum.it/lezioni/polpette/
LOCATION:MaMà Mediterraneum\, via di Priscilla 15-17\, Roma\, 00199\, Italia
CATEGORIES:Antipasti,Carne,Cucina generale,Etnica,Per coppie,per esperti,Per principianti,spezie,verdure
ATTACH;FMTTYPE=image/jpeg:https://mamamediterraneum.it/wp-content/uploads/2021/07/polpette.jpg
END:VEVENT
BEGIN:VEVENT
DTSTART;TZID=Europe/Rome:20200921T190000
DTEND;TZID=Europe/Rome:20200921T220000
DTSTAMP:20260424T142746
CREATED:20200716T131818Z
LAST-MODIFIED:20200722T104509Z
UID:10002453-1600714800-1600725600@mamamediterraneum.it
SUMMARY:Curry dal mondo
DESCRIPTION:Nella cucina orientale il temine curry non indica solo il mix di spezie ma soprattutto la pietanza con il quale viene preparata\nViaggeremo dalla Thailandia all’India per arrivare alla Cina\, gustando tre diverse pietanze che utilizzano curry in polvere e in pasta per venire insaporiti. Il capo spedizione di questo fantastico viaggio nel mondo dei curry sarà lo Chef Aurelio Carraffa che vi insegnerà a preparare una deliziosa zuppa Thai di Gamberetti\, un curry verde di rana pescatrice e un (vero) pollo al curry. Un riso orientale a chicco lungo\, cotto al vapore\, accompagnerà tutti i piatti.
URL:https://mamamediterraneum.it/lezioni/curry-dal-mondo-3/
LOCATION:MaMà Mediterraneum\, via di Priscilla 15-17\, Roma\, 00199\, Italia
CATEGORIES:Cucina generale,Etnica,Per coppie,per esperti,Per principianti,Pesce,spezie
ATTACH;FMTTYPE=image/jpeg:https://mamamediterraneum.it/wp-content/uploads/2020/02/curry-.jpg
END:VEVENT
BEGIN:VEVENT
DTSTART;TZID=Europe/Rome:20200320T190000
DTEND;TZID=Europe/Rome:20200320T220000
DTSTAMP:20260424T142746
CREATED:20200210T114253Z
LAST-MODIFIED:20200210T171416Z
UID:10002189-1584730800-1584741600@mamamediterraneum.it
SUMMARY:Curry dal mondo
DESCRIPTION:Nella cucina orientale il temine curry non indica solo il mix di spezie ma soprattutto la pietanza con il quale viene preparata\nViaggeremo dalla Thailandia all’India per arrivare alla Cina\, gustando tre diverse pietanze che utilizzano curry in polvere e in pasta per venire insaporiti. Il capo spedizione di questo fantastico viaggio nel mondo dei curry sarà lo Chef Aurelio Carraffa che vi insegnerà a preparare una deliziosa zuppa Thai di Gamberetti\, un curry verde di rana pescatrice e un (vero) pollo al curry. Un riso orientale a chicco lungo\, cotto al vapore\, accompagnerà tutti i piatti.
URL:https://mamamediterraneum.it/lezioni/curry-dal-mondo/
LOCATION:MaMà Mediterraneum\, via di Priscilla 15-17\, Roma\, 00199\, Italia
CATEGORIES:Cucina generale,Etnica,Per coppie,per esperti,Per principianti,Pesce,spezie
ATTACH;FMTTYPE=image/jpeg:https://mamamediterraneum.it/wp-content/uploads/2020/02/curry-.jpg
END:VEVENT
BEGIN:VEVENT
DTSTART;TZID=UTC:20181026T190000
DTEND;TZID=UTC:20181026T223000
DTSTAMP:20260424T142746
CREATED:20180826T143853Z
LAST-MODIFIED:20180826T143853Z
UID:10002152-1540580400-1540593000@mamamediterraneum.it
SUMMARY:Le spezie in cucina: i pepi
DESCRIPTION:Un tempo alcune spezie valevano quanto l’oro ed erano preziose merci di scambio soprattutto tra oriente e occidente\nOggi ne abbiamo a disposizione moltissime e la loro aggiunta in una ricetta può veramente fare la differenza. In questa lezione lo Chef docente Luca Materazzi sarà affiancato da un vero esperto del settore\, Fabio Gizzi\, titolare dell’Emporio delle spezie di Roma\, che ci parlerà delle varie specie di pepi e del loro uso in cucina. Sarà invece compito dello chef farvi utilizzare le spezie nella preparazione di: un risotto cacio e pepe vanigliato\, una tartare di carne\, funghi galletti\, radici e salsa di pomodoro al pepe di Tasmania\, un battuto di pesce bianco con vinaigrette al pepe di Kampot e perfino una crostatina con crema aromatizzata al pepe lungo di Cambogia e brunoise di pere. \n 
URL:https://mamamediterraneum.it/lezioni/le-spezie-in-cucina-i-pepi/
LOCATION:MaMà Mediterraneum\, via di Priscilla 15-17\, Roma\, 00199\, Italia
CATEGORIES:Antipasti,Carne,menu,Per coppie,per esperti,Per principianti,Pesce,Primi
ATTACH;FMTTYPE=image/jpeg:https://mamamediterraneum.it/wp-content/uploads/2018/07/pepi.jpg
END:VEVENT
BEGIN:VEVENT
DTSTART;TZID=UTC:20180309T190000
DTEND;TZID=UTC:20180309T220000
DTSTAMP:20260424T142746
CREATED:20180212T121523Z
LAST-MODIFIED:20180222T163321Z
UID:10002035-1520622000-1520632800@mamamediterraneum.it
SUMMARY:Le spezie: profumi e colori nel piatto
DESCRIPTION:L’utilizzo sapiente delle spezie riesce a trasformare un piatto semplice in una grande ricetta.\nUtilizzate anticamente per il loro potere antibatterico\, sono diventate\, in Oriente e non solo\, ingredienti determinanti per la preparazione di ricette tradizionali. Mixate tra di loro danno origine ai curry o ai masala che ci regalano sensazioni gustative uniche. In questa lezione apprenderete come utilizzarle non solo nei piatti di origine etnica come il curry di gamberi o la tajine di verdure allo zafferano\, ma anche per arricchire di profumi piatti della nostra tradizione come il risotto al cardamomo e chiodi di garofano.
URL:https://mamamediterraneum.it/lezioni/le-spezie-profumi-colori-nel-piatto/
LOCATION:MaMà Mediterraneum\, via di Priscilla 15-17\, Roma\, 00199\, Italia
CATEGORIES:Cucina generale,Etnica,Per coppie,per esperti,Per principianti,Risotti
ATTACH;FMTTYPE=image/jpeg:https://mamamediterraneum.it/wp-content/uploads/2018/02/spezie.jpg
END:VEVENT
END:VCALENDAR