BEGIN:VCALENDAR
VERSION:2.0
PRODID:-//Mamamediterraneum - ECPv6.15.18//NONSGML v1.0//EN
CALSCALE:GREGORIAN
METHOD:PUBLISH
X-ORIGINAL-URL:https://mamamediterraneum.it
X-WR-CALDESC:Eventi per Mamamediterraneum
REFRESH-INTERVAL;VALUE=DURATION:PT1H
X-Robots-Tag:noindex
X-PUBLISHED-TTL:PT1H
BEGIN:VTIMEZONE
TZID:Europe/Rome
BEGIN:DAYLIGHT
TZOFFSETFROM:+0100
TZOFFSETTO:+0200
TZNAME:CEST
DTSTART:20250330T010000
END:DAYLIGHT
BEGIN:STANDARD
TZOFFSETFROM:+0200
TZOFFSETTO:+0100
TZNAME:CET
DTSTART:20251026T010000
END:STANDARD
BEGIN:DAYLIGHT
TZOFFSETFROM:+0100
TZOFFSETTO:+0200
TZNAME:CEST
DTSTART:20260329T010000
END:DAYLIGHT
BEGIN:STANDARD
TZOFFSETFROM:+0200
TZOFFSETTO:+0100
TZNAME:CET
DTSTART:20261025T010000
END:STANDARD
BEGIN:DAYLIGHT
TZOFFSETFROM:+0100
TZOFFSETTO:+0200
TZNAME:CEST
DTSTART:20270328T010000
END:DAYLIGHT
BEGIN:STANDARD
TZOFFSETFROM:+0200
TZOFFSETTO:+0100
TZNAME:CET
DTSTART:20271031T010000
END:STANDARD
END:VTIMEZONE
BEGIN:VEVENT
DTSTART;TZID=Europe/Rome:20260519T190000
DTEND;TZID=Europe/Rome:20260519T220000
DTSTAMP:20260423T133221
CREATED:20260414T145010Z
LAST-MODIFIED:20260417T143652Z
UID:10003363-1779217200-1779228000@mamamediterraneum.it
SUMMARY:Tartare e carpacci di terra e di mare
DESCRIPTION:I piatti di carne e di pesce crudi hanno un grande numero di estimatori e sono perfetti per la stagione calda\nIn questa lezione la Chef Kaba Corapi vi insegnerà tutti i trucchi per scegliere i giusti ingredienti e per preparare delle gustose e fresche ricette. In particolare l’attenzione cadrà su una tartare di pesce bianco con leche de tigre e cipolla rossa\, un carpaccio di pescato del giorno all’isolana e salsa aioli e anche su un piatto di carne\, ovvero una tartare di manzo 2.0\, tuorlo pralinato e polvere di capperi \n 
URL:https://mamamediterraneum.it/lezioni/tartare-e-carpacci-di-terra-e-di-mare/
LOCATION:MaMà Mediterraneum\, via di Priscilla 15-17\, Roma\, 00199\, Italia
CATEGORIES:Carne,Crudi,Per coppie,per esperti,Per principianti,Pesce
ATTACH;FMTTYPE=image/jpeg:https://mamamediterraneum.it/wp-content/uploads/2022/04/tartare.jpg
END:VEVENT
END:VCALENDAR