BEGIN:VCALENDAR
VERSION:2.0
PRODID:-//Mamamediterraneum - ECPv6.15.18//NONSGML v1.0//EN
CALSCALE:GREGORIAN
METHOD:PUBLISH
X-WR-CALNAME:Mamamediterraneum
X-ORIGINAL-URL:https://mamamediterraneum.it
X-WR-CALDESC:Eventi per Mamamediterraneum
REFRESH-INTERVAL;VALUE=DURATION:PT1H
X-Robots-Tag:noindex
X-PUBLISHED-TTL:PT1H
BEGIN:VTIMEZONE
TZID:Europe/Rome
BEGIN:DAYLIGHT
TZOFFSETFROM:+0100
TZOFFSETTO:+0200
TZNAME:CEST
DTSTART:20230326T010000
END:DAYLIGHT
BEGIN:STANDARD
TZOFFSETFROM:+0200
TZOFFSETTO:+0100
TZNAME:CET
DTSTART:20231029T010000
END:STANDARD
BEGIN:DAYLIGHT
TZOFFSETFROM:+0100
TZOFFSETTO:+0200
TZNAME:CEST
DTSTART:20240331T010000
END:DAYLIGHT
BEGIN:STANDARD
TZOFFSETFROM:+0200
TZOFFSETTO:+0100
TZNAME:CET
DTSTART:20241027T010000
END:STANDARD
BEGIN:DAYLIGHT
TZOFFSETFROM:+0100
TZOFFSETTO:+0200
TZNAME:CEST
DTSTART:20250330T010000
END:DAYLIGHT
BEGIN:STANDARD
TZOFFSETFROM:+0200
TZOFFSETTO:+0100
TZNAME:CET
DTSTART:20251026T010000
END:STANDARD
END:VTIMEZONE
BEGIN:VEVENT
DTSTART;TZID=Europe/Rome:20240223T190000
DTEND;TZID=Europe/Rome:20240223T220000
DTSTAMP:20260424T075234
CREATED:20240114T185826Z
LAST-MODIFIED:20240114T185826Z
UID:10002852-1708714800-1708725600@mamamediterraneum.it
SUMMARY:La carbonara (im)perfetta
DESCRIPTION:Una delle nostre lezioni più gettonate è quella dove insegnamo i primi piatti romaneschi tra i quali\, ovviamente\, la carbonara\nIn questa divertente lezione invece\, lo Chef Aurelio Carraffa vi illustrerà e vi farà eseguire tre ricette che\, pur avendo lo stesso nome\, sono di fatto una declinazione della ricetta classica. Nello specifico sarà molto divertente realizzare insieme una finta carbonara che\, pur avendo lo stesso colore non utilizzerà l’uovo\, dei ravioli di carbonara e degli spaghetti alla carbonara in supplì
URL:https://mamamediterraneum.it/lezioni/la-carbonara-imperfetta-3/
LOCATION:MaMà Mediterraneum\, via di Priscilla 15-17\, Roma\, 00199\, Italia
CATEGORIES:Fritti,Pasta,Per coppie,per esperti,Per principianti
ATTACH;FMTTYPE=image/jpeg:https://mamamediterraneum.it/wp-content/uploads/2021/07/carbonara.jpg
END:VEVENT
END:VCALENDAR