BEGIN:VCALENDAR
VERSION:2.0
PRODID:-//Mamamediterraneum - ECPv6.15.18//NONSGML v1.0//EN
CALSCALE:GREGORIAN
METHOD:PUBLISH
X-WR-CALNAME:Mamamediterraneum
X-ORIGINAL-URL:https://mamamediterraneum.it
X-WR-CALDESC:Eventi per Mamamediterraneum
REFRESH-INTERVAL;VALUE=DURATION:PT1H
X-Robots-Tag:noindex
X-PUBLISHED-TTL:PT1H
BEGIN:VTIMEZONE
TZID:Europe/Rome
BEGIN:DAYLIGHT
TZOFFSETFROM:+0100
TZOFFSETTO:+0200
TZNAME:CEST
DTSTART:20220327T010000
END:DAYLIGHT
BEGIN:STANDARD
TZOFFSETFROM:+0200
TZOFFSETTO:+0100
TZNAME:CET
DTSTART:20221030T010000
END:STANDARD
BEGIN:DAYLIGHT
TZOFFSETFROM:+0100
TZOFFSETTO:+0200
TZNAME:CEST
DTSTART:20230326T010000
END:DAYLIGHT
BEGIN:STANDARD
TZOFFSETFROM:+0200
TZOFFSETTO:+0100
TZNAME:CET
DTSTART:20231029T010000
END:STANDARD
BEGIN:DAYLIGHT
TZOFFSETFROM:+0100
TZOFFSETTO:+0200
TZNAME:CEST
DTSTART:20240331T010000
END:DAYLIGHT
BEGIN:STANDARD
TZOFFSETFROM:+0200
TZOFFSETTO:+0100
TZNAME:CET
DTSTART:20241027T010000
END:STANDARD
END:VTIMEZONE
BEGIN:VEVENT
DTSTART;TZID=Europe/Rome:20230202T190000
DTEND;TZID=Europe/Rome:20230202T220000
DTSTAMP:20260425T002647
CREATED:20230112T142628Z
LAST-MODIFIED:20230113T140728Z
UID:10002647-1675364400-1675375200@mamamediterraneum.it
SUMMARY:Zuppe e minestre e vellutate
DESCRIPTION:Cosa c’è di meglio nella stagione fredda di un cibo confortante come una calda e gustosa minestra fumante?\nEcco allora che la bravissima Kaba Corapi\, docente della serata\, vi insegnerà tutti i segreti per distinguere e realizzare delle zuppe\, delle minestre e delle vellutate davvero gustose. La serata prevede dunque la preparazione di una minestra di crostacei\, di un caldo verde (minestra portoghese) e di una vellutata di zucca\, nocciole ed erborinato
URL:https://mamamediterraneum.it/lezioni/zuppe-e-minestre-e-vellutate/
LOCATION:MaMà Mediterraneum\, via di Priscilla 15-17\, Roma\, 00199\, Italia
CATEGORIES:Cucina generale,Primi,Zuppe
ATTACH;FMTTYPE=image/jpeg:https://mamamediterraneum.it/wp-content/uploads/2023/01/minestre.jpg
END:VEVENT
END:VCALENDAR