BEGIN:VCALENDAR
VERSION:2.0
PRODID:-//Mamamediterraneum - ECPv6.15.18//NONSGML v1.0//EN
CALSCALE:GREGORIAN
METHOD:PUBLISH
X-WR-CALNAME:Mamamediterraneum
X-ORIGINAL-URL:https://mamamediterraneum.it
X-WR-CALDESC:Eventi per Mamamediterraneum
REFRESH-INTERVAL;VALUE=DURATION:PT1H
X-Robots-Tag:noindex
X-PUBLISHED-TTL:PT1H
BEGIN:VTIMEZONE
TZID:Europe/Rome
BEGIN:DAYLIGHT
TZOFFSETFROM:+0100
TZOFFSETTO:+0200
TZNAME:CEST
DTSTART:20230326T010000
END:DAYLIGHT
BEGIN:STANDARD
TZOFFSETFROM:+0200
TZOFFSETTO:+0100
TZNAME:CET
DTSTART:20231029T010000
END:STANDARD
BEGIN:DAYLIGHT
TZOFFSETFROM:+0100
TZOFFSETTO:+0200
TZNAME:CEST
DTSTART:20240331T010000
END:DAYLIGHT
BEGIN:STANDARD
TZOFFSETFROM:+0200
TZOFFSETTO:+0100
TZNAME:CET
DTSTART:20241027T010000
END:STANDARD
BEGIN:DAYLIGHT
TZOFFSETFROM:+0100
TZOFFSETTO:+0200
TZNAME:CEST
DTSTART:20250330T010000
END:DAYLIGHT
BEGIN:STANDARD
TZOFFSETFROM:+0200
TZOFFSETTO:+0100
TZNAME:CET
DTSTART:20251026T010000
END:STANDARD
END:VTIMEZONE
BEGIN:VEVENT
DTSTART;TZID=Europe/Rome:20240222T190000
DTEND;TZID=Europe/Rome:20240222T223000
DTSTAMP:20260423T145410
CREATED:20240114T185704Z
LAST-MODIFIED:20240114T190049Z
UID:10002851-1708628400-1708641000@mamamediterraneum.it
SUMMARY:Maritozzi dolci e salati... e altre delizie
DESCRIPTION:Chi sa resistere ad un maritozzo con la panna? E salato? E ad una veneziana con la crema e la frutta fresca?\nSotto la guida del bravissimo Cristian Marcellini\, giovanissimo panificatore e pasticcere del rinomato Forno Conti\, non ci saranno più segreti per chi vorrà realizzare a casa queste preparazioni “briochate” perfette per una colazione ma perfette per ogni momento della giornata? Il nostro chef pasticcere vi guiderà con la sua simpatia travolgente e la sua maestria nella preparazione di maritozzi con la panna\, e maritozzi salati\, di golosissime veneziane con la crema e la frutta fresca\, di soffici brioches salate e farcite e persino nella preparazione di un perfetto bun ovvero il panino per l’hamburger. \nDa non perdere!
URL:https://mamamediterraneum.it/lezioni/maritozzi-dolci-e-salati-e-altre-delizie-2/
LOCATION:MaMà Mediterraneum\, via di Priscilla 15-17\, Roma\, 00199\, Italia
CATEGORIES:Dolci,Pane,Panini,Per coppie,per esperti,Per principianti
ATTACH;FMTTYPE=image/jpeg:https://mamamediterraneum.it/wp-content/uploads/2023/05/maritozzi.jpg
END:VEVENT
END:VCALENDAR