BEGIN:VCALENDAR
VERSION:2.0
PRODID:-//Mamamediterraneum - ECPv6.15.18//NONSGML v1.0//EN
CALSCALE:GREGORIAN
METHOD:PUBLISH
X-WR-CALNAME:Mamamediterraneum
X-ORIGINAL-URL:https://mamamediterraneum.it
X-WR-CALDESC:Eventi per Mamamediterraneum
REFRESH-INTERVAL;VALUE=DURATION:PT1H
X-Robots-Tag:noindex
X-PUBLISHED-TTL:PT1H
BEGIN:VTIMEZONE
TZID:Europe/Rome
BEGIN:DAYLIGHT
TZOFFSETFROM:+0100
TZOFFSETTO:+0200
TZNAME:CEST
DTSTART:20250330T010000
END:DAYLIGHT
BEGIN:STANDARD
TZOFFSETFROM:+0200
TZOFFSETTO:+0100
TZNAME:CET
DTSTART:20251026T010000
END:STANDARD
BEGIN:DAYLIGHT
TZOFFSETFROM:+0100
TZOFFSETTO:+0200
TZNAME:CEST
DTSTART:20260329T010000
END:DAYLIGHT
BEGIN:STANDARD
TZOFFSETFROM:+0200
TZOFFSETTO:+0100
TZNAME:CET
DTSTART:20261025T010000
END:STANDARD
BEGIN:DAYLIGHT
TZOFFSETFROM:+0100
TZOFFSETTO:+0200
TZNAME:CEST
DTSTART:20270328T010000
END:DAYLIGHT
BEGIN:STANDARD
TZOFFSETFROM:+0200
TZOFFSETTO:+0100
TZNAME:CET
DTSTART:20271031T010000
END:STANDARD
END:VTIMEZONE
BEGIN:VEVENT
DTSTART;TZID=Europe/Rome:20260202T190000
DTEND;TZID=Europe/Rome:20260202T223000
DTSTAMP:20260423T034540
CREATED:20260114T151702Z
LAST-MODIFIED:20260114T151702Z
UID:10003296-1770058800-1770071400@mamamediterraneum.it
SUMMARY:La cucina classica: 4 le verdure
DESCRIPTION:Partiamo dall’assunto che la Cucina Classica Italiana è tra le migliori del mondo\, che non ci si può spingere in avanti se non si conoscono I Classici e che non è detto che\, solo perché siamo italiani\, dobbiamo conoscere e saper cucinare i piatti della nostra Penisola\n\nAbbiamo operato una selezione tra le migliaia di ricette della nostra cucina classica\, regionale e non\, scegliendo quelle che riteniamo più significative\, attualizzandole ma senza stravolgerle. Alcune ricette potranno variare in base alla stagione e alla stagionalità dei prodotti.\nIl metodo di base sarà\, nella maggior parte dei casi\, quello della separazione delle cotture\, tecnica moderna e professionale che rende facile preparare le ricette anche a casa.\nLe dispense saranno particolarmente esaustive\, alcune delle quali corredate da diagrammi e disegni del docente\, lo chef Aurelio Carraffa.\n\nQuesta serie di lezioni tematiche è focalizzata sulla preparazione delle ricette e non si sovrappone al nostro corso base di cucina che è invece articolato con lezioni propedeutiche\, che dà particolare risalto alle tecniche di preparazione e di cottura e che rimane insostituibile per chi volesse apprendere le basi della cucina.\n\nÈ un percorso di 6 lezioni da frequentare quando si vuole e senza propedeuticità.\nCi si può iscrivere ad una\, due o più lezioni\, ma si può decidere di frequentarle tutte…\n\nAttraverso 6 lezioni tematiche si imparerà a cucinare gli antipasti\, la pasta fresca e secca\, le verdure e i secondi di carne e di pesce\, tutti piatti della tradizione italiana.\nDevi solo scegliere quali lezioni prenotare…\n\n\nIn questa quarta lezione\, dedicata alle verdure\, realizzeremo insieme delle orecchiette alle cime di rapa\, le patate a sfincione\, la ribollita\, delle classiche patate al forno e dei peperoni ammollicati
URL:https://mamamediterraneum.it/lezioni/la-cucina-classica-4-le-verdure-2/
LOCATION:MaMà Mediterraneum\, via di Priscilla 15-17\, Roma\, 00199\, Italia
CATEGORIES:Antipasti,cucina classica,Cucina generale,Pasta,Per coppie,per esperti,Per principianti,Primi,regionale,verdure
ATTACH;FMTTYPE=image/jpeg:https://mamamediterraneum.it/wp-content/uploads/2019/09/verdure-2.jpg
END:VEVENT
END:VCALENDAR