BEGIN:VCALENDAR
VERSION:2.0
PRODID:-//Mamamediterraneum - ECPv6.15.18//NONSGML v1.0//EN
CALSCALE:GREGORIAN
METHOD:PUBLISH
X-WR-CALNAME:Mamamediterraneum
X-ORIGINAL-URL:https://mamamediterraneum.it
X-WR-CALDESC:Eventi per Mamamediterraneum
REFRESH-INTERVAL;VALUE=DURATION:PT1H
X-Robots-Tag:noindex
X-PUBLISHED-TTL:PT1H
BEGIN:VTIMEZONE
TZID:Europe/Rome
BEGIN:DAYLIGHT
TZOFFSETFROM:+0100
TZOFFSETTO:+0200
TZNAME:CEST
DTSTART:20180325T010000
END:DAYLIGHT
BEGIN:STANDARD
TZOFFSETFROM:+0200
TZOFFSETTO:+0100
TZNAME:CET
DTSTART:20181028T010000
END:STANDARD
BEGIN:DAYLIGHT
TZOFFSETFROM:+0100
TZOFFSETTO:+0200
TZNAME:CEST
DTSTART:20190331T010000
END:DAYLIGHT
BEGIN:STANDARD
TZOFFSETFROM:+0200
TZOFFSETTO:+0100
TZNAME:CET
DTSTART:20191027T010000
END:STANDARD
BEGIN:DAYLIGHT
TZOFFSETFROM:+0100
TZOFFSETTO:+0200
TZNAME:CEST
DTSTART:20200329T010000
END:DAYLIGHT
BEGIN:STANDARD
TZOFFSETFROM:+0200
TZOFFSETTO:+0100
TZNAME:CET
DTSTART:20201025T010000
END:STANDARD
BEGIN:DAYLIGHT
TZOFFSETFROM:+0100
TZOFFSETTO:+0200
TZNAME:CEST
DTSTART:20210328T010000
END:DAYLIGHT
BEGIN:STANDARD
TZOFFSETFROM:+0200
TZOFFSETTO:+0100
TZNAME:CET
DTSTART:20211031T010000
END:STANDARD
BEGIN:DAYLIGHT
TZOFFSETFROM:+0100
TZOFFSETTO:+0200
TZNAME:CEST
DTSTART:20220327T010000
END:DAYLIGHT
BEGIN:STANDARD
TZOFFSETFROM:+0200
TZOFFSETTO:+0100
TZNAME:CET
DTSTART:20221030T010000
END:STANDARD
BEGIN:DAYLIGHT
TZOFFSETFROM:+0100
TZOFFSETTO:+0200
TZNAME:CEST
DTSTART:20230326T010000
END:DAYLIGHT
BEGIN:STANDARD
TZOFFSETFROM:+0200
TZOFFSETTO:+0100
TZNAME:CET
DTSTART:20231029T010000
END:STANDARD
BEGIN:DAYLIGHT
TZOFFSETFROM:+0100
TZOFFSETTO:+0200
TZNAME:CEST
DTSTART:20240331T010000
END:DAYLIGHT
BEGIN:STANDARD
TZOFFSETFROM:+0200
TZOFFSETTO:+0100
TZNAME:CET
DTSTART:20241027T010000
END:STANDARD
BEGIN:DAYLIGHT
TZOFFSETFROM:+0100
TZOFFSETTO:+0200
TZNAME:CEST
DTSTART:20250330T010000
END:DAYLIGHT
BEGIN:STANDARD
TZOFFSETFROM:+0200
TZOFFSETTO:+0100
TZNAME:CET
DTSTART:20251026T010000
END:STANDARD
BEGIN:DAYLIGHT
TZOFFSETFROM:+0100
TZOFFSETTO:+0200
TZNAME:CEST
DTSTART:20260329T010000
END:DAYLIGHT
BEGIN:STANDARD
TZOFFSETFROM:+0200
TZOFFSETTO:+0100
TZNAME:CET
DTSTART:20261025T010000
END:STANDARD
BEGIN:DAYLIGHT
TZOFFSETFROM:+0100
TZOFFSETTO:+0200
TZNAME:CEST
DTSTART:20270328T010000
END:DAYLIGHT
BEGIN:STANDARD
TZOFFSETFROM:+0200
TZOFFSETTO:+0100
TZNAME:CET
DTSTART:20271031T010000
END:STANDARD
END:VTIMEZONE
BEGIN:VTIMEZONE
TZID:UTC
BEGIN:STANDARD
TZOFFSETFROM:+0000
TZOFFSETTO:+0000
TZNAME:UTC
DTSTART:20170101T000000
END:STANDARD
END:VTIMEZONE
BEGIN:VEVENT
DTSTART;TZID=Europe/Rome:20260202T190000
DTEND;TZID=Europe/Rome:20260202T223000
DTSTAMP:20260423T003824
CREATED:20260114T151702Z
LAST-MODIFIED:20260114T151702Z
UID:10003296-1770058800-1770071400@mamamediterraneum.it
SUMMARY:La cucina classica: 4 le verdure
DESCRIPTION:Partiamo dall’assunto che la Cucina Classica Italiana è tra le migliori del mondo\, che non ci si può spingere in avanti se non si conoscono I Classici e che non è detto che\, solo perché siamo italiani\, dobbiamo conoscere e saper cucinare i piatti della nostra Penisola\n\nAbbiamo operato una selezione tra le migliaia di ricette della nostra cucina classica\, regionale e non\, scegliendo quelle che riteniamo più significative\, attualizzandole ma senza stravolgerle. Alcune ricette potranno variare in base alla stagione e alla stagionalità dei prodotti.\nIl metodo di base sarà\, nella maggior parte dei casi\, quello della separazione delle cotture\, tecnica moderna e professionale che rende facile preparare le ricette anche a casa.\nLe dispense saranno particolarmente esaustive\, alcune delle quali corredate da diagrammi e disegni del docente\, lo chef Aurelio Carraffa.\n\nQuesta serie di lezioni tematiche è focalizzata sulla preparazione delle ricette e non si sovrappone al nostro corso base di cucina che è invece articolato con lezioni propedeutiche\, che dà particolare risalto alle tecniche di preparazione e di cottura e che rimane insostituibile per chi volesse apprendere le basi della cucina.\n\nÈ un percorso di 6 lezioni da frequentare quando si vuole e senza propedeuticità.\nCi si può iscrivere ad una\, due o più lezioni\, ma si può decidere di frequentarle tutte…\n\nAttraverso 6 lezioni tematiche si imparerà a cucinare gli antipasti\, la pasta fresca e secca\, le verdure e i secondi di carne e di pesce\, tutti piatti della tradizione italiana.\nDevi solo scegliere quali lezioni prenotare…\n\n\nIn questa quarta lezione\, dedicata alle verdure\, realizzeremo insieme delle orecchiette alle cime di rapa\, le patate a sfincione\, la ribollita\, delle classiche patate al forno e dei peperoni ammollicati
URL:https://mamamediterraneum.it/lezioni/la-cucina-classica-4-le-verdure-2/
LOCATION:MaMà Mediterraneum\, via di Priscilla 15-17\, Roma\, 00199\, Italia
CATEGORIES:Antipasti,cucina classica,Cucina generale,Pasta,Per coppie,per esperti,Per principianti,Primi,regionale,verdure
ATTACH;FMTTYPE=image/jpeg:https://mamamediterraneum.it/wp-content/uploads/2019/09/verdure-2.jpg
END:VEVENT
BEGIN:VEVENT
DTSTART;TZID=Europe/Rome:20260108T190000
DTEND;TZID=Europe/Rome:20260108T220000
DTSTAMP:20260423T003824
CREATED:20251214T104707Z
LAST-MODIFIED:20251214T104707Z
UID:10003276-1767898800-1767909600@mamamediterraneum.it
SUMMARY:Verdure Golose
DESCRIPTION:Chi lo ha detto che i piatti di verdure debbano essere necessariamente tristi e con poco sapore?\nLa Chef Kaba Corapi vi dimostrerà proprio il contrario conducendovi per mano durante la preparazione di tre piatti colorati e golosissimi. La serata prevede la realizzazione di una zuppetta di zucca caramellata\, mandorle e zenzero\, dei pancakes di verdure con dressing alla soia\, e un gustoso cavolo rosso in tegame con gremolada\, finocchietto e aceto balsamico \nImperdibile
URL:https://mamamediterraneum.it/lezioni/verdure-golose-3/
LOCATION:MaMà Mediterraneum\, via di Priscilla 15-17\, Roma\, 00199\, Italia
CATEGORIES:Cucina generale,Per coppie,per esperti,Per principianti,verdure
ATTACH;FMTTYPE=image/png:https://mamamediterraneum.it/wp-content/uploads/2025/12/verdure.png
END:VEVENT
BEGIN:VEVENT
DTSTART;TZID=Europe/Rome:20250108T190000
DTEND;TZID=Europe/Rome:20250108T220000
DTSTAMP:20260423T003824
CREATED:20241213T144245Z
LAST-MODIFIED:20241215T111114Z
UID:10003049-1736362800-1736373600@mamamediterraneum.it
SUMMARY:Verdure Golose
DESCRIPTION:Chi lo ha detto che i piatti di verdure debbano essere necessariamente tristi e con poco sapore?\nLo Chef Aurelio Carraffa vi dimostrerà proprio il contrario conducendovi per mano durante la preparazione di 4 piatti colorati e golosissimi. La serata prevede la realizzazione di un minestrone cremoso in technicolor\, di una tajine di verdure profumata\, di polpette di melanzane con salsa yogurt e menta e dei carciofi in tegame semplici e veloci \nImperdibile
URL:https://mamamediterraneum.it/lezioni/verdure-golose-2/
LOCATION:MaMà Mediterraneum\, via di Priscilla 15-17\, Roma\, 00199\, Italia
CATEGORIES:Cucina generale,Per coppie,per esperti,Per principianti,verdure
ATTACH;FMTTYPE=image/webp:https://mamamediterraneum.it/wp-content/uploads/2022/12/verdure-golose.webp
END:VEVENT
BEGIN:VEVENT
DTSTART;TZID=Europe/Rome:20230113T190000
DTEND;TZID=Europe/Rome:20230113T220000
DTSTAMP:20260423T003824
CREATED:20221213T151126Z
LAST-MODIFIED:20221213T154752Z
UID:10002630-1673636400-1673647200@mamamediterraneum.it
SUMMARY:Verdure Golose
DESCRIPTION:Chi lo ha detto che i piatti di verdure debbano essere necessariamente tristi e con poco sapore?\nLo Chef Aurelio Carraffa vi dimostrerà proprio il contrario conducendovi per mano durante la preparazione di 4 piatti colorati e golosissimi. La serata prevede la realizzazione di un minestrone in technicolor\, di una vellutata di broccoli con lenticchie e pomodori secchi\, di polpette di melanzane con salsa yogurt e menta e dei carciofi in tegame semplici e veloci \nImperdibile
URL:https://mamamediterraneum.it/lezioni/verdure-golose/
LOCATION:MaMà Mediterraneum\, via di Priscilla 15-17\, Roma\, 00199\, Italia
CATEGORIES:Cucina generale,Per coppie,per esperti,Per principianti,verdure
ATTACH;FMTTYPE=image/webp:https://mamamediterraneum.it/wp-content/uploads/2022/12/verdure-golose.webp
END:VEVENT
BEGIN:VEVENT
DTSTART;TZID=Europe/Rome:20201105T190000
DTEND;TZID=Europe/Rome:20201105T220000
DTSTAMP:20260423T003824
CREATED:20201016T090106Z
LAST-MODIFIED:20201016T145340Z
UID:10002480-1604602800-1604613600@mamamediterraneum.it
SUMMARY:Cucina vegetariana d'autore
DESCRIPTION:La cucina vegetariana non è un ripiego alla cucina tradizionale\, quante volte infatti degustiamo dei piatti vegetariani senza rendercene conto?\nL’autore delle ricette di questa lezione\, nonché docente della serata\, è lo Chef Andrea Misseri che vi guiderà nella realizzazione di tre divertenti e gustose ricette: delle ghiottissime chips di verdure miste\, delle patate ripiene ai porcini su fonduta di caciocavallo e degli involtini di verza ai semi misti
URL:https://mamamediterraneum.it/lezioni/cucina-vegetariana-dautore/
LOCATION:MaMà Mediterraneum\, via di Priscilla 15-17\, Roma\, 00199\, Italia
CATEGORIES:Cucina generale,Vegetariana,verdure
ATTACH;FMTTYPE=image/jpeg:https://mamamediterraneum.it/wp-content/uploads/2020/10/vegetariana.jpg
END:VEVENT
BEGIN:VEVENT
DTSTART;TZID=Europe/Rome:20200624T190000
DTEND;TZID=Europe/Rome:20200624T203000
DTSTAMP:20260423T003824
CREATED:20200522T101822Z
LAST-MODIFIED:20200529T125143Z
UID:10002203-1593025200-1593030600@mamamediterraneum.it
SUMMARY:Piatti vegetariani veloci... perfetti per l'estate
DESCRIPTION:In estate si tende a stare poco in cucina e a consumare pasti leggeri… ecco la lezione giusta allora! Piatti leggeri e veloci da preparare\nSaranno solo verdure gli ingredienti che lo chef Aurelio Carraffa utilizzerà per questa bella lezione online. Tre piatti divertenti e gustosi che sicuramente andranno ad aggiungersi al vostro quaderno delle ricette. La lezione prevede la realizzazione di fusilli alla liparota\, di fiori di zucca ripieni all’ischitana (al forno) e di un profumatissimo riso persiano alle erbe aromatiche
URL:https://mamamediterraneum.it/lezioni/piatti-vegetariani-veloci-perfetti-per-lestate/
LOCATION:on-line
CATEGORIES:Cucina generale,per esperti,Per principianti,Vegetariana,verdure
ATTACH;FMTTYPE=image/jpeg:https://mamamediterraneum.it/wp-content/uploads/2020/05/estivi-veloci.jpg
END:VEVENT
BEGIN:VEVENT
DTSTART;TZID=Europe/Rome:20200204T190000
DTEND;TZID=Europe/Rome:20200204T223000
DTSTAMP:20260423T003824
CREATED:20200114T145029Z
LAST-MODIFIED:20200115T083036Z
UID:10002406-1580842800-1580855400@mamamediterraneum.it
SUMMARY:La cucina classica 9: le carni bianche
DESCRIPTION:Partiamo dall’assunto che la Cucina Classica Italiana è tra le migliori del mondo\, che non ci si può spingere in avanti se non si conoscono I Classici e che non è detto che\, solo perché siamo italiani\, dobbiamo conoscere e saper cucinare i piatti della nostra Penisola\nAbbiamo operato una selezione tra le migliaia di ricette della nostra cucina classica\, regionale e non\, scegliendo quelle che riteniamo più significative\, attualizzandole ma senza stravolgerle. Alcune ricette potranno variare in base alla stagione e alla stagionalità dei prodotti.\nIl metodo di base sarà\, nella maggior parte dei casi\, quello della separazione delle cotture\, tecnica moderna e professionale che rende facile preparare le ricette anche a casa.\nLe dispense saranno particolarmente esaustive\, alcune delle quali corredate da diagrammi e disegni del docente\, lo chef Aurelio Carraffa.\nQuesta serie di lezioni tematiche è focalizzata sulla preparazione delle ricette e non si sovrappone al nostro corso base di cucina che è invece articolato con lezioni propedeutiche\, che dà particolare risalto alle tecniche di preparazione e di cottura e che rimane insostituibile per chi volesse apprendere le basi della cucina.\n\nÈ un percorso di 10 lezioni da frequentare quando si vuole e senza propedeuticità.\nCi si può iscrivere ad una\, due o più lezioni\, ma si può decidere di frequentarle tutte…\nAttraverso 10 lezioni tematiche si imparerà a cucinare gli antipasti\, i dolci\, passando per i primi piatti e i secondi di carne e di pesce\, tutti piatti della tradizione italiana.\nDevi solo scegliere quali prenotare…\n\nNella nona lezione\, dedicata alle carni bianche\, realizzeremo insieme un vero un gustoso riso alla pilota\, un romanissimo pollo con i peperoni della Sora Lella e un coniglio alla cacciatora
URL:https://mamamediterraneum.it/lezioni/la-cucina-classica-9-le-carni-bianche-2/
LOCATION:MaMà Mediterraneum\, via di Priscilla 15-17\, Roma\, 00199\, Italia
CATEGORIES:cucina classica,Cucina generale,Per coppie,per esperti,Per principianti,Primi,regionale,riso,Secondi
ATTACH;FMTTYPE=image/jpeg:https://mamamediterraneum.it/wp-content/uploads/2020/01/carni-bianche-1.jpg
END:VEVENT
BEGIN:VEVENT
DTSTART;TZID=Europe/Rome:20191114T190000
DTEND;TZID=Europe/Rome:20191114T223000
DTSTAMP:20260423T003824
CREATED:20191015T133126Z
LAST-MODIFIED:20191025T073531Z
UID:10002140-1573758000-1573770600@mamamediterraneum.it
SUMMARY:La cucina classica 8: la carne rossa
DESCRIPTION:Partiamo dall’assunto che la Cucina Classica Italiana è tra le migliori del mondo\, che non ci si può spingere in avanti se non si conoscono I Classici e che non è detto che\, solo perché siamo italiani\, dobbiamo conoscere e saper cucinare i piatti della nostra Penisola\nAbbiamo operato una selezione tra le migliaia di ricette della nostra cucina classica\, regionale e non\, scegliendo quelle che riteniamo più significative\, attualizzandole ma senza stravolgerle. Alcune ricette potranno variare in base alla stagione e alla stagionalità dei prodotti.\nIl metodo di base sarà\, nella maggior parte dei casi\, quello della separazione delle cotture\, tecnica moderna e professionale che rende facile preparare le ricette anche a casa.\nLe dispense saranno particolarmente esaustive\, alcune delle quali corredate da diagrammi e disegni del docente\, lo chef Aurelio Carraffa.\nQuesta serie di lezioni tematiche è focalizzata sulla preparazione delle ricette e non si sovrappone al nostro corso base di cucina che è invece articolato con lezioni propedeutiche\, che dà particolare risalto alle tecniche di preparazione e di cottura e che rimane insostituibile per chi volesse apprendere le basi della cucina.\n\nÈ un percorso di 10 lezioni da frequentare quando si vuole e senza propedeuticità.\nCi si può iscrivere ad una\, due o più lezioni\, ma si può decidere di frequentarle tutte…\nAttraverso 10 lezioni tematiche si imparerà a cucinare gli antipasti\, i dolci\, passando per i primi piatti e i secondi di carne e di pesce\, tutti piatti della tradizione italiana.\nDevi solo scegliere quali prenotare…\n\nNella settima lezione\, dedicata alla carne rossa\, realizzeremo insieme un vero ossobuco alla milanese\, un arrosto morto delle scaloppine al marsala e una cotoletta alla valdostana
URL:https://mamamediterraneum.it/lezioni/la-cucina-classica-8-la-carne-rossa/
LOCATION:MaMà Mediterraneum\, via di Priscilla 15-17\, Roma\, 00199\, Italia
CATEGORIES:Antipasti,cucina classica,Cucina generale,Fritti,Pasta,Per coppie,per esperti,Per principianti,Primi,regionale
ATTACH;FMTTYPE=image/jpeg:https://mamamediterraneum.it/wp-content/uploads/2019/10/carne-rossa.jpg
END:VEVENT
BEGIN:VEVENT
DTSTART;TZID=Europe/Rome:20191025T190000
DTEND;TZID=Europe/Rome:20191025T223000
DTSTAMP:20260423T003824
CREATED:20190915T145132Z
LAST-MODIFIED:20190915T153859Z
UID:10002131-1572030000-1572042600@mamamediterraneum.it
SUMMARY:La cucina classica 7: le verdure
DESCRIPTION:Partiamo dall’assunto che la Cucina Classica Italiana è tra le migliori del mondo\, che non ci si può spingere in avanti se non si conoscono I Classici e che non è detto che\, solo perché siamo italiani\, dobbiamo conoscere e saper cucinare i piatti della nostra Penisola\nAbbiamo operato una selezione tra le migliaia di ricette della nostra cucina classica\, regionale e non\, scegliendo quelle che riteniamo più significative\, attualizzandole ma senza stravolgerle. Alcune ricette potranno variare in base alla stagione e alla stagionalità dei prodotti.\nIl metodo di base sarà\, nella maggior parte dei casi\, quello della separazione delle cotture\, tecnica moderna e professionale che rende facile preparare le ricette anche a casa.\nLe dispense saranno particolarmente esaustive\, alcune delle quali corredate da diagrammi e disegni del docente\, lo chef Aurelio Carraffa.\nQuesta serie di lezioni tematiche è focalizzata sulla preparazione delle ricette e non si sovrappone al nostro corso base di cucina che è invece articolato con lezioni propedeutiche\, che dà particolare risalto alle tecniche di preparazione e di cottura e che rimane insostituibile per chi volesse apprendere le basi della cucina.\n\nÈ un percorso di 10 lezioni da frequentare quando si vuole e senza propedeuticità.\nCi si può iscrivere ad una\, due o più lezioni\, ma si può decidere di frequentarle tutte…\nAttraverso 10 lezioni tematiche si imparerà a cucinare gli antipasti\, i dolci\, passando per i primi piatti e i secondi di carne e di pesce\, tutti piatti della tradizione italiana.\nDevi solo scegliere quali prenotare…\n\nNella settima lezione\, dedicata alle verdure\, realizzeremo insieme delle orecchiette alle cime di rapa\, una pasta e fagioli\, dei fiori di zucca in pastella\, delle classiche patate al forno e dei peperoni ammollicati
URL:https://mamamediterraneum.it/lezioni/la-cucina-classica-7-le-verdure/
LOCATION:MaMà Mediterraneum\, via di Priscilla 15-17\, Roma\, 00199\, Italia
CATEGORIES:Antipasti,cucina classica,Cucina generale,Fritti,Pasta,Per coppie,per esperti,Per principianti,Primi,regionale
ATTACH;FMTTYPE=image/jpeg:https://mamamediterraneum.it/wp-content/uploads/2019/09/verdure-2.jpg
END:VEVENT
BEGIN:VEVENT
DTSTART;TZID=UTC:20180217T200000
DTEND;TZID=UTC:20180217T230000
DTSTAMP:20260423T003824
CREATED:20171215T162734Z
LAST-MODIFIED:20180129T173305Z
UID:10002022-1518897600-1518908400@mamamediterraneum.it
SUMMARY:La cucina vegetariana
DESCRIPTION:Una lezione tutta colorata questa di Luca De Carli\, perché oltre alle verdure a foglia verde verranno utilizzati ortaggi e frutta dai colori vivaci\, con accostamenti apparentemente azzardati e invece riuscitissimi.\nIl docente vi guiderà nella preparazione e nel taglio di tutti gli ingredienti necessari per realizzare: \n\nzuppa di frutta con insalata di sedano e finocchio\ncarbonara di carciofi\nempanadas con peperoni\, carote e olive nere\nhummus di ceci \ntzatziki \ncous cous di verdure
URL:https://mamamediterraneum.it/lezioni/la-cucina-vegetariana/
LOCATION:MaMà Mediterraneum\, via di Priscilla 15-17\, Roma\, 00199\, Italia
CATEGORIES:Cucina generale,Pasta,Per coppie,per esperti,Per principianti,Vegetariana
ATTACH;FMTTYPE=image/jpeg:https://mamamediterraneum.it/wp-content/uploads/2017/12/mano-ortaggi-1.jpg
END:VEVENT
END:VCALENDAR